Workbook
Name __IU69997: #REF!
Name __IU79997: #REF!
Name __IV65999: #REF!
Name __IV67999: #REF!
Name __IV68999: #REF!
Name __IV69999: #REF!
Name __IV88888: #REF!
Name __IV99999: #REF!
Name __IV999999: #REF!
Name _1._PANEL_BD.__LP___1: #REF!
Name _15A: [1]금액내역서!$D$3:$D$10
Name _IU69997: #REF!
Name _IU79997: #REF!
Name _IV65999: #REF!
Name _IV67999: #REF!
Name _IV68999: #REF!
Name _IV69999: #REF!
Name _IV88888: #REF!
Name _IV99999: #REF!
Name _IV999999: #REF!
Name \\O: '[2]1단계'!#REF!
Name \a: [3]약품공급2!#REF!
Name \b: [3]약품공급2!#REF!
Name \c: '[2]1단계'!#REF!
Name \d: '[2]1단계'!#REF!
Name \e: [4]약품설비!#REF!
Name \f: '[2]1단계'!#REF!
Name \g: #REF!
Name \h: '[2]1단계'!#REF!
Name \i: '[2]1단계'!#REF!
Name \j: [4]약품설비!#REF!
Name \k: [3]약품공급2!#REF!
Name \l: [3]약품공급2!#REF!
Name \m: '[2]1단계'!#REF!
Name \n: [4]약품설비!#REF!
Name \o: '[2]1단계'!#REF!
Name \p: '[2]1단계'!#REF!
Name \q: '[2]1단계'!#REF!
Name \r: '[2]1단계'!#REF!
Name \s: '[2]1단계'!#REF!
Name \u: [4]약품설비!#REF!
Name \v: '[2]1단계'!#REF!
Name \w: '[2]1단계'!#REF!
Name \x: '[2]1단계'!#REF!
Name \y: [4]약품설비!#REF!
Name \z: [3]약품공급2!#REF!
Name A: [5]DATE!$E$24:$E$85
Name asdfasdf: #N/A
Name D: [5]DATE!$C$24:$C$85
Name GM: #REF!
Name H.1: #REF!
Name H.2: #REF!
Name H.3: #REF!
Name ISO_정렬: [6]!ISO_정렬
Name K: #REF!
Name L: #REF!
Name LLLL: #REF!
Name M당무게: [5]DATE!$E$24:$E$85
Name p: #REF!
Name PRINT_AREA_MI: #REF!

Sheet 갑지
B2: 2026년 10월 | D2: 과 장 | F2: 팀 장 | H2: 심 사 | J2: 설 계
B6: 2026년 양주 도로시설물 상시보수공사(단가계약)
C8: ○ 위 치 : 양주시 도로시설물 일원
C9: ○ 공사개요 : 콘크리트 보수, 신축이음 교체 등
C12: ○ 소요사업비
C13: 총 공 사 비 | E13: ='원가계산서(총괄)'!E34 -> 0 | G13: ="일금 " &NUMBERSTRING(E13,1)&"원정" -> 일금 영원정
C14: - 도급예정액 : | E14: ='원가계산서(총괄)'!E33 -> 0 | G14: ="일금 " &NUMBERSTRING(E14,1)&"원정" -> 일금 영원정
C15: - 관급자재대 : | E15: =[31]원가계산서!E31 -> 0 | G15: ="일금 " &NUMBERSTRING(E15,1)&"원정" -> 일금 영원정
D18: 경기도건설본부 북부도로과

Sheet 원가계산서(총괄)
B1: 공사원가계산서
B3: 공사명 : 2026년 양주 도로시설물 상시보수공사(단가계약)
B4: 비 목 | E4: 금 액 | F4: 요율 | G4: 산 출 근 거
B5: 순 공 사 원 가 | C5: 재 료 비 | D5: 간 접 재 료 비
D6: 작업설.부산물등(△)
D7: 소 계 | G7: (간.재)
C8: 노 무 비 | D8: 직 접 노 무 비
D9: 간 접 노 무 비 | F9: 19.5% | G9: 직.노 × 19.5%
D10: 소 계 | G10: ( 직.노 + 간.노 )
C11: 경 비 | D11: 산 출 경 비
D12: 산 재 보 험 료 | F12: 3.56% | G12: 노무비 × 3.56%
D13: 고 용 보 험 료 | F13: 1.01% | G13: 노무비 × 1.01%
D14: 건 강 보 험 료 | E14: 1870609 | F14: 3.595% | G14: 직.노 × 3.595%
D15: 연 금 보 험 료 | E15: 2471598 | F15: 4.75% | G15: 직.노 × 4.75%
D16: 노인장기요양 보 험 료 | E16: 245798 | F16: 13.14% | G16: 건강보험료 ×13.14%
D17: 퇴 직 공 제 부 금 비 | E17: 1196773 | F17: 2.3% | G17: 직.노 × 2.3%
D18: 건설기계대여대금 지급보증액 발급액 | F18: 0.4% | G18: (재료비 + 직.노 + 산출경비) × 0.4% | H18: 시설물유지관리공사
D19: 산 업 안 전 보건관리비 | E19: 3438782 | F19: 3.15% | G19: a (재료비 + 직.노 + 도급자관급) × 3.15% b (재료비 + 직.노) × 3.15% × 1.2 | I19: =TRUNC((E7+E8)*0.0315,0) -> 0
D20: 환 경 보 전 비 | F20: 0.9% | G20: (재료비 + 직.노 + 산출경비) ×0.9% | I20: =TRUNC((E7+E8)*0.0315*1.2,0) -> 0
D21: 공 사 이 행 보증수수료
D22: 하도급대금지급보증수수료 | F22: 0.081% | G22: (재료비 + 직.노 + 산출경비) ×0.081%
D23: 석면분담금 | F23: 0.006% | G23: 노무비 x 0.006%
D24: 임금채권부담금 | F24: 0.09% | G24: 노무비 x 0.09%
D25: 기 타 경 비 | F25: 5.7% | G25: (재료비 + 노무비) × 5.7%
D26: 소 계 | G26: (산출경비~기타경비)
D27: 순 공 사 원 가 | G27: (재료비 + 노무비 + 제경비)
D28: 일 반 관 리 비 | F28: 8% | G28: 순.공 × 8%
D29: 이 윤 | F29: 15% | G29: (노무비 + 제경비 + 일반관리비) ×15%
D30: 폐 기 물 처 리 비
D31: 공 급 가 액 | G31: (순.공 + 일반관리비 + 이윤 + 폐기물처리비)
D32: 부 가 가 치 세 | F32: 10% | G32: 공급가액 × 10%
D33: 도 급 예 정 액 | G33: (공급가액 + 부가가치세)
D34: 총 공 사 비 | G34: (도급액)

Sheet 내역서(총괄)
A1: 내역서
A2: 공 종 명 | B2: 규 격 | C2: 수량 | D2: 단위 | E2: 합 계 | G2: 재 료 비 | I2: 노 무 비 | K2: 경 비 | M2: 비 고
E3: 단 가 | F3: 금 액 | G3: 단 가 | H3: 금 액 | I3: 단 가 | J3: 금 액 | K3: 단 가 | L3: 금 액
A4: 1. 보수공사 | E4: =G4+I4+K4 -> 0 | F4: =H4+J4+L4 -> 0 | H4: =TRUNC(SUM(H5:H227),0) -> 0 | J4: =TRUNC(SUM(J5:J227),0) -> 0 | L4: =TRUNC(SUM(L5:L227),0) -> 0
A5: 일반난간레일교체 및 설치 | B5: 1단 | C5: 1 | D5: m | E5: =G5+I5+K5 -> 0 | F5: =H5+J5+L5 -> 0 | G5: =일위대가목록!F168 -> 0 | H5: =TRUNC(G5*C5,0) -> 0 | I5: =일위대가목록!G168 -> 0 | J5: =TRUNC(I5*C5,0) -> 0 | K5: =일위대가목록!H168 -> 0 | L5: =TRUNC(K5*C5,0) -> 0
A6: 일반난간레일교체 및 설치 | B6: 2단 | C6: 1 | D6: m | E6: =G6+I6+K6 -> 0 | F6: =H6+J6+L6 -> 0 | G6: =일위대가목록!F169 -> 0 | H6: =TRUNC(G6*C6,0) -> 0 | I6: =일위대가목록!G169 -> 0 | J6: =TRUNC(I6*C6,0) -> 0 | K6: =일위대가목록!H169 -> 0 | L6: =TRUNC(K6*C6,0) -> 0
A7: 일반난간레일교체 및 설치 | B7: 3단 | C7: 1 | D7: m | E7: =G7+I7+K7 -> 0 | F7: =H7+J7+L7 -> 0 | G7: =일위대가목록!F170 -> 0 | H7: =TRUNC(G7*C7,0) -> 0 | I7: =일위대가목록!G170 -> 0 | J7: =TRUNC(I7*C7,0) -> 0 | K7: =일위대가목록!H170 -> 0 | L7: =TRUNC(K7*C7,0) -> 0
A8: 난간레일 해체 | C8: 1 | D8: m | E8: =G8+I8+K8 -> 0 | F8: =H8+J8+L8 -> 0 | G8: =일위대가목록!F171 -> 0 | H8: =TRUNC(G8*C8,0) -> 0 | I8: =일위대가목록!G171 -> 0 | J8: =TRUNC(I8*C8,0) -> 0 | K8: =일위대가목록!H171 -> 0 | L8: =TRUNC(K8*C8,0) -> 0
A9: 일반레일설치(1단) | B9: 1단 | C9: 1 | D9: m | E9: =G9+I9+K9 -> 0 | F9: =H9+J9+L9 -> 0 | G9: =일위대가목록!F172 -> 0 | H9: =TRUNC(G9*C9,0) -> 0 | I9: =일위대가목록!G172 -> 0 | J9: =TRUNC(I9*C9,0) -> 0 | K9: =일위대가목록!H172 -> 0 | L9: =TRUNC(K9*C9,0) -> 0
A10: 일반레일설치(2단) | B10: 2단 | C10: 1 | D10: m | E10: =G10+I10+K10 -> 0 | F10: =H10+J10+L10 -> 0 | G10: =일위대가목록!F173 -> 0 | H10: =TRUNC(G10*C10,0) -> 0 | I10: =일위대가목록!G173 -> 0 | J10: =TRUNC(I10*C10,0) -> 0 | K10: =일위대가목록!H173 -> 0 | L10: =TRUNC(K10*C10,0) -> 0
A11: 일반레일설치(3단) | B11: 3단 | C11: 1 | D11: m | E11: =G11+I11+K11 -> 0 | F11: =H11+J11+L11 -> 0 | G11: =일위대가목록!F174 -> 0 | H11: =TRUNC(G11*C11,0) -> 0 | I11: =일위대가목록!G174 -> 0 | J11: =TRUNC(I11*C11,0) -> 0 | K11: =일위대가목록!H174 -> 0 | L11: =TRUNC(K11*C11,0) -> 0
A12: 차량방호책 설치 | B12: W2500,H850 | C12: 1 | D12: m | E12: =G12+I12+K12 -> 0 | F12: =H12+J12+L12 -> 0 | G12: =일위대가목록!F175 -> 0 | H12: =TRUNC(G12*C12,0) -> 0 | I12: =일위대가목록!G175 -> 0 | J12: =TRUNC(I12*C12,0) -> 0 | K12: =일위대가목록!H175 -> 0 | L12: =TRUNC(K12*C12,0) -> 0
A13: 일반난간지주 교체 | B13: 1단 | C13: 1 | D13: ea | E13: =G13+I13+K13 -> 0 | F13: =H13+J13+L13 -> 0 | G13: =일위대가목록!F176 -> 0 | H13: =TRUNC(G13*C13,0) -> 0 | I13: =일위대가목록!G176 -> 0 | J13: =TRUNC(I13*C13,0) -> 0 | K13: =일위대가목록!H176 -> 0 | L13: =TRUNC(K13*C13,0) -> 0
A14: 일반난간지주 교체 | B14: 2단 | C14: 1 | D14: ea | E14: =G14+I14+K14 -> 0 | F14: =H14+J14+L14 -> 0 | G14: =일위대가목록!F177 -> 0 | H14: =TRUNC(G14*C14,0) -> 0 | I14: =일위대가목록!G177 -> 0 | J14: =TRUNC(I14*C14,0) -> 0 | K14: =일위대가목록!H177 -> 0 | L14: =TRUNC(K14*C14,0) -> 0
A15: 일반난간지주 교체 | B15: 3단 | C15: 1 | D15: ea | E15: =G15+I15+K15 -> 0 | F15: =H15+J15+L15 -> 0 | G15: =일위대가목록!F178 -> 0 | H15: =TRUNC(G15*C15,0) -> 0 | I15: =일위대가목록!G178 -> 0 | J15: =TRUNC(I15*C15,0) -> 0 | K15: =일위대가목록!H178 -> 0 | L15: =TRUNC(K15*C15,0) -> 0
A16: 일반지주 설치 | B16: 1단 | C16: 1 | D16: ea | E16: =G16+I16+K16 -> 0 | F16: =H16+J16+L16 -> 0 | G16: =일위대가목록!F179 -> 0 | H16: =TRUNC(G16*C16,0) -> 0 | I16: =일위대가목록!G179 -> 0 | J16: =TRUNC(I16*C16,0) -> 0 | K16: =일위대가목록!H179 -> 0 | L16: =TRUNC(K16*C16,0) -> 0
A17: 일반지주 설치 | B17: 2단 | C17: 1 | D17: ea | E17: =G17+I17+K17 -> 0 | F17: =H17+J17+L17 -> 0 | G17: =일위대가목록!F180 -> 0 | H17: =TRUNC(G17*C17,0) -> 0 | I17: =일위대가목록!G180 -> 0 | J17: =TRUNC(I17*C17,0) -> 0 | K17: =일위대가목록!H180 -> 0 | L17: =TRUNC(K17*C17,0) -> 0
A18: 일반지주 설치 | B18: 3단 | C18: 1 | D18: ea | E18: =G18+I18+K18 -> 0 | F18: =H18+J18+L18 -> 0 | G18: =일위대가목록!F181 -> 0 | H18: =TRUNC(G18*C18,0) -> 0 | I18: =일위대가목록!G181 -> 0 | J18: =TRUNC(I18*C18,0) -> 0 | K18: =일위대가목록!H181 -> 0 | L18: =TRUNC(K18*C18,0) -> 0
A19: 고압물청소 | C19: 1 | D19: m2 | E19: =G19+I19+K19 -> 0 | F19: =H19+J19+L19 -> 0 | G19: =일위대가목록!F3 -> 0 | H19: =TRUNC(G19*C19,0) -> 0 | I19: =일위대가목록!G3 -> 0 | J19: =TRUNC(I19*C19,0) -> 0 | K19: =일위대가목록!H3 -> 0 | L19: =TRUNC(K19*C19,0) -> 0
A20: 신축이음 고압물세척 | C20: 1 | D20: m2 | E20: =G20+I20+K20 -> 0 | F20: =H20+J20+L20 -> 0 | G20: =일위대가목록!F4 -> 0 | H20: =TRUNC(G20*C20,0) -> 0 | I20: =일위대가목록!G4 -> 0 | J20: =TRUNC(I20*C20,0) -> 0 | K20: =일위대가목록!H4 -> 0 | L20: =TRUNC(K20*C20,0) -> 0
A21: 배수구 고압물청소 | C21: 1 | D21: 개소 | E21: =G21+I21+K21 -> 0 | F21: =H21+J21+L21 -> 0 | G21: =일위대가목록!F5 -> 0 | H21: =TRUNC(G21*C21,0) -> 0 | I21: =일위대가목록!G5 -> 0 | J21: =TRUNC(I21*C21,0) -> 0 | K21: =일위대가목록!H5 -> 0 | L21: =TRUNC(K21*C21,0) -> 0
A22: 교좌주위 고압물청소 | C22: 1 | D22: m2 | E22: =G22+I22+K22 -> 0 | F22: =H22+J22+L22 -> 0 | G22: =일위대가목록!F6 -> 0 | H22: =TRUNC(G22*C22,0) -> 0 | I22: =일위대가목록!G6 -> 0 | J22: =TRUNC(I22*C22,0) -> 0 | K22: =일위대가목록!H6 -> 0 | L22: =TRUNC(K22*C22,0) -> 0
A23: 배수관(곡관)고압물청소 | C23: 1 | D23: 개소 | E23: =G23+I23+K23 -> 0 | F23: =H23+J23+L23 -> 0 | G23: =일위대가목록!F7 -> 0 | H23: =TRUNC(G23*C23,0) -> 0 | I23: =일위대가목록!G7 -> 0 | J23: =TRUNC(I23*C23,0) -> 0 | K23: =일위대가목록!H7 -> 0 | L23: =TRUNC(K23*C23,0) -> 0
A24: 배수시설토사제거(인력터파기적용) | B24: 측구(U,V형) | C24: 1 | D24: m3 | E24: =G24+I24+K24 -> 0 | F24: =H24+J24+L24 -> 0 | G24: =일위대가목록!F8 -> 0 | H24: =TRUNC(G24*C24,0) -> 0 | I24: =일위대가목록!G8 -> 0 | J24: =TRUNC(I24*C24,0) -> 0 | K24: =일위대가목록!H8 -> 0 | L24: =TRUNC(K24*C24,0) -> 0
A25: 배수관토사제거(인력) | B25: Φ600~1200 | C25: 1 | D25: m3 | E25: =G25+I25+K25 -> 0 | F25: =H25+J25+L25 -> 0 | G25: =일위대가목록!F9 -> 0 | H25: =TRUNC(G25*C25,0) -> 0 | I25: =일위대가목록!G9 -> 0 | J25: =TRUNC(I25*C25,0) -> 0 | K25: =일위대가목록!H9 -> 0 | L25: =TRUNC(K25*C25,0) -> 0
A26: 배수관토사제거(인력, 자갈섞인토사) | B26: Φ600~1200 | C26: 1 | D26: m3 | E26: =G26+I26+K26 -> 0 | F26: =H26+J26+L26 -> 0 | G26: =일위대가목록!F10 -> 0 | H26: =TRUNC(G26*C26,0) -> 0 | I26: =일위대가목록!G10 -> 0 | J26: =TRUNC(I26*C26,0) -> 0 | K26: =일위대가목록!H10 -> 0 | L26: =TRUNC(K26*C26,0) -> 0
A27: 배수관토사제거(인력, 호박돌섞인토사) | B27: Φ600~1200 | C27: 1 | D27: m3 | E27: =G27+I27+K27 -> 0 | F27: =H27+J27+L27 -> 0 | G27: =일위대가목록!F11 -> 0 | H27: =TRUNC(G27*C27,0) -> 0 | I27: =일위대가목록!G11 -> 0 | J27: =TRUNC(I27*C27,0) -> 0 | K27: =일위대가목록!H11 -> 0 | L27: =TRUNC(K27*C27,0) -> 0
A28: 집수정 및 배수관토사준설 | B28: 준설차사용 | C28: 1 | D28: m3 | E28: =G28+I28+K28 -> 0 | F28: =H28+J28+L28 -> 0 | G28: =일위대가목록!F12 -> 0 | H28: =TRUNC(G28*C28,0) -> 0 | I28: =일위대가목록!G12 -> 0 | J28: =TRUNC(I28*C28,0) -> 0 | K28: =일위대가목록!H12 -> 0 | L28: =TRUNC(K28*C28,0) -> 0
A29: 집수정 토사준설 | B29: 인력 | C29: 1 | D29: m3 | E29: =G29+I29+K29 -> 0 | F29: =H29+J29+L29 -> 0 | G29: =일위대가목록!F13 -> 0 | H29: =TRUNC(G29*C29,0) -> 0 | I29: =일위대가목록!G13 -> 0 | J29: =TRUNC(I29*C29,0) -> 0 | K29: =일위대가목록!H13 -> 0 | L29: =TRUNC(K29*C29,0) -> 0
A30: 배수로준설토제거 | B30: H=0.1 | C30: 1 | D30: m2 | E30: =G30+I30+K30 -> 0 | F30: =H30+J30+L30 -> 0 | G30: =일위대가목록!F182 -> 0 | H30: =TRUNC(G30*C30,0) -> 0 | I30: =일위대가목록!G182 -> 0 | J30: =TRUNC(I30*C30,0) -> 0 | K30: =일위대가목록!H182 -> 0 | L30: =TRUNC(K30*C30,0) -> 0
A31: 배수로준설토제거 | B31: H=0.1(스틸그레이팅 철거,설치포함) | C31: 1 | D31: m2 | E31: =G31+I31+K31 -> 0 | F31: =H31+J31+L31 -> 0 | G31: =일위대가목록!F183 -> 0 | H31: =TRUNC(G31*C31,0) -> 0 | I31: =일위대가목록!G183 -> 0 | J31: =TRUNC(I31*C31,0) -> 0 | K31: =일위대가목록!H183 -> 0 | L31: =TRUNC(K31*C31,0) -> 0
A32: 관목전정 | B32: H=0.9M미만 | C32: 1 | D32: 주 | E32: =G32+I32+K32 -> 0 | F32: =H32+J32+L32 -> 0 | G32: =일위대가목록!F184 -> 0 | H32: =TRUNC(G32*C32,0) -> 0 | I32: =일위대가목록!G184 -> 0 | J32: =TRUNC(I32*C32,0) -> 0 | K32: =일위대가목록!H184 -> 0 | L32: =TRUNC(K32*C32,0) -> 0
A33: 관목전정 | B33: H=0.9M이상 | C33: 1 | D33: 주 | E33: =G33+I33+K33 -> 0 | F33: =H33+J33+L33 -> 0 | G33: =일위대가목록!F185 -> 0 | H33: =TRUNC(G33*C33,0) -> 0 | I33: =일위대가목록!G185 -> 0 | J33: =TRUNC(I33*C33,0) -> 0 | K33: =일위대가목록!H185 -> 0 | L33: =TRUNC(K33*C33,0) -> 0
A34: 관목전정 | B34: 옹벽위 | C34: 1 | D34: 주 | E34: =G34+I34+K34 -> 0 | F34: =H34+J34+L34 -> 0 | G34: =일위대가목록!F186 -> 0 | H34: =TRUNC(G34*C34,0) -> 0 | I34: =일위대가목록!G186 -> 0 | J34: =TRUNC(I34*C34,0) -> 0 | K34: =일위대가목록!H186 -> 0 | L34: =TRUNC(K34*C34,0) -> 0
A35: 관목전정 | B35: 군식 | C35: 1 | D35: 주 | E35: =G35+I35+K35 -> 0 | F35: =H35+J35+L35 -> 0 | G35: =일위대가목록!F187 -> 0 | H35: =TRUNC(G35*C35,0) -> 0 | I35: =일위대가목록!G187 -> 0 | J35: =TRUNC(I35*C35,0) -> 0 | K35: =일위대가목록!H187 -> 0 | L35: =TRUNC(K35*C35,0) -> 0
A36: 관목전정 | B36: 군식, 옹벽위 | C36: 1 | D36: 주 | E36: =G36+I36+K36 -> 0 | F36: =H36+J36+L36 -> 0 | G36: =일위대가목록!F188 -> 0 | H36: =TRUNC(G36*C36,0) -> 0 | I36: =일위대가목록!G188 -> 0 | J36: =TRUNC(I36*C36,0) -> 0 | K36: =일위대가목록!H188 -> 0 | L36: =TRUNC(K36*C36,0) -> 0
A37: 일반전정 | B37: 인력, B10이하, 낙엽수 | C37: 1 | D37: 주 | E37: =G37+I37+K37 -> 0 | F37: =H37+J37+L37 -> 0 | G37: =일위대가목록!F189 -> 0 | H37: =TRUNC(G37*C37,0) -> 0 | I37: =일위대가목록!G189 -> 0 | J37: =TRUNC(I37*C37,0) -> 0 | K37: =일위대가목록!H189 -> 0 | L37: =TRUNC(K37*C37,0) -> 0
A38: 일반전정 | B38: 기계, B11CM~20CM, 낙엽수 | C38: 1 | D38: 주 | E38: =G38+I38+K38 -> 0 | F38: =H38+J38+L38 -> 0 | G38: =일위대가목록!F190 -> 0 | H38: =TRUNC(G38*C38,0) -> 0 | I38: =일위대가목록!G190 -> 0 | J38: =TRUNC(I38*C38,0) -> 0 | K38: =일위대가목록!H190 -> 0 | L38: =TRUNC(K38*C38,0) -> 0
A39: 일반전정 | B39: 기계, B21CM~30CM, 낙엽수 | C39: 1 | D39: 주 | E39: =G39+I39+K39 -> 0 | F39: =H39+J39+L39 -> 0 | G39: =일위대가목록!F191 -> 0 | H39: =TRUNC(G39*C39,0) -> 0 | I39: =일위대가목록!G191 -> 0 | J39: =TRUNC(I39*C39,0) -> 0 | K39: =일위대가목록!H191 -> 0 | L39: =TRUNC(K39*C39,0) -> 0
A40: 일반전정 | B40: 기계, B31CM~40CM, 낙엽수 | C40: 1 | D40: 주 | E40: =G40+I40+K40 -> 0 | F40: =H40+J40+L40 -> 0 | G40: =일위대가목록!F192 -> 0 | H40: =TRUNC(G40*C40,0) -> 0 | I40: =일위대가목록!G192 -> 0 | J40: =TRUNC(I40*C40,0) -> 0 | K40: =일위대가목록!H192 -> 0 | L40: =TRUNC(K40*C40,0) -> 0
A41: 일반전정 | B41: 기계, B41CM~50CM, 낙엽수 | C41: 1 | D41: 주 | E41: =G41+I41+K41 -> 0 | F41: =H41+J41+L41 -> 0 | G41: =일위대가목록!F193 -> 0 | H41: =TRUNC(G41*C41,0) -> 0 | I41: =일위대가목록!G193 -> 0 | J41: =TRUNC(I41*C41,0) -> 0 | K41: =일위대가목록!H193 -> 0 | L41: =TRUNC(K41*C41,0) -> 0
... A46: 일반전정 | B46: 기계, B41CM~50CM, 상록수 | C46: 1 | D46: 주 | E46: =G46+I46+K46 -> 0 | F46: =H46+J46+L46 -> 0 | G46: =일위대가목록!F198 -> 0 | H46: =TRUNC(G46*C46,0) -> 0 | I46: =일위대가목록!G198 -> 0 | J46: =TRUNC(I46*C46,0) -> 0 | K46: =일위대가목록!H198 -> 0 | L46: =TRUNC(K46*C46,0) -> 0
A47: 벌개 제근(인력) | B47: 0∼5m | C47: 1 | D47: m2 | E47: =G47+I47+K47 -> 0 | F47: =H47+J47+L47 -> 0 | G47: =일위대가목록!F14 -> 0 | H47: =TRUNC(G47*C47,0) -> 0 | I47: =일위대가목록!G14 -> 0 | J47: =TRUNC(I47*C47,0) -> 0 | K47: =일위대가목록!H14 -> 0 | L47: =TRUNC(K47*C47,0) -> 0
A48: 벌개 제근(인력) | B48: 5∼10m | C48: 1 | D48: m2 | E48: =G48+I48+K48 -> 0 | F48: =H48+J48+L48 -> 0 | G48: =일위대가목록!F15 -> 0 | H48: =TRUNC(G48*C48,0) -> 0 | I48: =일위대가목록!G15 -> 0 | J48: =TRUNC(I48*C48,0) -> 0 | K48: =일위대가목록!H15 -> 0 | L48: =TRUNC(K48*C48,0) -> 0
A49: 벌개 제근(인력) | B49: 10∼15m | C49: 1 | D49: m2 | E49: =G49+I49+K49 -> 0 | F49: =H49+J49+L49 -> 0 | G49: =일위대가목록!F16 -> 0 | H49: =TRUNC(G49*C49,0) -> 0 | I49: =일위대가목록!G16 -> 0 | J49: =TRUNC(I49*C49,0) -> 0 | K49: =일위대가목록!H16 -> 0 | L49: =TRUNC(K49*C49,0) -> 0
A50: 벌개 제근(인력+기계) | B50: 0∼5m | C50: 1 | D50: m2 | E50: =G50+I50+K50 -> 0 | F50: =H50+J50+L50 -> 0 | G50: =일위대가목록!F17 -> 0 | H50: =TRUNC(G50*C50,0) -> 0 | I50: =일위대가목록!G17 -> 0 | J50: =TRUNC(I50*C50,0) -> 0 | K50: =일위대가목록!H17 -> 0 | L50: =TRUNC(K50*C50,0) -> 0
A51: 벌개 제근(인력+기계) | B51: 5∼10m | C51: 1 | D51: m2 | E51: =G51+I51+K51 -> 0 | F51: =H51+J51+L51 -> 0 | G51: =일위대가목록!F18 -> 0 | H51: =TRUNC(G51*C51,0) -> 0 | I51: =일위대가목록!G18 -> 0 | J51: =TRUNC(I51*C51,0) -> 0 | K51: =일위대가목록!H18 -> 0 | L51: =TRUNC(K51*C51,0) -> 0
A52: 벌개 제근(인력+기계) | B52: 10∼15m | C52: 1 | D52: m2 | E52: =G52+I52+K52 -> 0 | F52: =H52+J52+L52 -> 0 | G52: =일위대가목록!F19 -> 0 | H52: =TRUNC(G52*C52,0) -> 0 | I52: =일위대가목록!G19 -> 0 | J52: =TRUNC(I52*C52,0) -> 0 | K52: =일위대가목록!H19 -> 0 | L52: =TRUNC(K52*C52,0) -> 0
A53: 벌목 | B53: 5m미만 | C53: 1 | D53: m2 | E53: =G53+I53+K53 -> 0 | F53: =H53+J53+L53 -> 0 | G53: =일위대가목록!F20 -> 0 | H53: =TRUNC(G53*C53,0) -> 0 | I53: =일위대가목록!G20 -> 0 | J53: =TRUNC(I53*C53,0) -> 0 | K53: =일위대가목록!H20 -> 0 | L53: =TRUNC(K53*C53,0) -> 0
A54: 벌목 | B54: 5-8m 미만 | C54: 1 | D54: m2 | E54: =G54+I54+K54 -> 0 | F54: =H54+J54+L54 -> 0 | G54: =일위대가목록!F21 -> 0 | H54: =TRUNC(G54*C54,0) -> 0 | I54: =일위대가목록!G21 -> 0 | J54: =TRUNC(I54*C54,0) -> 0 | K54: =일위대가목록!H21 -> 0 | L54: =TRUNC(K54*C54,0) -> 0
A55: 벌목 | B55: 8m 이상 | C55: 1 | D55: m2 | E55: =G55+I55+K55 -> 0 | F55: =H55+J55+L55 -> 0 | G55: =일위대가목록!F22 -> 0 | H55: =TRUNC(G55*C55,0) -> 0 | I55: =일위대가목록!G22 -> 0 | J55: =TRUNC(I55*C55,0) -> 0 | K55: =일위대가목록!H22 -> 0 | L55: =TRUNC(K55*C55,0) -> 0
A56: 암파쇄방호시설 설치 | B56: H=3.0M | C56: 1 | D56: m | E56: =G56+I56+K56 -> 0 | F56: =H56+J56+L56 -> 0 | G56: =일위대가목록!F23 -> 0 | H56: =TRUNC(G56*C56,0) -> 0 | I56: =일위대가목록!G23 -> 0 | J56: =TRUNC(I56*C56,0) -> 0 | K56: =일위대가목록!H23 -> 0 | L56: =TRUNC(K56*C56,0) -> 0
A57: 암파쇄방호시설 설치 | B57: H=4.0M | C57: 1 | D57: m | E57: =G57+I57+K57 -> 0 | F57: =H57+J57+L57 -> 0 | G57: =일위대가목록!F24 -> 0 | H57: =TRUNC(G57*C57,0) -> 0 | I57: =일위대가목록!G24 -> 0 | J57: =TRUNC(I57*C57,0) -> 0 | K57: =일위대가목록!H24 -> 0 | L57: =TRUNC(K57*C57,0) -> 0
A58: 암파쇄방호시설 설치 | B58: H=4.5M | C58: 1 | D58: m | E58: =G58+I58+K58 -> 0 | F58: =H58+J58+L58 -> 0 | G58: =일위대가목록!F25 -> 0 | H58: =TRUNC(G58*C58,0) -> 0 | I58: =일위대가목록!G25 -> 0 | J58: =TRUNC(I58*C58,0) -> 0 | K58: =일위대가목록!H25 -> 0 | L58: =TRUNC(K58*C58,0) -> 0
... A66: 안전시설목설치 | B66: 일반구간 | C66: 1 | D66: m | E66: =G66+I66+K66 -> 0 | F66: =H66+J66+L66 -> 0 | G66: =일위대가목록!F33 -> 0 | H66: =TRUNC(G66*C66,0) -> 0 | I66: =일위대가목록!G33 -> 0 | J66: =TRUNC(I66*C66,0) -> 0 | K66: =일위대가목록!H33 -> 0 | L66: =TRUNC(K66*C66,0) -> 0
A67: 신축이음장치 교체 | B67: 절단폭 900mm이하, 1차로차단 | C67: 1 | D67: m | E67: =G67+I67+K67 -> 0 | F67: =H67+J67+L67 -> 0 | G67: =일위대가목록!F199 -> 0 | H67: =TRUNC(G67*C67,0) -> 0 | I67: =일위대가목록!G199 -> 0 | J67: =TRUNC(I67*C67,0) -> 0 | K67: =일위대가목록!H199 -> 0 | L67: =TRUNC(K67*C67,0) -> 0
A68: 신축이음장치 교체 | B68: 절단폭 900mm이하, 2차로차단 | C68: 1 | D68: m | E68: =G68+I68+K68 -> 0 | F68: =H68+J68+L68 -> 0 | G68: =일위대가목록!F200 -> 0 | H68: =TRUNC(G68*C68,0) -> 0 | I68: =일위대가목록!G200 -> 0 | J68: =TRUNC(I68*C68,0) -> 0 | K68: =일위대가목록!H200 -> 0 | L68: =TRUNC(K68*C68,0) -> 0
A69: 신축이음장치 교체 | B69: 절단폭 900mm이하, 3차로차단 | C69: 1 | D69: m | E69: =G69+I69+K69 -> 0 | F69: =H69+J69+L69 -> 0 | G69: =일위대가목록!F201 -> 0 | H69: =TRUNC(G69*C69,0) -> 0 | I69: =일위대가목록!G201 -> 0 | J69: =TRUNC(I69*C69,0) -> 0 | K69: =일위대가목록!H201 -> 0 | L69: =TRUNC(K69*C69,0) -> 0
A70: 신축이음장치 교체 | B70: 30MM,Monocell joint | C70: 1 | D70: m | E70: =G70+I70+K70 -> 0 | F70: =H70+J70+L70 -> 0 | G70: =일위대가목록!F202 -> 0 | H70: =TRUNC(G70*C70,0) -> 0 | I70: =일위대가목록!G202 -> 0 | J70: =TRUNC(I70*C70,0) -> 0 | K70: =일위대가목록!H202 -> 0 | L70: =TRUNC(K70*C70,0) -> 0
A71: 신축이음장치 교체 | B71: 50MM,Monocell joint | C71: 1 | D71: m | E71: =G71+I71+K71 -> 0 | F71: =H71+J71+L71 -> 0 | G71: =일위대가목록!F203 -> 0 | H71: =TRUNC(G71*C71,0) -> 0 | I71: =일위대가목록!G203 -> 0 | J71: =TRUNC(I71*C71,0) -> 0 | K71: =일위대가목록!H203 -> 0 | L71: =TRUNC(K71*C71,0) -> 0
A72: 신축이음장치 교체 | B72: 80MM,Monocell joint | C72: 1 | D72: m | E72: =G72+I72+K72 -> 0 | F72: =H72+J72+L72 -> 0 | G72: =일위대가목록!F204 -> 0 | H72: =TRUNC(G72*C72,0) -> 0 | I72: =일위대가목록!G204 -> 0 | J72: =TRUNC(I72*C72,0) -> 0 | K72: =일위대가목록!H204 -> 0 | L72: =TRUNC(K72*C72,0) -> 0
A73: 신축이음장치 교체 | B73: 100MM,Monocell joint | C73: 1 | D73: m | E73: =G73+I73+K73 -> 0 | F73: =H73+J73+L73 -> 0 | G73: =일위대가목록!F205 -> 0 | H73: =TRUNC(G73*C73,0) -> 0 | I73: =일위대가목록!G205 -> 0 | J73: =TRUNC(I73*C73,0) -> 0 | K73: =일위대가목록!H205 -> 0 | L73: =TRUNC(K73*C73,0) -> 0
A74: 신축이음장치 교체 | B74: 50MM,Finger joint | C74: 1 | D74: m | E74: =G74+I74+K74 -> 0 | F74: =H74+J74+L74 -> 0 | G74: =일위대가목록!F206 -> 0 | H74: =TRUNC(G74*C74,0) -> 0 | I74: =일위대가목록!G206 -> 0 | J74: =TRUNC(I74*C74,0) -> 0 | K74: =일위대가목록!H206 -> 0 | L74: =TRUNC(K74*C74,0) -> 0
A75: 신축이음장치 교체 | B75: 80MM,Finger joint | C75: 1 | D75: m | E75: =G75+I75+K75 -> 0 | F75: =H75+J75+L75 -> 0 | G75: =일위대가목록!F207 -> 0 | H75: =TRUNC(G75*C75,0) -> 0 | I75: =일위대가목록!G207 -> 0 | J75: =TRUNC(I75*C75,0) -> 0 | K75: =일위대가목록!H207 -> 0 | L75: =TRUNC(K75*C75,0) -> 0
A76: 신축이음장치 교체 | B76: 100MM,Finger joint | C76: 1 | D76: m | E76: =G76+I76+K76 -> 0 | F76: =H76+J76+L76 -> 0 | G76: =일위대가목록!F208 -> 0 | H76: =TRUNC(G76*C76,0) -> 0 | I76: =일위대가목록!G208 -> 0 | J76: =TRUNC(I76*C76,0) -> 0 | K76: =일위대가목록!H208 -> 0 | L76: =TRUNC(K76*C76,0) -> 0
A77: 후타콘크리트 타설 | C77: 1 | D77: m | E77: =G77+I77+K77 -> 0 | F77: =H77+J77+L77 -> 0 | G77: =일위대가목록!F209 -> 0 | H77: =TRUNC(G77*C77,0) -> 0 | I77: =일위대가목록!G209 -> 0 | J77: =TRUNC(I77*C77,0) -> 0 | K77: =일위대가목록!H209 -> 0 | L77: =TRUNC(K77*C77,0) -> 0
A78: 교면방수 | B78: 침투식 | C78: 1 | D78: m2 | E78: =G78+I78+K78 -> 0 | F78: =H78+J78+L78 -> 0 | G78: =일위대가목록!F34 -> 0 | H78: =TRUNC(G78*C78,0) -> 0 | I78: =일위대가목록!G34 -> 0 | J78: =TRUNC(I78*C78,0) -> 0 | K78: =일위대가목록!H34 -> 0 | L78: =TRUNC(K78*C78,0) -> 0
A79: 교면방수 | B79: 도막식 | C79: 1 | D79: m2 | E79: =G79+I79+K79 -> 0 | F79: =H79+J79+L79 -> 0 | G79: =일위대가목록!F35 -> 0 | H79: =TRUNC(G79*C79,0) -> 0 | I79: =일위대가목록!G35 -> 0 | J79: =TRUNC(I79*C79,0) -> 0 | K79: =일위대가목록!H35 -> 0 | L79: =TRUNC(K79*C79,0) -> 0
A80: 교량방수 | B80: 자착식시트 | C80: 1 | D80: m2 | E80: =G80+I80+K80 -> 0 | F80: =H80+J80+L80 -> 0 | G80: =일위대가목록!F36 -> 0 | H80: =TRUNC(G80*C80,0) -> 0 | I80: =일위대가목록!G36 -> 0 | J80: =TRUNC(I80*C80,0) -> 0 | K80: =일위대가목록!H36 -> 0 | L80: =TRUNC(K80*C80,0) -> 0
A81: 교량방수 | B81: 자착식시트 부틸고무 | C81: 1 | D81: m2 | E81: =G81+I81+K81 -> 0 | F81: =H81+J81+L81 -> 0 | G81: =일위대가목록!F37 -> 0 | H81: =TRUNC(G81*C81,0) -> 0 | I81: =일위대가목록!G37 -> 0 | J81: =TRUNC(I81*C81,0) -> 0 | K81: =일위대가목록!H37 -> 0 | L81: =TRUNC(K81*C81,0) -> 0
A82: 교량점검시설 점검통로 철거 | B82: 20m이하 | C82: 1 | D82: m2 | E82: =G82+I82+K82 -> 0 | F82: =H82+J82+L82 -> 0 | G82: =일위대가목록!F210 -> 0 | H82: =TRUNC(G82*C82,0) -> 0 | I82: =일위대가목록!G210 -> 0 | J82: =TRUNC(I82*C82,0) -> 0 | K82: =일위대가목록!H210 -> 0 | L82: =TRUNC(K82*C82,0) -> 0
A83: 교량점검시설 점검통로 철거 | B83: 30m이하 | C83: 1 | D83: m2 | E83: =G83+I83+K83 -> 0 | F83: =H83+J83+L83 -> 0 | G83: =일위대가목록!F211 -> 0 | H83: =TRUNC(G83*C83,0) -> 0 | I83: =일위대가목록!G211 -> 0 | J83: =TRUNC(I83*C83,0) -> 0 | K83: =일위대가목록!H211 -> 0 | L83: =TRUNC(K83*C83,0) -> 0
A84: 교량점검시설 점검통로 철거 | B84: 40m이하 | C84: 1 | D84: m2 | E84: =G84+I84+K84 -> 0 | F84: =H84+J84+L84 -> 0 | G84: =일위대가목록!F212 -> 0 | H84: =TRUNC(G84*C84,0) -> 0 | I84: =일위대가목록!G212 -> 0 | J84: =TRUNC(I84*C84,0) -> 0 | K84: =일위대가목록!H212 -> 0 | L84: =TRUNC(K84*C84,0) -> 0
A85: 교량점검시설 점검계단 철거 | B85: 20m이하 | C85: 1 | D85: m2 | E85: =G85+I85+K85 -> 0 | F85: =H85+J85+L85 -> 0 | G85: =일위대가목록!F213 -> 0 | H85: =TRUNC(G85*C85,0) -> 0 | I85: =일위대가목록!G213 -> 0 | J85: =TRUNC(I85*C85,0) -> 0 | K85: =일위대가목록!H213 -> 0 | L85: =TRUNC(K85*C85,0) -> 0
A86: 교량점검시설 점검계단 철거 | B86: 30m이하 | C86: 1 | D86: m2 | E86: =G86+I86+K86 -> 0 | F86: =H86+J86+L86 -> 0 | G86: =일위대가목록!F214 -> 0 | H86: =TRUNC(G86*C86,0) -> 0 | I86: =일위대가목록!G214 -> 0 | J86: =TRUNC(I86*C86,0) -> 0 | K86: =일위대가목록!H214 -> 0 | L86: =TRUNC(K86*C86,0) -> 0
A87: 교량점검시설 점검계단 철거 | B87: 40m이하 | C87: 1 | D87: m2 | E87: =G87+I87+K87 -> 0 | F87: =H87+J87+L87 -> 0 | G87: =일위대가목록!F215 -> 0 | H87: =TRUNC(G87*C87,0) -> 0 | I87: =일위대가목록!G215 -> 0 | J87: =TRUNC(I87*C87,0) -> 0 | K87: =일위대가목록!H215 -> 0 | L87: =TRUNC(K87*C87,0) -> 0
A88: 텍코팅(인력식) | B88: RSC-4:30ℓ/a | C88: 1 | D88: m2 | E88: =G88+I88+K88 -> 0 | F88: =H88+J88+L88 -> 0 | G88: =일위대가목록!F38 -> 0 | H88: =TRUNC(G88*C88,0) -> 0 | I88: =일위대가목록!G38 -> 0 | J88: =TRUNC(I88*C88,0) -> 0 | K88: =일위대가목록!H38 -> 0 | L88: =TRUNC(K88*C88,0) -> 0
A89: 텍코팅(기계식) | B89: RSC-4:30ℓ/a | C89: 1 | D89: m2 | E89: =G89+I89+K89 -> 0 | F89: =H89+J89+L89 -> 0 | G89: =일위대가목록!F39 -> 0 | H89: =TRUNC(G89*C89,0) -> 0 | I89: =일위대가목록!G39 -> 0 | J89: =TRUNC(I89*C89,0) -> 0 | K89: =일위대가목록!H39 -> 0 | L89: =TRUNC(K89*C89,0) -> 0
A90: 소규모 포장복구(소파보수) | B90: A-TYPE,시공량 할증계수(24㎡이하) | C90: 1 | D90: m2 | E90: =G90+I90+K90 -> 0 | F90: =H90+J90+L90 -> 0 | G90: =일위대가목록!F40 -> 0 | H90: =TRUNC(G90*C90,0) -> 0 | I90: =일위대가목록!G40 -> 0 | J90: =TRUNC(I90*C90,0) -> 0 | K90: =일위대가목록!H40 -> 0 | L90: =TRUNC(K90*C90,0) -> 0
A91: 소규모 포장복구(소파보수) | B91: B-TYPE,시공량 할증계수(20㎡이하) | C91: 1 | D91: m2 | E91: =G91+I91+K91 -> 0 | F91: =H91+J91+L91 -> 0 | G91: =일위대가목록!F41 -> 0 | H91: =TRUNC(G91*C91,0) -> 0 | I91: =일위대가목록!G41 -> 0 | J91: =TRUNC(I91*C91,0) -> 0 | K91: =일위대가목록!H41 -> 0 | L91: =TRUNC(K91*C91,0) -> 0
A92: 소규모 포장복구(소파보수) | B92: C-TYPE,시공량 할증계수(12㎡이하) | C92: 1 | D92: m2 | E92: =G92+I92+K92 -> 0 | F92: =H92+J92+L92 -> 0 | G92: =일위대가목록!F42 -> 0 | H92: =TRUNC(G92*C92,0) -> 0 | I92: =일위대가목록!G42 -> 0 | J92: =TRUNC(I92*C92,0) -> 0 | K92: =일위대가목록!H42 -> 0 | L92: =TRUNC(K92*C92,0) -> 0
A93: 절삭후 아스팔트 덧씌우기 | B93: A-TYPE,t=5cm | C93: 1 | D93: m2 | E93: =G93+I93+K93 -> 0 | F93: =H93+J93+L93 -> 0 | G93: =일위대가목록!F43 -> 0 | H93: =TRUNC(G93*C93,0) -> 0 | I93: =일위대가목록!G43 -> 0 | J93: =TRUNC(I93*C93,0) -> 0 | K93: =일위대가목록!H43 -> 0 | L93: =TRUNC(K93*C93,0) -> 0
A94: 절삭후 아스팔트 덧씌우기 | B94: B-TYPE,t=5cm | C94: 1 | D94: m2 | E94: =G94+I94+K94 -> 0 | F94: =H94+J94+L94 -> 0 | G94: =일위대가목록!F44 -> 0 | H94: =TRUNC(G94*C94,0) -> 0 | I94: =일위대가목록!G44 -> 0 | J94: =TRUNC(I94*C94,0) -> 0 | K94: =일위대가목록!H44 -> 0 | L94: =TRUNC(K94*C94,0) -> 0
A95: 절삭후 아스팔트 덧씌우기 | B95: B-TYPE, t=8cm | C95: 1 | D95: m2 | E95: =G95+I95+K95 -> 0 | F95: =H95+J95+L95 -> 0 | G95: =일위대가목록!F45 -> 0 | H95: =TRUNC(G95*C95,0) -> 0 | I95: =일위대가목록!G45 -> 0 | J95: =TRUNC(I95*C95,0) -> 0 | K95: =일위대가목록!H45 -> 0 | L95: =TRUNC(K95*C95,0) -> 0
A96: 절삭후 아스팔트 덧씌우기 | B96: C-TYPE,t=5cm | C96: 1 | D96: m2 | E96: =G96+I96+K96 -> 0 | F96: =H96+J96+L96 -> 0 | G96: =일위대가목록!F46 -> 0 | H96: =TRUNC(G96*C96,0) -> 0 | I96: =일위대가목록!G46 -> 0 | J96: =TRUNC(I96*C96,0) -> 0 | K96: =일위대가목록!H46 -> 0 | L96: =TRUNC(K96*C96,0) -> 0
A97: 아스팔트 덧씌우기 | B97: A-TYPE,t=5cm | C97: 1 | D97: m2 | E97: =G97+I97+K97 -> 0 | F97: =H97+J97+L97 -> 0 | G97: =일위대가목록!F47 -> 0 | H97: =TRUNC(G97*C97,0) -> 0 | I97: =일위대가목록!G47 -> 0 | J97: =TRUNC(I97*C97,0) -> 0 | K97: =일위대가목록!H47 -> 0 | L97: =TRUNC(K97*C97,0) -> 0
A98: 아스팔트 덧씌우기 | B98: B-TYPE, t=5cm | C98: 1 | D98: m2 | E98: =G98+I98+K98 -> 0 | F98: =H98+J98+L98 -> 0 | G98: =일위대가목록!F48 -> 0 | H98: =TRUNC(G98*C98,0) -> 0 | I98: =일위대가목록!G48 -> 0 | J98: =TRUNC(I98*C98,0) -> 0 | K98: =일위대가목록!H48 -> 0 | L98: =TRUNC(K98*C98,0) -> 0
A99: 아스팔트 덧씌우기 | B99: B-TYPE,t=8cm | C99: 1 | D99: m2 | E99: =G99+I99+K99 -> 0 | F99: =H99+J99+L99 -> 0 | G99: =일위대가목록!F49 -> 0 | H99: =TRUNC(G99*C99,0) -> 0 | I99: =일위대가목록!G49 -> 0 | J99: =TRUNC(I99*C99,0) -> 0 | K99: =일위대가목록!H49 -> 0 | L99: =TRUNC(K99*C99,0) -> 0
A100: 아스팔트 덧씌우기 | B100: C-TYPE,t=5cm | C100: 1 | D100: m2 | E100: =G100+I100+K100 -> 0 | F100: =H100+J100+L100 -> 0 | G100: =일위대가목록!F50 -> 0 | H100: =TRUNC(G100*C100,0) -> 0 | I100: =일위대가목록!G50 -> 0 | J100: =TRUNC(I100*C100,0) -> 0 | K100: =일위대가목록!H50 -> 0 | L100: =TRUNC(K100*C100,0) -> 0
A101: 아스팔트 균열보수 | C101: 1 | D101: m | E101: =G101+I101+K101 -> 0 | F101: =H101+J101+L101 -> 0 | G101: =일위대가목록!F51 -> 0 | H101: =TRUNC(G101*C101,0) -> 0 | I101: =일위대가목록!G51 -> 0 | J101: =TRUNC(I101*C101,0) -> 0 | K101: =일위대가목록!H51 -> 0 | L101: =TRUNC(K101*C101,0) -> 0
A102: 교명주(화강석) | B102: (860*1300*800) | C102: 1 | D102: ea | E102: =G102+I102+K102 -> 0 | F102: =H102+J102+L102 -> 0 | G102: =일위대가목록!F52 -> 0 | H102: =TRUNC(G102*C102,0) -> 0 | I102: =일위대가목록!G52 -> 0 | J102: =TRUNC(I102*C102,0) -> 0 | K102: =일위대가목록!H52 -> 0 | L102: =TRUNC(K102*C102,0) -> 0
A103: 교명주 위치조정 | B103: (860*1300*800) | C103: 1 | D103: ea | E103: =G103+I103+K103 -> 0 | F103: =H103+J103+L103 -> 0 | G103: =일위대가목록!F53 -> 0 | H103: =TRUNC(G103*C103,0) -> 0 | I103: =일위대가목록!G53 -> 0 | J103: =TRUNC(I103*C103,0) -> 0 | K103: =일위대가목록!H53 -> 0 | L103: =TRUNC(K103*C103,0) -> 0
A104: 교명판 | B104: 450×200×10 | C104: 1 | D104: ea | E104: =G104+I104+K104 -> 0 | F104: =H104+J104+L104 -> 0 | G104: =일위대가목록!F54 -> 0 | H104: =TRUNC(G104*C104,0) -> 0 | I104: =일위대가목록!G54 -> 0 | J104: =TRUNC(I104*C104,0) -> 0 | K104: =일위대가목록!H54 -> 0 | L104: =TRUNC(K104*C104,0) -> 0
A105: 설명판 | B105: 500×300×10 | C105: 1 | D105: ea | E105: =G105+I105+K105 -> 0 | F105: =H105+J105+L105 -> 0 | G105: =일위대가목록!F55 -> 0 | H105: =TRUNC(G105*C105,0) -> 0 | I105: =일위대가목록!G55 -> 0 | J105: =TRUNC(I105*C105,0) -> 0 | K105: =일위대가목록!H55 -> 0 | L105: =TRUNC(K105*C105,0) -> 0
A106: 차선도색(페인트,수동식)공용구간 | B106: 백색-실선 | C106: 0 | D106: m2 | E106: =G106+I106+K106 -> 0 | F106: =H106+J106+L106 -> 0 | G106: =일위대가목록!F56 -> 0 | H106: =TRUNC(G106*C106,0) -> 0 | I106: =일위대가목록!G56 -> 0 | J106: =TRUNC(I106*C106,0) -> 0 | K106: =일위대가목록!H56 -> 0 | L106: =TRUNC(K106*C106,0) -> 0
A107: 차선도색(페인트,수동식)공용구간 | B107: 백색-파선 | C107: 0 | D107: m2 | E107: =G107+I107+K107 -> 0 | F107: =H107+J107+L107 -> 0 | G107: =일위대가목록!F57 -> 0 | H107: =TRUNC(G107*C107,0) -> 0 | I107: =일위대가목록!G57 -> 0 | J107: =TRUNC(I107*C107,0) -> 0 | K107: =일위대가목록!H57 -> 0 | L107: =TRUNC(K107*C107,0) -> 0
A108: 차선도색(페인트,수동식)공용구간 | B108: 황색-실선 | C108: 0 | D108: m2 | E108: =G108+I108+K108 -> 0 | F108: =H108+J108+L108 -> 0 | G108: =일위대가목록!F58 -> 0 | H108: =TRUNC(G108*C108,0) -> 0 | I108: =일위대가목록!G58 -> 0 | J108: =TRUNC(I108*C108,0) -> 0 | K108: =일위대가목록!H58 -> 0 | L108: =TRUNC(K108*C108,0) -> 0
A109: 차선도색(페인트,수동식)공용구간 | B109: 황색-파선 | C109: 0 | D109: m2 | E109: =G109+I109+K109 -> 0 | F109: =H109+J109+L109 -> 0 | G109: =일위대가목록!F59 -> 0 | H109: =TRUNC(G109*C109,0) -> 0 | I109: =일위대가목록!G59 -> 0 | J109: =TRUNC(I109*C109,0) -> 0 | K109: =일위대가목록!H59 -> 0 | L109: =TRUNC(K109*C109,0) -> 0
A110: 차선도색(페인트,수동식)공용구간 | B110: 횡단보도,주차장 | C110: 0 | D110: m2 | E110: =G110+I110+K110 -> 0 | F110: =H110+J110+L110 -> 0 | G110: =일위대가목록!F60 -> 0 | H110: =TRUNC(G110*C110,0) -> 0 | I110: =일위대가목록!G60 -> 0 | J110: =TRUNC(I110*C110,0) -> 0 | K110: =일위대가목록!H60 -> 0 | L110: =TRUNC(K110*C110,0) -> 0
A111: 차선도색(페인트,수동식)공용구간 | B111: 문자,기호 | C111: 0 | D111: m2 | E111: =G111+I111+K111 -> 0 | F111: =H111+J111+L111 -> 0 | G111: =일위대가목록!F61 -> 0 | H111: =TRUNC(G111*C111,0) -> 0 | I111: =일위대가목록!G61 -> 0 | J111: =TRUNC(I111*C111,0) -> 0 | K111: =일위대가목록!H61 -> 0 | L111: =TRUNC(K111*C111,0) -> 0
...

Sheet 일위대가목록
A1: 일위대가목록
A2: 공 종 명 | B2: 규 격 | C2: 수 량 | D2: 단 위 | E2: 합 계 | F2: 재 료 비 | G2: 노 무 비 | H2: 경 비 | I2: 비 고 | T2: 재료비 | U2: 노무비 | V2: 경 비 | W2: 합 계 | Y2: 비교검토
A3: #1 고압물청소 | C3: 1 | D3: m2
A4: #2 신축이음 고압물세척 | C4: 1 | D4: m2
A5: #3 배수구 고압물청소 | C5: 1 | D5: 개소
A6: #4 교좌주위 고압물청소 | C6: 1 | D6: m2
A7: #5 배수관(곡관)고압물청소 | C7: 1 | D7: 개소
A8: #6 배수시설토사제거(인력터파기적용) | B8: 측구(U,V형) | C8: 1 | D8: m3
A9: #7 배수관토사제거(인력) | B9: Φ600~1200 | C9: 1 | D9: m3
A10: #8 배수관토사제거(인력, 자갈섞인토사) | B10: Φ600~1200 | C10: 1 | D10: m3
A11: #9 배수관토사제거(인력, 호박돌섞인토사) | B11: Φ600~1200 | C11: 1 | D11: m3
A12: #10 집수정 및 배수관토사준설 | B12: 준설차사용 | C12: 1 | D12: m3
A13: #11 집수정 토사준설 | B13: 인력 | C13: 1 | D13: m3
A14: #12 벌개 제근(인력) | B14: 0∼5m | C14: 1 | D14: m2
A15: #13 벌개 제근(인력) | B15: 5∼10m | C15: 1 | D15: m2
A16: #14 벌개 제근(인력) | B16: 10∼15m | C16: 1 | D16: m2
A17: #15 벌개 제근(인력+기계) | B17: 0∼5m | C17: 1 | D17: m2
A18: #16 벌개 제근(인력+기계) | B18: 5∼10m | C18: 1 | D18: m2
A19: #17 벌개 제근(인력+기계) | B19: 10∼15m | C19: 1 | D19: m2
... A50: #48 아스팔트 덧씌우기 | B50: C-TYPE,t=5cm,택코팅자재비제외 | C50: 1 | D50: m2
A51: #49 아스팔트 균열보수 | C51: 1 | D51: m
A52: #50 교명주(화강석) | B52: (860*1300*800) | C52: 1 | D52: ea
A53: #51 교명주 위치조정 | B53: (860*1300*800) | C53: 1 | D53: ea
A54: #52 교명판 | B54: 450×200×10 | C54: 1 | D54: ea
A55: #53 설명판 | B55: 500×300×10 | C55: 1 | D55: ea
A56: #54 차선도색(페인트,수동식)공용구간 | B56: 백색-실선 | C56: 1 | D56: m2
A57: #55 차선도색(페인트,수동식)공용구간 | B57: 백색-파선 | C57: 1 | D57: m2
A58: #56 차선도색(페인트,수동식)공용구간 | B58: 황색-실선 | C58: 1 | D58: m2
A59: #57 차선도색(페인트,수동식)공용구간 | B59: 황색-파선 | C59: 1 | D59: m2
A60: #58 차선도색(페인트,수동식)공용구간 | B60: 횡단보도,주차장 | C60: 1 | D60: m2
A61: #59 차선도색(페인트,수동식)공용구간 | B61: 문자,기호 | C61: 1 | D61: m2
A62: #60 차선도색(페인트,기계식)공용구간 | B62: 백색-실선 | C62: 1 | D62: m2
A63: #61 차선도색(페인트,기계식)공용구간 | B63: 백색-파선 | C63: 1 | D63: m2
... A65: #63 차선도색(페인트,기계식)공용구간 | B65: 황색-파선 | C65: 1 | D65: m2
A66: #64 차선도색(상온형,수동식)공용구간 | B66: 황색,백색 실선 | C66: 1 | D66: m2
A67: #64 차선도색(융착식,수동식)공용구간 | B67: 백색-실선 | C67: 1 | D67: m2
A68: #65 차선도색(융착식,수동식)공용구간 | B68: 백색-파선 | C68: 1 | D68: m2
A69: #66 차선도색(융착식,수동식)공용구간 | B69: 황색-실선 | C69: 1 | D69: m2
A70: #67 차선도색(융착식,수동식)공용구간 | B70: 황색-파선 | C70: 1 | D70: m2
A71: #68 차선도색(융착식,수동식)공용구간 | B71: 횡단보도,주차장 | C71: 1 | D71: m2
A72: #69 차선도색(융착식,수동식)공용구간 | B72: 문자,기호 | C72: 1 | D72: m2
A73: #70 차선도색(차로밑그림)공용구간 | B73: 실선 | C73: 1 | D73: m2
A74: #71 차선도색(차로밑그림)공용구간 | B74: 파선 | C74: 1 | D74: m2
A75: #72 차선도색(차로밑그림)공용구간 | B75: 횡단보도,주차장 | C75: 1 | D75: m2
A76: #73 차선도색(차로밑그림)공용구간 | B76: 문자,기호 | C76: 1 | D76: m2
A77: #74 차선도색 제거 | B77: 6.71㎾ | C77: 1 | D77: m2
A78: #75 충격흡수시설(KCB-80KC) | B78: 교량용 | C78: 1 | D78: 조
... A81: #78 충격흡수시설(KCB-60KC) | B81: 교량용 | C81: 1 | D81: 조
A82: #79 충격흡수탱크(소)(PCS-1) | C82: 0 | D82: 조
A83: #80 충격흡수탱크(중)(PCS-2) | C83: 1 | D83: 조
A84: #81 충격흡수탱크(대)(PCS-3) | C84: 1 | D84: 조
A85: #82 가드레일(인력식)2W | B85: 원형, 2M/경간 | C85: 1 | D85: m
A86: #83 가드레일(인력식)3W | B86: 원형, 2M/경간 | C86: 1 | D86: m
A87: #84 가드레일(인력식)2W | B87: 원형, 4M/경간 | C87: 1 | D87: m
A88: #85 가드레일(인력식)3W | B88: 원형, 4M/경간 | C88: 1 | D88: m
A89: #86 가드레일(기계식)2W | B89: 원형, 2M/경간 | C89: 1 | D89: m
A90: #87 가드레일(기계식)3W | B90: 원형, 2M/경간 | C90: 1 | D90: m
A91: #88 가드레일(기계식)2W | B91: 원형, 4M/경간 | C91: 1 | D91: m
A92: #89 가드레일(기계식)3W | B92: 원형, 4M/경간 | C92: 1 | D92: m
A93: #90 가드레일(기계식)3W | B93: H형, 2M/경간 | C93: 1 | D93: m
A94: #91 가드레일(기계식)2W | B94: H형, 4M/경간 | C94: 1 | D94: m
A95: #92 가드레일(기계식)3W | B95: H형, 4M/경간 | C95: 1 | D95: m
A96: #93 중앙분리대(2W) | B96: 가드레일식(2M/경간) | C96: 1 | D96: m
... A111: #108 오각표지판 | B111: 600×200×720 | C111: 1 | D111: 개
A112: #109 교통안전표지철거 | C112: 1 | D112: 개
A113: #110 교통안전표지교체 | C113: 1 | D113: 개
A114: #111 갈매기표지판 | B114: AL 450×600 | C114: 1 | D114: 개
A115: #112 도로반사경(1면) | B115: Ø 1000 MM | C115: 1 | D115: 개
A116: #113 도로반사경(2면) | B116: Ø 1000 MM | C116: 1 | D116: 개
A117: #114 도로반사경(1면)철거 | B117: Ø 800~1000 MM | C117: 1 | D117: 개
A118: #115 도로반사경(2면)철거 | B118: Ø 800~1000 MM | C118: 1 | D118: 개
A119: #116 도로반사경교체 | B119: Ø 800~1000 MM | C119: 1 | D119: 개
A120: #117 잡철물 현장 제작설치 | B120: (일반철재) | C120: 1 | D120: ton
A121: #118 잡철물 현장 제작설치 | B121: (경량철재) | C121: 1 | D121: ton
A122: #119 잡철물 제품설치 | B122: (일반철재) | C122: 1 | D122: ton
A123: #120 잡철물 제품설치 | B123: (경량철재) | C123: 1 | D123: ton
A124: #121 잡철물 규격철물설치 | B124: (일반철재) | C124: 1 | D124: ton
A125: #122 잡철물 규격철물설치 | B125: (경량철재) | C125: 1 | D125: ton
... A130: #127 보도용블록포장 | B130: 소형고압블록(t=6-8㎝) | C130: 1 | D130: m2
A131: #128 분리대병설치 | C131: 1 | D131: 개
A132: #129 분리대병제거 | C132: 1 | D132: 개
A133: #130 시선유도표지(데리네이터) | B133: 흙속매설용 | C133: 1 | D133: 개
A134: #131 시선유도표지(데리네이터) | B134: 옹벽용 | C134: 1 | D134: 개
A135: #132 시선유도표지(데리네이터) | B135: 가드레일용 | C135: 1 | D135: 개
A136: #133 폐기물상차 | B136: 굴삭기 0.7㎥ | C136: 1 | D136: m3
A137: #134 대형싸인카 | B137: (덤프15Ton+견인식싸인보드) | C137: 1 | D137: HR
A138: #135 자주식싸인카 | B138: (싸인카) | C138: 1 | D138: HR
A139: #136 노면청소차 | B139: 16Ton | C139: 1 | D139: HR
A140: #137 작업보호차 | B140: 1Ton | C140: 1 | D140: HR
A141: #138 작업보호차 | B141: 2.5Ton | C141: 1 | D141: HR
A142: #139 안전신호수 | B142: 4인 1조 | C142: 1 | D142: 일
A143: #140 안전신호수 | B143: 3인 1조 | C143: 1 | D143: 일
A144: #141 안전신호수 | B144: 2인 1조 | C144: 1 | D144: 일
... A151: #148 폐기물운반비 | B151: L=30KM이내, 덤프15TON | C151: 1 | D151: ton
A152: #149 폐콘크리트처리비 | C152: 1 | D152: ton
A153: #150 폐아스콘처리비 | C153: 1 | D153: ton
A154: #151 혼합폐기물처리비 | B154: 소각5%이하 | C154: 1 | D154: ton
A155: #152 터파기(토사) | B155: 인력(0-1M) | C155: 1 | D155: m3
A156: #153 석재류운반 | B156: 리어카 | C156: 1 | D156: m3
A157: #154 무근콘크리트깨기(소형장비) | B157: 소형브레이커 | C157: 1 | D157: M3
...

Sheet 전역변수
A1: 전역변수
A2: 변 수 명 | B2: 형 식 | C2: 값 | D2: 비 고 | E2: 적용단위
A3: A | B3: 숫자 | C3: 75 | D3: 어스앵커 공수
A4: DM2WON | B4: 숫자 | C4: 613.63 | E4: DM
A5: JJ_LA | B5: 숫자 | C5: 0.376 | D5: 50억이상, 13개월이상
A6: JJ_MA | B6: 숫자 | C6: 0.535 | D6: 50억이상, 13개월이상
A7: TUP11 | B7: 숫자 | C7: 4.36 | D7: P-1 소요작업조
A8: TUP21 | B8: 숫자 | C8: 3.935 | D8: P-2 소요작업조
A9: TUP31 | B9: 숫자 | C9: 2.434 | D9: P-3 소요작업조
A10: TUP41 | B10: 숫자 | C10: 1.534 | D10: P-4A 소요작업조
A11: TUP42 | B11: 숫자 | C11: 1.203 | D11: P-4B 소요작업조
A12: TUP51 | B12: 숫자 | C12: 1.359 | D12: P-5A 소요작업조
A13: TUP52 | B13: 숫자 | C13: 0.713 | D13: P-5B 소요작업조
A14: TUP61 | B14: 숫자 | C14: 1.25 | D14: P-6A 소요작업조
A15: TUP62 | B15: 숫자 | C15: 0.675 | D15: P-6B 소요작업조
A16: TUS | B16: 숫자 | C16: 1.25 | D16: 갱내작업할증
A17: US2WON | B17: 숫자 | C17: 1466 | E17: $,＄
A18: YEN2WON | B18: 숫자 | C18: 9.31 | E18: YEN,￥

Sheet 중기전역변수
A1: 중기전역변수
A2: 변 수 명 | B2: 형 식 | C2: 값 | D2: 비 고
A3: QCODE | B3: 문자 | C3: 100000000001
A4: QUS2WON | B4: 숫자 | C4: 1442 | D4: 환율(장비가격10만불이하)
A5: QUS2WON1 | B5: 숫자 | C5: 1442 | D5: 환율(장비가격10만불이상)
A6: QYEN2WON | B6: 숫자 | C6: 9.19 | D6: 환율(엔화)
A7: QDM2WON | B7: 숫자 | C7: 724.05 | D7: 환율(마르크화)
A8: QSDR2WON | B8: 숫자 | C8: 1000 | D8: 환율(IMF특별인출권)
A9: QECU2WON | B9: 숫자 | C9: 1509.67 | D9: 환율(유로화)
A10: QEQTY1 | B10: 문자 | C10: (SANG + JUNG + KWAN)*10^-4 | D10: 중기주간경비산출계수
A11: QEQTY2 | B11: 문자 | C11: (SANG + JUNG + KWAN)*10^-4 | D11: 중기야간경비산출계수
A12: QEQTY3 | B12: 문자 | C12: (SANG + JUNG + int(KWAN/3))*10^-4 | D12: 중기주야간경비산출계수
A13: QEINC2 | B13: 숫자 | C13: 1.25 | D13: 중기야간할증계수
A14: QEINC3 | B14: 숫자 | C14: 1.071 | D14: 중기주야간할증계수
A15: QDECPEQ | B15: 문자 | C15: 1 | D15: 경비단가소숫점
A16: QDECCEQ | B16: 문자 | C16: 0 | D16: 경비금액소숫점
A17: QDECEQ | B17: 문자 | C17: 1 | D17: 경비계금액소숫점
A18: QH1 | B18: 문자 | C18: =25/20 * 16/12 * 1/8 -> 0.20833333 | D18: 시간당노임산출계수(일반구간)
A19: QH2 | B19: 문자 | C19: =25/20 * 16/12 * 1/8 -> 0.20833333 | D19: 시간당노임산출계수(터널구간)
A20: QH21 | B20: 문자 | C20: =25/20 * 16/12 * 1/8 -> 0.20833333 | D20: 시간당노임산출계수(장대터널)
A21: QH31 | B21: 문자 | C21: =25/20 * 16/12 * 1/8 -> 0.20833333 | D21: 시간당노임산출계수(해상장비:펌프준설선)
A22: QH32 | B22: 문자 | C22: =25/20 * 16/12 * 1/8 -> 0.20833333 | D22: 시간당노임산출계수(해상장비:GRAB준설선)
A23: QH33 | B23: 문자 | C23: =25/20 * 16/12 * 1/8 -> 0.20833333 | D23: 시간당노임산출계수(해상장비:버켓준설선)
A24: QLINC1 | B24: 숫자 | C24: 1 | D24: 노임할증계수(일반구간:주간)
A25: QLINC2 | B25: 숫자 | C25: 1.5 | D25: 노임할증계수(일반구간:야간)
A26: QLINC3 | B26: 숫자 | C26: 1.16 | D26: 노임할증계수(일반구간:주야간)
A27: QLINCA | B27: 숫자 | C27: 1.6 | D27: 노임할증계수(터널구간:주간)
A28: QLINCB | B28: 숫자 | C28: 1.6 | D28: 노임할증계수(터널구간:야간)
A29: QLINCC | B29: 숫자 | C29: 1.6 | D29: 노임할증계수(터널구간:주야간)
A30: QLINCD | B30: 숫자 | C30: 1.94 | D30: 노임할증계수(장대터널:주간)
A31: QLINCE | B31: 숫자 | C31: 1.94 | D31: 노임할증계수(장대터널:야간)
A32: QLINCF | B32: 숫자 | C32: 1.94 | D32: 노임할증계수(장대터널:주야간)
A33: QLINCX | B33: 숫자 | C33: 1 | D33: 노임할증계수(해상장비:주간)
A34: QLINCY | B34: 숫자 | C34: 1 | D34: 노임할증계수(해상장비:야간)
A35: QLINCZ | B35: 숫자 | C35: 1 | D35: 노임할증계수(해상장비:주야간)
A36: QDECPLA | B36: 문자 | C36: 1 | D36: 노임단가소숫점
A37: QDECCLA | B37: 문자 | C37: 1 | D37: 노임금액소숫점
A38: QDECLA | B38: 문자 | C38: 0 | D38: 노임계금액소숫점
A39: QMINC2 | B39: 숫자 | C39: 1.11 | D39: 재료비할증계수(야간)
A40: QMINC3 | B40: 숫자 | C40: 1.12 | D40: 재료비할증계수(주야간)
A41: QDECPMA | B41: 문자 | C41: 2 | D41: 재료비단가소숫점
A42: QDECCMA | B42: 문자 | C42: 1 | D42: 재료비금액소숫점
A43: QDECMA | B43: 문자 | C43: 0 | D43: 재료비계금액소숫점
A44: QVER | B44: 문자 | C44: 0
A45: QSABUN | B45: 문자
A46: QDATE | B46: 문자
A47: QUS2WON2 | B47: 숫자 | C47: 0 | D47: 환율(사용자 환율1)
A48: QUS2WON3 | B48: 숫자 | C48: 0 | D48: 환율(사용자 환율2)
A49: QOPtimeDecCnt | B49: 문자 | C49: 7
A50: QOPtimeDecOp | B50: 문자 | C50: 0
