Workbook
Name __DemandLoad: TRUE
Name _1_: [1]공사비집계!#REF!
Name _10p1_: #REF!
Name _11P2_: '[2]Sheet1 (2)'!#REF!
Name _12t5_: #REF!
Name _2_0Crite: [3]총괄내역서!#REF!
Name _3_0Extr: [3]총괄내역서!#REF!
Name _4_3_0Crite: #REF!
Name _5_3_0Criteria: #REF!
Name _6a1_: #REF!
Name _7B2_: '[4]단면 (2)'!$K$55
Name _8G_0Extr: #REF!
Name _9G_0Extract: #REF!
Name _a: #REF!
Name _aab42: #REF!
Name _BVS1: #REF!
Name _BVS2: #REF!
Name _C: #REF!
Name _cc: #REF!
Name _Cm: [5]Sheet1!#REF!
Name _Cm1: [5]Sheet1!#REF!
Name _ctc1: #REF!
Name _ctc2: #REF!
Name _ctc3: #REF!
Name _E: [5]Sheet1!#REF!
Name _F: [5]Sheet1!#REF!
Name _gde4: '[7]ABUT수량-A1'!$T$25
Name _GHH1: #REF!
Name _GHH2: #REF!
Name _HSH1: #REF!
Name _HSH2: #REF!
Name _hun1: [8]설계조건!#REF!
Name _hun2: [8]설계조건!#REF!
Name _JEA1: #REF!
Name _jea11: #REF!
Name _JEA2: #REF!
Name _jea22: #REF!
Name _JH1: #REF!
Name _JH10: #REF!
Name _JH11: #REF!
Name _JH12: #REF!
Name _JH13: #REF!
Name _JH14: #REF!
Name _JH15: #REF!
Name _JH16: #REF!
Name _JH17: #REF!
Name _JH18: #REF!
Name _JH19: #REF!
Name _JH2: #REF!
Name _JH20: #REF!
Name _JH3: #REF!
Name _JH4: #REF!
Name _JH5: #REF!
Name _JH6: #REF!
Name _jh7: #REF!
Name _jh8: #REF!
Name _JH9: #REF!
Name _JJ1: #REF!
Name _JJ10: #REF!
Name _JJ100: #REF!

Sheet 표지
A2: 과장 | C2: 팀장 | E2: 심사자 | G2: 설계자 | I2: 2026년 09월 설계
A4: ○ 2026년도
A5: 2026년 남양주 지방도 포장보수공사 폐기물처리용역
B8: ○ 위 치
B9: - 1공구 - 국지도98호선 운수교차로~수동면 운수리23-23
B10: - 2공구 - 지방도352호선 진중삼거리~양수대교 앞
B11: - 3공구 - 국지도86호선 와부읍 월문리 152-1~117-2
B12: - 4공구 - 국지도86호선 와부읍 월문리 1245-11~1064
B15: ○ 공사개요
B16: 1) 폐아스콘 운반 : 2,903Ton
B17: 2) 폐아스콘 처리 : 455Ton
B21: ○ 계약금액
B22: 총 공 사 금 액 : | D22: 68600000 | F22: ="(금"&NUMBERSTRING(D22,1)&"원)" -> (금육천팔백육십만원)
B23: 도급예정액 : | D23: 68600000 | F23: ="(금"&NUMBERSTRING(D23,1)&"원)" -> (금육천팔백육십만원)

Sheet 집계표
A1: 총 용 역 비 집 계 표
A2: 용역명 : 2026년 남양주 지방도 포장보수공사 폐기물처리용역
A3: 공 종 | B3: 규 격 | C3: 수량 | D3: 단위 | E3: 합 계 | G3: 재 료 비 | I3: 노 무 비 | K3: 경 비 | M3: 비 고
E4: 단 가 | F4: 금 액 | G4: 단 가 | H4: 금 액 | I4: 단 가 | J4: 금 액 | K4: 단 가 | L4: 금 액
A5: 1공구 폐기물 운반 및 처리 | DM5: #B-2
A6: 2공구 폐기물 운반 및 처리 | DM6: #B-2
A7: 3공구 폐기물 운반 및 처리 | DM7: #B-2
A8: 4공구 폐기물 운반 및 처리 | DM8: #B-2
A9: 순 용 역 비 | DM9: %SUM | DN9: [1]
A10: 공 급 가 액 | D10: 식 | DM10: %SUM-TOT | DN10: [2]-(8879/1.1)
A11: 2. 부 가 가 치 세 | D11: 식 | DM11: %SUM-TOT | DN11: [3] * 0.1
A12: 도 급 예 정 액 | C12: 1 | D12: 식 | F12: 68600000 | DM12: %SUM-TOT | DN12: [3..4]
A13: 총 용 역 비 | C13: 1 | D13: 식 | F13: 68600000 | DM13: %SUM-TOT | DN13: [5]

Sheet 원가계산서
A1: 원 가 계 산 서
A3: 구 분 | B3: 산 출 근 거 | C3: 금 액 | D3: 비 고
A5: 1. 순 공 사 비 | C5: 104777180 | DN5: {B||*.순공사비|T}
A6: 2. 경 비 | C6: 104777180 | DN6: {B||*.순공사비|E}
A7: 3. 공 급 가 액 | B7: [2] | C7: =C6 -> 104777180 | DN7: [2..2]-(8879/1.1)
A8: 4. 부 가 가 치 세 | B8: [3] x 10.00% | C8: =TRUNC((C7)*0.1,0) -> 10477718 | DN8: [3]*<10.00%>
A9: 5. 도 급 예 정 액 | B9: [3+4] | C9: =TRUNC((SUM(C7:C8)),0) -> 115254898 | DN9: [3..4]
A10: 6. 총 사 업 비 | B10: [5] | C10: =TRUNC((SUM(C9:C9)),0) -> 115254898 | DN10: [5..5]

Sheet 내역서
A1: 예 산 내 역 서
A3: 공 종 | B3: 규 격 | C3: 수 량 | D3: 단위 | E3: 합 계 | G3: 재 료 비 | I3: 노 무 비 | K3: 경 비 | M3: 낙찰율(%) | N3: 비 고
E4: 단 가 | F4: 금 액 | G4: 단 가 | H4: 금 액 | I4: 단 가 | J4: 금 액 | K4: 단 가 | L4: 금 액
A5: *. 순 용 역 비 | C5: 0
A6: 1 공구 | B6: 운수교차로~수동면 운수리23-23
A7: 1. 폐 기 물 운 반 | C7: 0
A8: 1) 폐아스콘 | B8: 상차제외,30km이하,덤프24톤 | C8: 1570 | D8: Ton | DM8: E000-0360
A9: 2. 폐 기 물 처 리 | C9: 0
A10: 1) 폐아스콘 | B10: 폐아스콘 | C10: 125 | D10: Ton
A12: 2 공구 | B12: 진중삼거리~양수대교 앞
A13: 1. 폐 기 물 운 반 | C13: 0
A14: 1) 폐아스콘 | B14: 상차제외,30km이하,덤프24톤 | C14: 460 | D14: Ton | DM14: E000-0360
A15: 2. 폐 기 물 처 리 | C15: 0
A16: 1) 폐아스콘 | B16: 폐아스콘 | C16: 125 | D16: Ton
A18: 3 공구 | B18: 와부읍 월문리 152-1~117-2
A19: 1. 폐 기 물 운 반 | C19: 0
A20: 1) 폐아스콘 | B20: 상차제외,30km이하,덤프24톤 | C20: 644 | D20: Ton | DM20: E000-0360
A21: 2. 폐 기 물 처 리 | C21: 0
A22: 1) 폐아스콘 | B22: 폐아스콘 | C22: 102.5 | D22: Ton
A24: 4 공구 | B24: 와부읍 월문리 1245-11~1064
A25: 1. 폐 기 물 운 반 | C25: 0
A26: 1) 폐아스콘 | B26: 상차제외,30km이하,덤프24톤 | C26: 229 | D26: Ton | DM26: E000-0360
A27: 2. 폐 기 물 처 리 | C27: 0
A28: 1) 폐아스콘 | B28: 폐아스콘 | C28: 102 | D28: Ton

Sheet 수량산출서
A1: 총괄 수량 산출서
A2: 공 종 | C2: 규 격 | D2: 단 위 | E2: 수 량 | J2: 비고
E3: 1공구 | F3: 2공구 | G3: 3공구 | H3: 4공구 | I3: 계
E4: (국지도98호선) | F4: (지방도352호선) | G4: (국지도86호선) | H4: (국지도86호선)
A5: 아스콘절단 | D5: m | I5: =ROUNDUP((E5+F5),0) -> 0
A6: 표층 | B6: 포설 및 다짐 | C6: T=5cm, 야간, A-TYPE | D6: m2 | E6: =[146]총괄수량집계표!$G$5 -> 13363 | F6: =[147]총괄수량집계표!$G$5 -> 3912 | G6: =[148]총괄수량집계표!$G$5 -> 5479 | H6: =[149]총괄수량집계표!$G$5 -> 1949 | I6: =ROUND((E6+F6+G6+H6),0) -> 24703
B7: 구입 및 운반 | C7: WC-1, 가열, 1등급 일반60% | D7: ton | E7: =[146]총괄수량집계표!$G$6 -> 957 | F7: =[147]총괄수량집계표!$G$6 -> 280 | G7: =[148]총괄수량집계표!$G$6 -> 392 | H7: =[149]총괄수량집계표!$G$6 -> 140 | I7: =ROUND((E7+F7+G7+H7),0) -> 1769 | J7: 2%할증포함
B8: 구입 및 운반 | C8: WC-1, 가열, 3등급 순환40% | D8: ton | E8: =[146]총괄수량집계표!$G$7 -> 638 | F8: =[147]총괄수량집계표!$G$7 -> 187 | G8: =[148]총괄수량집계표!$G$7 -> 262 | H8: =[149]총괄수량집계표!$G$7 -> 93 | I8: =ROUND((E8+F8+G8+H8),0) -> 1180 | J8: "
A9: 유화아스팔트 | B9: 살 포 | D9: a | I9: =SUM(E9:F9) -> 0
B10: 구입 및 운반 | C10: I.L.T - 4 | D10: D/M | E10: =[146]총괄수량집계표!$G$9 -> 21 | F10: =[147]총괄수량집계표!$G$9 -> 6 | G10: =[148]총괄수량집계표!$G$9 -> 8 | H10: =[149]총괄수량집계표!$G$9 -> 3 | I10: =ROUND((E10+F10+G10+H10),0) -> 38 | J10: 3%할증포함
A11: 폐기물처리 | C11: 폐아스콘 | D11: m3 | E11: 668 | F11: 196 | G11: 274 | H11: 97 | I11: =ROUND((E11+F11+G11+H11),0) -> 1235
D12: ton | E12: 1570 | F12: 460 | G12: 644 | H12: 229 | I12: =ROUND((E12+F12+G12+H12),0) -> 2903
A13: 폐기물운반 | C13: 폐아스콘 | D13: m3 | E13: 668 | F13: 196 | G13: 274 | H13: 97 | I13: =ROUND((E13+F13+G13+H13),0) -> 1235
D14: ton | E14: 1570 | F14: 460 | G14: 644 | H14: 229 | I14: =ROUND((E14+F14+G14+H14),0) -> 2903
A15: 폐기물상차 | C15: 폐아스콘 | D15: m3 | E15: =[146]총괄수량집계표!$G$14 -> 668 | F15: =[147]총괄수량집계표!$G$14 -> 196 | G15: =[148]총괄수량집계표!$G$14 -> 274 | H15: =[149]총괄수량집계표!$G$14 -> 97 | I15: =ROUND((E15+F15+G15+H15),0) -> 1235
D16: ton
A17: 노면표시 | B17: 차선도색 | C17: 백색실선(돌출) | D17: m2 | E17: =[146]총괄수량집계표!$G$16 -> 0 | F17: =[147]총괄수량집계표!$G$16 -> 0 | I17: =ROUNDUP((E17+F17),0) -> 0
A18: 노면표시 | B18: 차선도색 | C18: 백 색 실 선 | D18: m2 | E18: =[146]총괄수량집계표!$G$17 -> 589 | F18: =[147]총괄수량집계표!$G$17 -> 95 | G18: =[148]총괄수량집계표!$G$17 -> 124 | H18: =[149]총괄수량집계표!$G$17 -> 23 | I18: =ROUND((E18+F18+G18+H18),0) -> 831
C19: 백 색 파 선 | D19: m2 | E19: =[146]총괄수량집계표!$G$18 -> 30 | F19: =[147]총괄수량집계표!$G$18 -> 17 | G19: =[148]총괄수량집계표!$G$18 -> 42 | H19: =[149]총괄수량집계표!$G$18 -> 24 | I19: =ROUND((E19+F19+G19+H19),0) -> 113
C20: 황색실선(돌출) | D20: m2 | E20: =[146]총괄수량집계표!$G$19 -> 0 | F20: =[147]총괄수량집계표!$G$19 -> 0 | I20: =ROUNDUP((E20+F20),0) -> 0
C21: 황 색 실 선 | D21: m2 | E21: =[146]총괄수량집계표!$G$20 -> 210 | F21: =[147]총괄수량집계표!$G$20 -> 94 | G21: =[148]총괄수량집계표!$G$20 -> 100 | H21: =[149]총괄수량집계표!$G$20 -> 35 | I21: =ROUND((E21+F21+G21+H21),0) -> 439
C22: 황 색 파 선 | D22: m2 | E22: =[146]총괄수량집계표!$G$21 -> 0 | F22: =[147]총괄수량집계표!$G$21 -> 0 | I22: =ROUNDUP((E22+F22),0) -> 0
C23: 녹 색 실 선 | D23: m2 | E23: =[146]총괄수량집계표!$G$22 -> 0 | F23: =[147]총괄수량집계표!$G$22 -> 0 | I23: =ROUNDUP((E23+F23),0) -> 0
C24: 분 홍 색 실 선 | D24: m2 | E24: =[146]총괄수량집계표!$G$23 -> 0 | F24: =[147]총괄수량집계표!$G$23 -> 0 | I24: =ROUNDUP((E24+F24),0) -> 0
B25: 정지선 | C25: 백 색 실 선 | D25: m2 | E25: =[146]총괄수량집계표!$G$24 -> 30 | F25: =[147]총괄수량집계표!$G$24 -> 9 | G25: =[148]총괄수량집계표!$G$24 -> 17 | H25: =[149]총괄수량집계표!$G$24 -> 3 | I25: =ROUND((E25+F25+G25+H25),0) -> 59
B26: 문자및기호 | C26: 백 색 | D26: m2 | E26: =[146]총괄수량집계표!$G$25 -> 44 | F26: =[147]총괄수량집계표!$G$25 -> 24 | G26: =[148]총괄수량집계표!$G$25 -> 20 | H26: =[149]총괄수량집계표!$G$25 -> 9 | I26: =ROUND((E26+F26+G26+H26),0) -> 97
C27: 황 색 | D27: m2 | I27: =ROUNDUP((E27+F27),0) -> 0
B28: 횡단보도 | C28: 백 색 | D28: m2 | E28: =[146]총괄수량집계표!$G$27 -> 71 | F28: =[147]총괄수량집계표!$G$27 -> 92 | G28: =[148]총괄수량집계표!$G$27 -> 44 | H28: =[149]총괄수량집계표!$G$27 -> 38 | I28: =ROUND((E28+F28+G28+H28),0) -> 245
C29: 황 색 | D29: m2 | I29: =ROUNDUP((E29+F29),0) -> 0
B30: 과속방지턱 | C30: 백 색 | D30: m2 | E30: =[146]총괄수량집계표!$G$29 -> 142 | G30: =[148]총괄수량집계표!$G$29 -> 65 | H30: =[149]총괄수량집계표!$G$29 -> 12 | I30: =ROUND((E30+F30+G30+H30),0) -> 219
C31: 황 색 | D31: m2 | E31: =[146]총괄수량집계표!$G$30 -> 142 | G31: =[148]총괄수량집계표!$G$30 -> 65 | H31: =[149]총괄수량집계표!$G$30 -> 12 | I31: =ROUND((E31+F31+G31+H31),0) -> 219
A32: 밑그림 | B32: 차선도색 | C32: 실 선 | D32: m2 | E32: =[146]총괄수량집계표!$G$31 -> 799 | F32: =[147]총괄수량집계표!$G$31 -> 190 | G32: =[148]총괄수량집계표!$G$31 -> 224 | H32: =[149]총괄수량집계표!$G$31 -> 59 | I32: =ROUND((E32+F32+G32+H32),0) -> 1272
C33: 파 선 | D33: m2 | E33: =[146]총괄수량집계표!$G$32 -> 30 | F33: =[147]총괄수량집계표!$G$32 -> 17 | G33: =[148]총괄수량집계표!$G$32 -> 42 | H33: =[149]총괄수량집계표!$G$32 -> 24 | I33: =ROUND((E33+F33+G33+H33),0) -> 113
B34: 정지선 | C34: 실 선 | D34: m2 | E34: =[146]총괄수량집계표!$G$33 -> 30 | F34: =[147]총괄수량집계표!$G$33 -> 9 | G34: =[148]총괄수량집계표!$G$33 -> 17 | H34: =[149]총괄수량집계표!$G$33 -> 3 | I34: =ROUND((E34+F34+G34+H34),0) -> 59
B35: 문자및기호 | C35: 실 선 | D35: m2 | E35: =[146]총괄수량집계표!$G$34 -> 44 | F35: =[147]총괄수량집계표!$G$34 -> 24 | G35: =[148]총괄수량집계표!$G$34 -> 20 | H35: =[149]총괄수량집계표!$G$34 -> 9 | I35: =ROUND((E35+F35+G35+H35),0) -> 97
B36: 횡단보도 | C36: 실 선 | D36: m2 | E36: =[146]총괄수량집계표!$G$35 -> 71 | F36: =[147]총괄수량집계표!$G$35 -> 92 | G36: =[148]총괄수량집계표!$G$35 -> 44 | H36: =[149]총괄수량집계표!$G$35 -> 38 | I36: =ROUND((E36+F36+G36+H36),0) -> 245
B37: 과속방지턱 | C37: 실 선 | D37: m2 | E37: =[146]총괄수량집계표!$G$36 -> 284 | G37: =[148]총괄수량집계표!$G$36 -> 129 | H37: =[149]총괄수량집계표!$G$36 -> 23 | I37: =ROUND((E37+F37+G37+H37),0) -> 436
A38: 차선규제봉 제거 및 설치 | C38: 250×80×450 | D38: EA | E38: =[146]총괄수량집계표!$G$37 -> 120 | I38: =ROUND((E38+F38+G38+H38),0) -> 120
C39: 250×80×750 | D39: EA | E39: =[146]총괄수량집계표!$G$38 -> 4 | F39: =[147]총괄수량집계표!$G$38 -> 4 | G39: =[148]총괄수량집계표!$G$38 -> 7 | I39: =ROUND((E39+F39+G39+H39),0) -> 15
A40: 차선분리대 제거 및 설치 | C40: Φ200x2,000x970mm | D40: 경간 | E40: =[146]총괄수량집계표!$G$39 -> 52 | I40: =ROUND((E40+F40+G40+H40),0) -> 52
...

Sheet 견적및기타
A1: 견 적 및 기 타 단 가
A3: 구 분 | B3: 규 격 | C3: 수량 | D3: 단위 | E3: 합 계 | F3: 재 료 비 | G3: 노 무 비 | H3: 경 비 | I3: 낙찰율(%) | J3: 합 계(적용) | K3: 재료비(적용) | L3: 노무비(적용) | M3: 경 비(적용) | N3: 비 고
A5: 폐기물운반 | B5: 상차제외,30km이하,덤프24톤 | C5: 1 | D5: Ton | N5: 26년 한국건설자원수집운반협회 | DM5: E000-0360
A6: 폐기물처리 | B6: 폐아스콘 | C6: 1 | D6: Ton | N6: 26년 한국건설자원협회 | DM6: E000-0360
A7: 폐기물처리 | B7: 폐콘크리트 | C7: 1 | D7: Ton | N7: 26년 한국건설자원협회
