Workbook
Name 강: #REF!
Name 나: #REF!
Name 낙: #REF!
Name 리: #REF!
Name 삼: #REF!
Name 상: #REF!
Name 수종: #REF!
Name 신: #REF!
Name 잣: #REF!
Name 중: #REF!
Name 토공2: '[1]1'!$A$1:$O$51
Name 편: #REF!
Name 해: #REF!
Name ㅣ4: #REF!

Sheet 표지
A8: 2026년 산림용 종자 채취사업 설계서
A10: 경기도 군포시 속달동 산1-1 등
A18: =[2]설계요소!D197 -> 경기도산림환경연구소
A28: 소장 | C28: 팀장 | D28: 전결 | F28: 심사 | I28: 설계자 | M28: 설 계 | O28: 2026년 09 월 일
M30: 심 사 | O30: =O28 -> 2026년 09 월 일
A34: =A8 -> 2026년 산림용 종자 채취사업 설계서
C37: ○ 소재지: | E37: =A10 -> 경기도 군포시 속달동 산1-1 등
C39: ○ 사업량: | E39: =설계내역서!D11 -> 692 | F39: kg
C41: ○ 사업비: | E41: 금사천삼백삼십사만칠천원(￦43,347,000)
A48: =A18 -> 경기도산림환경연구소

Sheet 설명서
A1: 사업 설명서
B2: 1. 사 업 명 : 2026년 산림용 종자 채취사업
B3: 2. 소 재 지 : 경기도 군포시 속달동 산1-1번지 등
B4: 3. 사 업 량 : | E4: =표지!E39 -> 692 | F4: kg (백합나무 등 6수종)
B5: 4. 사업기간 : 60일간
B6: 5. 사업목적 : 산림용 종자를 산지가 증명된 채종임분에서 채취·공급함으로써 우량 묘목 생산기반을 마련하고 산림용 종자 국가관리체계를 확립하여 ´26년 이후 묘목생산에 만전을 기하고자 함.

Sheet 예정공정표
A2: 예 정 공 정 표
A3: ○사업명 : 2026년 산림용 종자채취 | N3: 사업기간 : 착공일로부터 60일
A4: 사 업 종 | B4: 5 | C4: 10 | D4: 15 | E4: 20 | F4: 25 | G4: 30 | H4: 35 | I4: 40 | J4: 45 | K4: 50 | L4: 55 | M4: 60 | N4: 비고
A5: 설계서 검토 및 현지 확인
A8: 종자채취
A11: 종자정선 및 포장

Sheet 원가계산서
A1: 원 가 계 산 서
A3: ○ 공사명 : 2026년 산림용 종자채취사업
A4: ○ 당초공사금액 :
A5: ○ 변경공사금액 :
A7: 비 목 구 분 | D7: 당 초 금 액 | E7: 금 액 | F7: 구성비(%) | G7: 비 고 | L7: 검토중 | N7: 2023년 건축∙산업환경설비공사 원가계산 간접공사비(제비율) 적용기준
A8: 순 공 사 비 | B8: 재 료 비 | C8: 직 접 재 료 비 | D8: =설계내역서!#REF! -> #REF!
C9: 간 접 재 료 비
C10: [소 계] | D10: =SUM(D8,D9) -> #REF!
B11: 노 무 비 | C11: 직 접 노 무 비 | D11: =설계내역서!#REF! -> #REF!
C12: 간 접 노 무 비 | D12: =D11*J12 -> #REF! | G12: (직접노무비) × | J12: 0.184 | L12: 0.138 | N12: 0.137
C13: [소 계] | D13: =SUM(D11,D12) -> #REF!
B14: 경 비 | C14: 운 반 비
C15: 기 계 경 비
C16: 산 재 보 험 료 | D16: =D13*$J$16 -> #REF! | E16: =TRUNC($E$13*J16) -> 0 | G16: 노무비의 | J16: 0.0586 | L16: 0.037 | N16: 0.037
C17: 고 용 보 험 료 | G17: 노무비의 | J17: 0.0115 | L17: 0.0101 | N17: 0.0101
C18: 건 강 보 험 료 | E18: 817801 | G18: 직접노무비의 | J18: 0.03595 | L18: 0.0354 | N18: 0.0354
C19: 국 민 연 금 | D19: =(D9+D10)*$J$20 -> #REF! | E19: 1080543.8 | G19: 직접노무비의 | J19: 0.0475
C20: 산업안전보건관리비 | D20: =(D10+D11)*$J$20 -> #REF! | E20: 471951.88 | G20: 재료비+직접노무비의 | J20: 0.0207
C21: 석면분담금 | H21: 노무비의 | J21: 6e-05
C22: 임금채권부담금 | H22: 노무비의 | J22: 0.0009
C23: 노인장기요양보험료 | E23: 107459.05 | H23: 건강보험료의 | J23: 0.1314 | L23: 0.1281 | N23: 0.1281
C24: [소 계] | D24: =SUM(#REF!,#REF!,D16,D20,#REF!) -> #REF!
A25: 일 반 관 리 비 | G25: 재료비+노무비+경비의 | J25: 0.08
A26: 이 윤 | G26: 노무비+경비+일반관리비의 | J26: 0.15
A27: 부 가 세 | G27: 총원가의 10%
A28: 용 역 공 사 비 | G28: 순공사비+일반관리비+이윤
A29: 총 공 사 비 | E29: =TRUNC(E28,-3) -> 0 | H29: 천원단위미만 절사
I32: 331849536

Sheet 설계내역서
A1: 설 계 내 역 서
A3: 구분 | B3: 수종 | C3: 단위 | D3: 수량 | E3: 계 | G3: 노무비 | I3: 재료비 | K3: 경 비 | M3: 비 고
E4: 단 가 | F4: 금 액 | G4: 단 가 | H4: 금 액 | I4: 단 가 | J4: 금 액 | K4: 단 가 | L4: 금 액
A5: 활엽수 | B5: 물푸레 | C5: kg | D5: 1 | E5: =단위환산!D5 -> 0 | F5: =E5*D5 -> 0 | G5: =단위환산!F5 -> 0 | H5: =G5*D5 -> 0 | I5: =단위환산!H5 -> 0 | J5: =I5*D5 -> 0 | K5: =단위환산!J5 -> 0 | L5: =K5*D5 -> 0
B6: 자작 | C6: kg | D6: 1 | E6: =단위환산!D6 -> 0 | F6: =E6*D6 -> 0 | G6: =단위환산!F6 -> 0 | H6: =G6*D6 -> 0 | I6: =단위환산!H6 -> 0 | J6: =I6*D6 -> 0 | K6: =단위환산!J6 -> 0 | L6: =K6*D6 -> 0
B7: 백합나무 | C7: kg | D7: 200 | E7: =단위환산!D7 -> 0 | F7: =E7*D7 -> 0 | G7: =단위환산!F7 -> 0 | H7: =G7*D7 -> 0 | I7: =단위환산!H7 -> 0 | J7: =I7*D7 -> 0 | K7: =단위환산!J7 -> 0 | L7: =K7*D7 -> 0
B8: 상수리나무 | C8: kg | D8: 410 | E8: =단위환산!D8 -> 0 | F8: =E8*D8 -> 0 | G8: =단위환산!F8 -> 0 | H8: =G8*D8 -> 0 | I8: =단위환산!H8 -> 0 | J8: =I8*D8 -> 0 | K8: =단위환산!J8 -> 0 | L8: =K8*D8 -> 0
B9: 루브라참나무 | C9: kg | D9: 50 | E9: =E8 -> 0 | F9: =E9*D9 -> 0 | G9: =G8 -> 0 | H9: =G9*D9 -> 0 | I9: =I8 -> 0 | J9: =I9*D9 -> 0 | K9: =K8 -> 0 | L9: =K9*D9 -> 0
B10: 쉬나무 | C10: kg | D10: 30 | E10: =단위환산!D9 -> 0 | F10: =E10*D10 -> 0 | G10: =단위환산!F9 -> 0 | H10: =G10*D10 -> 0 | I10: =단위환산!H9 -> 0 | J10: =I10*D10 -> 0 | K10: =단위환산!J9 -> 0 | L10: =K10*D10 -> 0
A11: 총 계 | D11: =SUM(D5:D10) -> 692 | F11: =SUM(F5:F10) -> 0 | H11: =SUM(H5:H10) -> 0 | J11: =SUM(J5:J10) -> 0 | L11: =SUM(L5:L10) -> 0
H13: 1089782 | I13: 392071
H14: 1050861 | I14: 500033
H15: 934099 | I15: 375025
H16: 973020 | I16: 113644
H17: 583812 | I17: 340932
H18: 583812 | I18: 340932
H19: 583812 | I19: 340932

Sheet 단위환산
A1: 단위별 단가 환산 적용표
A3: 구분 | B3: 수종 | C3: 계 | E3: 노무비 | G3: 재료비 | I3: 운반비 | K3: 비 고
C4: ℓ | D4: kg | E4: ℓ | F4: kg | G4: ℓ | H4: kg | I4: ℓ | J4: kg
A5: 활엽수 | B5: 물푸레나무 | C5: =E5+G5+I5 -> 0 | D5: ='단가산출서(물푸레)'!F21 -> 0 | E5: ='단가산출서(물푸레)'!H18 -> 0 | F5: =E5*8.8495 -> 0 | G5: ='단가산출서(물푸레)'!H19 -> 0 | H5: =G5*8.8495 -> 0 | I5: ='단가산출서(물푸레)'!H20 -> 0 | J5: =I5*8.8495 -> 0
B6: 자작나무 | C6: =E6+G6+I6 -> 0 | D6: ='단가산출서(자작)'!F21 -> 0 | E6: ='단가산출서(자작)'!H18 -> 0 | F6: =E6*13.8888 -> 0 | G6: ='단가산출서(자작)'!H19 -> 0 | H6: =G6*13.8888 -> 0 | I6: ='단가산출서(자작)'!H20 -> 0 | J6: =I6*13.8888 -> 0
B7: 백합나무 | C7: =E7+G7+I7 -> 0 | D7: ='단가산출서(백합)'!F21 -> 0 | E7: ='단가산출서(백합)'!H18 -> 0 | F7: =E7*22.22 -> 0 | G7: ='단가산출서(백합)'!H19 -> 0 | H7: =G7*22.22 -> 0 | I7: ='단가산출서(백합)'!H20 -> 0 | J7: =I7*22.22 -> 0
B8: 상수리나무 (루브라참나무) | C8: =E8+G8+I8 -> 0 | D8: ='단가산출서(상수리,루브라)'!F21 -> 0 | E8: ='단가산출서(상수리,루브라)'!H18 -> 0 | F8: =E8*1.6694 -> 0 | G8: ='단가산출서(상수리,루브라)'!H19 -> 0 | H8: =G8*1.6694 -> 0 | I8: ='단가산출서(상수리,루브라)'!H20 -> 0 | J8: =I8*1.6694 -> 0
B9: 쉬나무 | C9: =E9+G9+I9 -> 0 | D9: ='단가산출서(쉬나무)'!F21 -> 0 | E9: ='단가산출서(쉬나무)'!H18 -> 0 | F9: =E9*2.1413 -> 0 | G9: ='단가산출서(쉬나무)'!H19 -> 0 | H9: =G9*2.1413 -> 0 | I9: ='단가산출서(쉬나무)'!H20 -> 0 | J9: =I9*2.1413 -> 0
B10: *루브라참나무는 유사종인 상수리나무로 적용
F11: 1089782 | G11: 392071
F12: 1050861 | G12: 500033
F13: 934099 | G13: 375025
F14: 973020 | G14: 113644
F15: 583812 | G15: 340932
F16: 583812 | G16: 340932
F17: 583812 | G17: 340932

Sheet 단가산출서(물푸레)
A1: 수종별 단가산출서
A3: 수종 : 물푸레나무
H4: (100ℓ당)
A5: 구 분 | B5: 종 별 | C5: 수 량 | D5: 단위 | E5: 단 가 (원) | F5: 금 액 (원) | G5: 비 고
A6: 구과채취량 | C6: =J6 -> 100 | D6: ℓ | G6: 수득률 100% | J6: =100/1 -> 100
A7: 채취비 | B7: 남 | C7: =J7 -> 5 | D7: 인 | G7: 평작 1인 1일 20ℓ채취 | J7: =C6/20 -> 5
A8: 운반비 | B8: 경운기 | C8: =J8 -> 0.014705882 | D8: 조 | G8: 2km/편도 | J8: =C6/6800 -> 0.014705882
G9: 6,800ℓ/1일 1대
A10: 건조탈각 | B10: 여 | C10: =J10 -> 0.25 | D10: 인 | G10: 1인 1일 400ℓ | J10: =C6/400 -> 0.25
A11: 종자정선 | B11: 여 | C11: =J12 -> 0.5 | D11: 인 | G11: 1인 1일 200ℓ
J12: =C6/200 -> 0.5
A13: 종자포장 | B13: 남 | C13: =J14 -> 0.071428571 | D13: 인 | G13: 1인 1일 20포대 묶음 (100ℓ×100%/20포/70ℓ)
J14: =100/20/70 -> 0.071428571
A15: 포장재료 | B15: 포대 | C15: 1.42 | D15: 매 | G15: 1포대 70ℓ
B16: 끈 | C16: 14.2 | D16: m | G16: 1포대 10m 소요
A17: 계 | F17: =SUM(F7:F16) -> 0
A18: 1ℓ당 단가 | F18: =ROUND(F17/100,0) -> 0 | G18: 노무비 | H18: =(F7+F10+F11+F13)*0.01 -> 0
G19: 재료비 | H19: =(F15+F16)*0.01 -> 0
G20: 운반비 | H20: =F8*0.01 -> 0
A21: 1kg당 단가 | F21: =F18*8.8495 -> 0 | G21: 1kg≒8.8495ℓ | I21: 23.2 | J21: =#REF! -> #REF!
A22: ='단가산출서(상수리,루브라)'!A22:H22 -> ※ 단가산출시 「2025년산 산림용 종묘가격(산림청고시 제2025-95호, 2025.12.24)」의 채취공정 이용. 인부임 단가는 「경기도 기간제근로자등 보수지침」 보통인부 단가 적용.

Sheet 단가산출서(자작)
A1: 수종별 단가산출서
A3: 수종 : 자작나무
H4: (100ℓ당)
A5: 구 분 | B5: 종 별 | C5: 수 량 | D5: 단위 | E5: 단 가 (원) | F5: 금 액 (원) | G5: 비 고
A6: 구과채취량 | C6: =J6 -> 303.0303 | D6: ℓ | G6: 수득률 33% | J6: =100/0.33 -> 303.0303
A7: 채취비 | B7: 남 | C7: =J7 -> 12.121212 | D7: 인 | G7: 평작 1인 1일 25ℓ채취 | J7: =C6/25 -> 12.121212
A8: 운반비 | B8: 경운기 | C8: =J8 -> 0.04456328 | D8: 조 | G8: 2km/편도 | J8: =C6/6800 -> 0.04456328
G9: 6,800ℓ/1일 1대
A10: 건조탈각 | B10: 여 | C10: =J10 -> 0.75757576 | D10: 인 | G10: 1인 1일 400ℓ | J10: =C6/400 -> 0.75757576
A11: 종자정선 | B11: 여 | C11: 0.5 | D11: 인 | G11: 1인 1일 200ℓ
J12: =C6/200 -> 1.5151515
A13: 종자포장 | B13: 남 | C13: =J14 -> 0.071428571 | D13: 인 | G13: 1인 1일 20포대 묶음
J14: =100/20/70 -> 0.071428571
A15: 포장재료 | B15: 포대 | C15: 1.42 | D15: 매 | G15: 1포대 70ℓ
B16: 끈 | C16: 14.2 | D16: m | G16: 1포대 10m 소요
A17: 계 | F17: =SUM(F7:F16) -> 0
A18: 1ℓ당 단가 | F18: =ROUND(F17/100,0) -> 0 | G18: 노무비 | H18: =(F7+F10+F11+F13)*0.01 -> 0
G19: 재료비 | H19: =(F15+F16)*0.01 -> 0
G20: 운반비 | H20: =F8*0.01 -> 0
A21: 1kg당 단가 | F21: =F18*13.8888 -> 0 | G21: 1kg≒13.8888ℓ | I21: 1.98 | J21: =#REF! -> #REF!
A22: ='단가산출서(물푸레)'!A22:H22 -> ※ 단가산출시 「2025년산 산림용 종묘가격(산림청고시 제2025-95호, 2025.12.24)」의 채취공정 이용. 인부임 단가는 「경기도 기간제근로자등 보수지침」 보통인부 단가 적용.

Sheet 단가산출서(백합)
A1: 수종별 단가산출서
A3: 수종 : 백합나무
H4: (100ℓ당)
A5: 구 분 | B5: 종 별 | C5: 수 량 | D5: 단위 | E5: 단 가 (원) | F5: 금 액 (원) | G5: 비 고
A6: 구과채취량 | C6: =J6 -> 232.55814 | D6: ℓ | G6: 수득률 43% | J6: =100/0.43 -> 232.55814
A7: 채취비 | B7: 남 | C7: =J7 -> 2.3255814 | D7: 인 | G7: 평작 1인 1일 100ℓ채취 | J7: =C6/100 -> 2.3255814
A8: 운반비 | B8: 경운기 | C8: =J8 -> 0.034199726 | D8: 조 | G8: 2km/편도 | J8: =C6/6800 -> 0.034199726
G9: 6,800ℓ/1일 1대
A10: 건조탈각 | B10: 여 | C10: =J10 -> 0.58875478 | D10: 인 | G10: 1인 1일 395ℓ | J10: =C6/395 -> 0.58875478
A11: 종자정선 | B11: 여 | C11: 1.39 | D11: 인 | G11: 1인 1일 200ℓ
J12: =C6/200 -> 1.1627907
A13: 종자포장 | B13: 남 | C13: 0.05 | D13: 인 | G13: 1인 1일 20포대 묶음
A15: 포장재료 | B15: 포대 | C15: 1.42 | D15: 매 | G15: 1포대 70ℓ
B16: 끈 | C16: 14.2 | D16: m | G16: 1포대 10m 소요
A17: 계 | F17: =SUM(F7:F16) -> 0
A18: 1ℓ당 단가 | F18: =ROUND(F17/100,0) -> 0 | G18: 노무비 | H18: =(F7+F10+F11+F13)*0.01 -> 0
G19: 재료비 | H19: =(F15+F16)*0.01 -> 0
G20: 운반비 | H20: =F8*0.01 -> 0
A21: 1kg당 단가 | F21: =F18*22.22 -> 0 | G21: 1kg≒22.22ℓ | I21: 22.2
A22: ※ 단가산출시 「2025년산 산림용 종묘가격(산림청고시 제2025-95호, 2025.12.24)」의 채취공정 이용. 인부임 단가는 「경기도 기간제근로자등 보수지침」 보통인부 단가 적용.

Sheet 단가산출서(상수리,루브라)
A1: 수종별 단가산출서
A3: 수종 : 상수리, 루브라참나무
H4: (100ℓ당)
A5: 구 분 | B5: 종 별 | C5: 수 량 | D5: 단위 | E5: 단 가 (원) | F5: 금 액 (원) | G5: 비 고
A6: 구과채취량 | C6: =J6 -> 119.04762 | D6: ℓ | G6: 수득률 84% | J6: =100/0.84 -> 119.04762
A7: 채취비 | B7: 남 | C7: =J7 -> 2.4801587 | D7: 인 | G7: 평작 1인 1일 48ℓ채취 | J7: =C6/48 -> 2.4801587
A8: 운반비 | B8: 경운기 | C8: =J8 -> 0.017507003 | D8: 조 | G8: 2km/편도 | J8: =C6/6800 -> 0.017507003
G9: 6,800ℓ/1일 1대
A10: 건조탈각 | B10: 여 | C10: =J10 -> 0.25062657 | D10: 인 | G10: 1인 1일 475ℓ | J10: =C6/475 -> 0.25062657
A11: 종자정선 | B11: 여 | C11: 0.5 | D11: 인 | G11: 1인 1일 200ℓ
J12: =C6/200 -> 0.5952381
A13: 종자포장 | B13: 남 | C13: =J14 -> 0.071428571 | D13: 인 | G13: 1인 1일 20포대 묶음
J14: =100/20/70 -> 0.071428571
A15: 포장재료 | B15: 포대 | C15: 1.42 | D15: 매 | G15: 1포대 70ℓ
B16: 끈 | C16: 14.2 | D16: m | G16: 1포대 10m 소요
A17: 계 | F17: =SUM(F7:F16) -> 0
A18: 1ℓ당 단가 | F18: =ROUND(F17/100,0) -> 0 | G18: 노무비 | H18: =(F7+F10+F11+F13)*0.01 -> 0
G19: 재료비 | H19: =(F15+F16)*0.01 -> 0
G20: 운반비 | H20: =F8*0.01 -> 0
A21: 1kg당 단가 | F21: =F18*1.6694 -> 0 | G21: 1kg≒1.6694ℓ | I21: 1.67 | J21: =#REF! -> #REF!
A22: ='단가산출서(백합)'!A22:H22 -> ※ 단가산출시 「2025년산 산림용 종묘가격(산림청고시 제2025-95호, 2025.12.24)」의 채취공정 이용. 인부임 단가는 「경기도 기간제근로자등 보수지침」 보통인부 단가 적용.

Sheet 단가산출서(쉬나무)
A1: 수종별 단가산출서
A3: 수종 : 쉬나무
H4: (100ℓ당)
A5: 구 분 | B5: 종 별 | C5: 수 량 | D5: 단위 | E5: 단 가 (원) | F5: 금 액 (원) | G5: 비 고
A6: 구과채취량 | C6: =J6 -> 400 | D6: ℓ | G6: 수득률 25% | J6: =100/0.25 -> 400
A7: 채취비 | B7: 남 | C7: =J7 -> 6.6666667 | D7: 인 | G7: 평작 1인 1일 60ℓ채취 | J7: =C6/60 -> 6.6666667
A8: 운반비 | B8: 경운기 | C8: =J8 -> 0.058823529 | D8: 조 | G8: 2km/편도 | J8: =C6/6800 -> 0.058823529
G9: 6,800ℓ/1일 1대
A10: 건조탈각 | B10: 여 | C10: =J10 -> 1 | D10: 인 | G10: 1인 1일 400ℓ | J10: =C6/400 -> 1
A11: 종자정선 | B11: 여 | C11: 0.5 | D11: 인 | G11: 1인 1일 200ℓ
J12: =C6/200 -> 2
A13: 종자포장 | B13: 남 | C13: =J14 -> 0.071428571 | D13: 인 | G13: 1인 1일 20포대 묶음
J14: =100/20/70 -> 0.071428571
A15: 포장재료 | B15: 포대 | C15: 1.42 | D15: 매 | G15: 1포대 70ℓ
B16: 끈 | C16: 14.2 | D16: m | G16: 1포대 10m 소요
A17: 계 | F17: =SUM(F7:F16) -> 0
A18: 1ℓ당 단가 | F18: =ROUND(F17/100,0) -> 0 | G18: 노무비 | H18: =(F7+F10+F11+F13)*0.01 -> 0
G19: 재료비 | H19: =(F15+F16)*0.01 -> 0
G20: 운반비 | H20: =F8*0.01 -> 0
A21: 1kg당 단가 | F21: =F18*2.1413 -> 0 | G21: 1kg≒2.1413ℓ | I21: 1.67 | J21: =#REF! -> #REF!
A22: ※ 단가산출시 「2025년산 산림용 종묘가격(산림청고시 제2025-95호, 2025.12.24)」의 채취공정 이용. 쉬나무와 유사한 종자특성 이용. 인부임 단가는 「경기도 기간제근로자등 보수지침」 보통인부 단가 적용.

Sheet 대상지조서
A1: 2026년 산림용 종자 채취사업 대상지 | J1: 경기도 채종임분 조성 현황
A2: 구분 | B2: 지정년월일 | C2: 소유별 | D2: 지 정 내 용 | J2: 구분 | K2: 지정년월일 | L2: 소유별 | M2: 지 정 내 용
D3: 구역면적 (ha) | E3: 수종 | F3: 소 재 지 | G3: 본수 | H3: 수령 | M3: 구역면적 (ha) | N3: 수종 | O3: 소 재 지 | P3: 본수 | Q3: 수령
A5: 채종임분 | B5: 2008.11.05 | C5: 수원시 | D5: 0.2 | E5: 백합나무 | F5: 수원시 장안구 영화동 349 | G5: 5본 | H5: 38년 | J5: 채종임분 | M5: =SUM(M6:M21) -> 17.6 | N5: 6종 | P5: =SUM(P6:P18) -> 13836
A6: 〃 | B6: 〃 | C6: 행정안전부 | D6: 2.2 | E6: 〃 | F6: 과천시 관문로 88(중앙동) | G6: 216본 | H6: 31년 | J6: 채종임분 | K6: 2008.11.05 | L6: 수원시 | M6: 0.2 | N6: 백합나무 | O6: 수원시 장안구 영화동 349 | P6: 15 | Q6: 36년
A7: 〃 | B7: 〃 | C7: 경기도 | D7: 0.3 | E7: 〃 | F7: 오산시 청학로 211 | G7: 20본 | H7: 41년 | J7: 〃 | K7: 〃 | L7: 행정안전부 | M7: 2.2 | N7: 〃 | O7: 과천시 관문로 88(중앙동) | P7: 216 | Q7: 29년
A8: 〃 | B8: 2011.12.20 | C8: 경기도 | D8: 0.5 | E8: 〃 | F8: 군포시 속달동 산 1-1 | G8: 35본 | H8: 44년 | J8: 〃 | K8: 〃 | L8: 경기도 | M8: 0.3 | N8: 〃 | O8: 오산시 수청동 332-4 | P8: 20 | Q8: 39년
A9: 〃 | B9: 2009.07.17 | C9: 경기도 | D9: 0.5 | E9: 상수리나무 | F9: 군포시 속달동 산 1-1 | G9: 50본 | H9: 40년 | J9: 〃 | K9: 2011.12.20 | L9: 경기도 | M9: 0.5 | N9: 〃 | O9: 군포시 속달동 산 1-1 | P9: 35 | Q9: 42년
A10: 〃 | B10: 2009.07.17 | C10: 경기도 | D10: 0.5 | E10: 〃 | F10: 군포시 속달동 산 1-1 | G10: 180본 | H10: 32년 | J10: 〃 | K10: 2009.07.17 | L10: 경기도 | M10: 0.5 | N10: 상수리나무 | O10: 군포시 속달동 산 1-1 | P10: 50 | Q10: 38년
A11: 〃 | B11: 2009.07.17 | C11: 경기도 | D11: 2 | E11: 자작나무 | F11: 평택시 진위면 동천리 산103 | G11: 500본 | H11: 19년 | J11: 〃 | K11: 2009.07.17 | L11: 경기도 | M11: 0.5 | N11: 〃 | O11: 군포시 속달동 산 1-1 | P11: 180 | Q11: 30년
A12: 〃 | B12: 2021.01.26. | C12: 경기도 | D12: 0.4 | E12: 〃 | F12: 가평군 북면 적목리 산 1-1 | G12: 520본 | H12: 25년 | J12: 〃 | K12: 2009.07.17 | L12: 경기도 | M12: 2 | N12: 자작나무 | O12: 평택시 진위면 동천리 산103 | P12: 500 | Q12: 17년
A13: 〃 | B13: 2009.07.17 | C13: 경기도 | D13: 2 | E13: 물푸레나무 | F13: 평택시 진위면 동천리 산103 | G13: 1,000본 | H13: 21년 | K13: 2021.01.26. | L13: 경기도 | M13: 0.4 | N13: 〃 | O13: 가평군 북면 적목리 산 1-1 | P13: 520 | Q13: 24년
A14: 〃 | B14: 2021.01.26. | C14: 경기도 | D14: 2 | E14: 〃 | F14: 가평군 북면 적목리 산 1-1 | G14: 4,000본 | H14: 25년 | J14: 〃 | K14: 2009.07.17 | L14: 경기도 | M14: 2 | N14: 물푸레나무 | O14: 평택시 진위면 동천리 산103 | P14: 1000 | Q14: 19년
A15: 〃 | B15: 2021.01.26. | C15: 경기도 | D15: 2 | E15: 루브라참나무 | F15: 용인시 처인구 남사면 통삼리 산185-1 | G15: 700본 | H15: 27년 | J15: 〃 | K15: 2021.01.26. | L15: 경기도 | M15: 2 | N15: 〃 | O15: 가평군 북면 적목리 산 1-1 | P15: 4000 | Q15: 24년
A16: 〃 | B16: 2025.07.25 | C16: 경기도 | D16: 5 | E16: 쉬나무 | F16: 양주시 광적면 덕도리 624-7 | G16: 175본 | H16: 30년 | J16: 〃 | K16: 2021.01.26. | L16: 경기도 | M16: 2 | N16: 일본잎갈나무 | O16: 가평군 화악리 산276 | P16: 3600 | Q16: 15년
J17: 〃 | K17: 2021.01.26. | L17: 경기도 | M17: 3 | N17: 〃 | O17: 가평군 화악리 산314-1 | P17: 3000 | Q17: 13년
J18: 〃 | K18: 2021.01.26. | L18: 경기도 | M18: 2 | N18: 루브라참나무 | O18: 용인시 처인구 남사면 통삼리 산185-1 | P18: 700 | Q18: 25년

Sheet 원가법정요율 적용기준
A1: 원가법정요율 적용기준
A4: 비목 | B4: 적용기준 | C4: 요율(%) | D4: 산 출 근 거
A5: 간 접 노 무 비 | B5: (직접노무비)*율(%) | C5: 0.184 | D5: 조달청 조경공사 원가계산 간접공사비(제비율) 적용기준(2026.4.13)
A6: 산 재 보 험 료 | B6: (노무비)*율(%) | C6: 0.0586 | D6: 고용노동부 2026년도 사업종류별 산재보험료율 고시(임업)
A7: 고 용 보 험 료 | B7: (노무비)*율(%) | C7: 0.0115 | D7: 고용보험 및 산업재해보상보험의 보험료징수 등에 관한 법률
A8: 건 강 보 험 료 | B8: (직접노무비)*율(%) | C8: 0.036 | D8: 조달청 조경공사 원가계산 간접공사비(제비율) 적용기준(2026.4.13)
A9: 국 민 연 금 | B9: (직접노무비)*율(%) | C9: 0.0475 | D9: 조달청 조경공사 원가계산 간접공사비(제비율) 적용기준(2026.4.13)
A10: 산 업 안 전 보 건 관 리 비 | B10: (재료비+직접노무비)*율(%) | C10: 0.0207 | D10: 조달청 조경공사 원가계산 간접공사비(제비율) 적용기준(2026.4.13)
A11: 석 면 분 담 금 | B11: (노무비)*율(%) | C11: 6e-05 | D11: 조달청 조경공사 원가계산 간접공사비(제비율) 적용기준(2026.4.13)
A12: 임 금 채 권 부 담 금 | B12: (노무비)*율(%) | C12: 0.0009 | D12: 조달청 조경공사 원가계산 간접공사비(제비율) 적용기준(2026.4.13)
A13: 노 인 장 기 요 양 보 험 료 | B13: (건강보험료)*율(%) | C13: 0.1314 | D13: 조달청 조경공사 원가계산 간접공사비(제비율) 적용기준(2026.4.13)
A14: 일 반 관 리 비 | B14: (재료비+노무비+경비)*율(%) | C14: 0.08 | D14: 조달청 조경공사 원가계산 간접공사비(제비율) 적용기준(2026.4.13)
A15: 이 윤 | B15: (노무비+경비+일반관리비)*율(%) | C15: 0.15 | D15: 조달청 조경공사 원가계산 간접공사비(제비율) 적용기준(2026.4.13)
A16: 부 가 가 치 세 | B16: (총원가)*율(%) | C16: 0.1 | D16: 지방자체단체 입찰 및 계약 집행기준(2026. 7. 1.)

Sheet (참고)조경공사 제비율 적용기준
