Workbook

Sheet 심사결과
A2: 계약심사 조정내역
A4: ○ 공 사 명 : 디지털농업 첨단온실 개선 전기공사 | H4: (단위 : 천원)
A5: 구 분 | C5: 설계금액 | D5: 심사금액 | E5: 조정액 | F5: 기준 (%) | H5: 비고
F6: 설계 | G6: 심사
A7: 직접공사비 | C7: =원가계산!#REF!+원가계산!#REF!+원가계산!#REF! -> #REF! | D7: =원가계산!D4+원가계산!D7+원가계산!D10 -> 0 | E7: =D7-C7 -> #REF!
A8: 제경비 | C8: =SUM(C9:C22) -> #REF! | D8: =SUM(D9:D22) -> 0 | E8: =D8-C8 -> #REF!
B9: 간접노무비 | C9: =원가계산!#REF! -> #REF! | D9: =원가계산!D8 -> 0 | E9: =D9-C9 -> #REF! | F9: 17.5 | G9: 17.5
B10: 산재보험료 | C10: =원가계산!#REF! -> #REF! | D10: =원가계산!D12 -> 0 | E10: =D10-C10 -> #REF! | F10: 3.56 | G10: 3.56
B11: 고용보험료 | C11: =원가계산!#REF! -> #REF! | D11: =원가계산!D16 -> 0 | E11: =D11-C11 -> #REF! | F11: 1.01 | G11: 1.01
B12: 건강보험료 | C12: =원가계산!#REF! -> #REF! | D12: =원가계산!D17 -> 0 | E12: =D12-C12 -> #REF! | F12: 3.595 | G12: 3.595
B13: 연금보험료 | C13: =원가계산!#REF! -> #REF! | D13: =원가계산!D18 -> 0 | E13: =D13-C13 -> #REF! | F13: 4.75 | G13: 4.75
B14: 노인요양보험료 | C14: =원가계산!#REF! -> #REF! | D14: =원가계산!D20 -> 0 | E14: =D14-C14 -> #REF! | F14: 13.14 | G14: 13.14
B15: 퇴직공제부금비 | C15: =원가계산!#REF! -> #REF! | D15: =원가계산!D19 -> 0 | E15: =D15-C15 -> #REF! | F15: 2.3 | G15: 2.3
B16: 산업안전보건관리비 | C16: =원가계산!#REF! -> #REF! | D16: =원가계산!D15 -> 0 | E16: =D16-C16 -> #REF! | F16: 2.07 | G16: 3.11
B17: 기타경비 | C17: =원가계산!#REF! -> #REF! | D17: =원가계산!D11 -> 0 | E17: =D17-C17 -> #REF! | F17: 5 | G17: 5
B18: 석면분담금 | C18: =원가계산!#REF! -> #REF! | D18: =원가계산!D21 -> 0 | E18: =D18-C18 -> #REF! | F18: 0.006 | G18: 0.006
B19: 임금채권부담금 | C19: =원가계산!#REF! -> #REF! | D19: =원가계산!D22 -> 0 | E19: =D19-C19 -> #REF! | F19: 0.09 | G19: 0.09
B20: 일반관리비 | C20: =원가계산!#REF! -> #REF! | D20: =원가계산!D25 -> 0 | E20: =D20-C20 -> #REF! | F20: 6.5 | G20: 8
B21: 이윤 | C21: =원가계산!#REF! -> #REF! | D21: =원가계산!D26 -> 0 | E21: =D21-C21 -> #REF! | F21: 15 | G21: 15
B22: 손해배상공제료 | C22: =원가계산!#REF! -> #REF! | D22: =원가계산!D28 -> 0 | E22: =D22-C22 -> #REF! | F22: 0.26477 | G22: 0.26477
A23: 합계 | C23: =원가계산!#REF!+원가계산!#REF! -> #REF! | D23: =원가계산!D28+원가계산!D27 -> 0 | E23: =D23-C23 -> #REF!
A24: 부가가치세 | C24: =원가계산!#REF! -> #REF! | D24: =원가계산!D29 -> 0 | E24: =D24-C24 -> #REF! | F24: 10 | G24: 10
A25: 도급비 | C25: =원가계산!#REF!-1000 -> #REF! | D25: =원가계산!D30 -> 331366000 | E25: =D25-C25 -> #REF! | F25: 조정률 | G25: =E25/C25 -> #REF!
A26: 관급액 | C26: =원가계산!#REF! -> #REF!
B27: 기타 | C27: =원가계산!#REF! -> #REF!
A28: 총공사비 | C28: =원가계산!#REF!-1000 -> #REF!
A30: 조정내용
A31: ○ 일위대가 및 단가산출 등 조정 : 14종(증 3종)

Sheet 갑지
A2: 2026년 8 월 일 설계 | E2: 설 계 자 | G2: 심 사 자 | I2: 팀 장 | K2: 과 장
A5: 2026년도
A6: 공 사 명 : 디지털농업 유리온실 전기공사
A8: 위 치 : 경기 화성시 병점중앙로 283-33
A10: 공 사 개 요 :
B12: 1. 도급공사 | F12: : 1식
B13: 2. 도급자관급공사 | F13: : 1식
B14: 3. 관급자관급공사 | F14: : 1식
C20: ="총 공 사 비 : 일금 "&NUMBERSTRING(I20,1)&"원정" -> 총 공 사 비 : 일금 삼억팔천오백삼십팔만구천원정 | I20: 385389000
C22: ="도급 예정액 : 일금 "&NUMBERSTRING(I22,1)&"원정" -> 도급 예정액 : 일금 삼억삼천일백삼십육만육천원정 | I22: 331366000
C24: ="도급자 관급 자재비 : 일금 "&NUMBERSTRING(I24,1)&"원정" -> 도급자 관급 자재비 : 일금 오천사백이만삼천원정 | I24: 54023000
C26: ="관급자 관급 자재비 : 일금 "&NUMBERSTRING(I26,1)&"원정" -> 관급자 관급 자재비 : 일금 영원정 | I26: =원가계산!D32 -> 0
C28: ="위탁 공사비 : 일금 "&NUMBERSTRING(I28,1)&"원정" -> 위탁 공사비 : 일금 영원정 | I28: =원가계산!D33 -> 0

Sheet 원가계산
A1: 디지털농업 유리온실 전기공사
A2: 공사원가계산서
A3: 비 목 | C3: 구 분 | D3: 심사금액 | E3: 비 고
A4: 순 공 사 원 가 | B4: 재 료 비 | C4: 직접재료비
C5: 간접재료비
C6: 소 계
B7: 노무비 | C7: 직접노무비
C8: 간접노무비 | E8: 직노×17.5%
C9: 소 계
B10: 경비 | C10: 기계경비
C11: 기타경비 | E11: (재＋노)×5%
C12: 산재보험료 | E12: 노무비×3.56%
C13: 산업안전보건관리비 | E13: (재료+직노+관급순액) × 3.11%
E14: (재료비+직노)×3.11%×1.2
E15: 적은 값
C16: 고용보험료 | E16: 노무비×1.01%
C17: 건강보험료 | E17: 직노×3.595%
C18: 연금보험료 | E18: 직노×4.75%
C19: 퇴직공제부금비 | E19: 직노×2.3%
C20: 노인장기요양 보험료 | E20: (건강보험료)×13.14%
C21: 석면분담금 | E21: 노무비×0.006%
C22: 임금채권부담금 | E22: 노무비×0.09%
C23: 소 계
A24: 계
A25: 일 반 관 리 비 | E25: (재＋노＋경)×8%
A26: 이 윤 | E26: (노＋경＋일)×15% ☞ 이윤절삭액 ( ▼253 )
A27: 공 사 비 | E27: 순공사원가＋일반관리비＋이윤
A28: 손 해 배 상 공 제 료 | E28: (공사비+도급자관급자재비)×0.26477% (100원 미만 절사, 최저 20,000원)
A29: 부 가 가 치 세 | E29: (공사비+공제료)×10%
A30: 순 공 사 비 계 | D30: 331366000 | E30: 공사비＋공제료＋부가가치세
A31: 도 급 자 관 급 자 재 비 | D31: 54023000
A32: 관 급 자 관 급 자 재 비 | D32: 0
A33: 한전수탁 및 사용전검사비 | D33: 0
A34: 총 공 사 비 계 | D34: 385389000

Sheet 총괄표
A1: 총줄수-> | B1: 107 | C1: 2.0 | D1: [ 디지털농업 유리온실 전기공사 ] | AA1: 연속견적가로형식
A2: 번호 | B2: 공종코드 | C2: … | D2: 공 종 명 | E2: 규격 | F2: 단위 | G2: 수량 | H2: 재료비 | J2: 노무비 | M2: 경비 | P2: 계 | Q2: 비고
H3: 단가 | I3: 금액 | J3: 수량 | K3: 단가 | L3: 금액 | M3: 단가 | N3: 금액 | O3: 단가
B4: 공종줄 | D4: [디지털농업 유리온실 전기공사]
B5: 001 | D5: 1. 전기공사 | F5: 식 | G5: 1
C29: Total | D29: ( 합 계 )
B30: 공종줄 | D30: [디지털농업 유리온실 전기공사]
B31: 002 | D31: 2.도급자관급 | F31: 식 | G31: 1
I35: =G35*H35 -> 0 | L35: =G35*K35 -> 0 | N35: =G35*M35 -> 0 | P35: =SUM(I35,L35,N35) -> 0
I36: =G36*H36 -> 0 | L36: =G36*K36 -> 0 | N36: =G36*M36 -> 0 | P36: =SUM(I36,L36,N36) -> 0
I37: =G37*H37 -> 0 | L37: =G37*K37 -> 0 | N37: =G37*M37 -> 0 | P37: =SUM(I37,L37,N37) -> 0
I38: =G38*H38 -> 0 | L38: =G38*K38 -> 0 | N38: =G38*M38 -> 0 | P38: =SUM(I38,L38,N38) -> 0
I39: =G39*H39 -> 0 | L39: =G39*K39 -> 0 | N39: =G39*M39 -> 0 | P39: =SUM(I39,L39,N39) -> 0
I40: =G40*H40 -> 0 | L40: =G40*K40 -> 0 | N40: =G40*M40 -> 0 | P40: =SUM(I40,L40,N40) -> 0
I41: =G41*H41 -> 0 | L41: =G41*K41 -> 0 | N41: =G41*M41 -> 0 | P41: =SUM(I41,L41,N41) -> 0
I42: =G42*H42 -> 0 | L42: =G42*K42 -> 0 | N42: =G42*M42 -> 0 | P42: =SUM(I42,L42,N42) -> 0
I43: =G43*H43 -> 0 | L43: =G43*K43 -> 0 | N43: =G43*M43 -> 0 | P43: =SUM(I43,L43,N43) -> 0
I44: =G44*H44 -> 0 | L44: =G44*K44 -> 0 | N44: =G44*M44 -> 0 | P44: =SUM(I44,L44,N44) -> 0
I45: =G45*H45 -> 0 | L45: =G45*K45 -> 0 | N45: =G45*M45 -> 0 | P45: =SUM(I45,L45,N45) -> 0
I46: =G46*H46 -> 0 | L46: =G46*K46 -> 0 | N46: =G46*M46 -> 0 | P46: =SUM(I46,L46,N46) -> 0
... I54: =G54*H54 -> 0 | L54: =G54*K54 -> 0 | N54: =G54*M54 -> 0 | P54: =SUM(I54,L54,N54) -> 0
C55: Total | D55: ( 합 계 ) | I55: =TRUNC(SUM(I30:I54)) -> 0 | L55: =TRUNC(SUM(L30:L54)) -> 0 | N55: =TRUNC(SUM(N30:N54)) -> 0 | P55: =TRUNC(SUM(P30:P54)) -> 0
B56: 공종줄 | D56: 1.전기공사
B57: 00101 | D57: 1-1. 전력간선공사 | F57: 식 | G57: 1
B58: 00102 | D58: 1-2. 동력설비공사 | F58: 식 | G58: 1
B59: 00103 | D59: 1-3. 열선공사 | F59: 식 | G59: 1
B60: 00104 | D60: 1-4. 접지공사 | F60: 식 | G60: 1
B61: 00105 | D61: 1-5. 전등설비공사 | F61: 식 | G61: 1
B62: 00106 | D62: 1-6. 전열설비공사 | F62: 식 | G62: 1
I64: =G64*H64 -> 0 | L64: =G64*K64 -> 0 | N64: =G64*M64 -> 0 | P64: =SUM(I64,L64,N64) -> 0
I65: =G65*H65 -> 0 | L65: =G65*K65 -> 0 | N65: =G65*M65 -> 0 | P65: =SUM(I65,L65,N65) -> 0
I66: =G66*H66 -> 0 | L66: =G66*K66 -> 0 | N66: =G66*M66 -> 0 | P66: =SUM(I66,L66,N66) -> 0
I67: =G67*H67 -> 0 | L67: =G67*K67 -> 0 | N67: =G67*M67 -> 0 | P67: =SUM(I67,L67,N67) -> 0
I68: =G68*H68 -> 0 | L68: =G68*K68 -> 0 | N68: =G68*M68 -> 0 | P68: =SUM(I68,L68,N68) -> 0
I69: =G69*H69 -> 0 | L69: =G69*K69 -> 0 | N69: =G69*M69 -> 0 | P69: =SUM(I69,L69,N69) -> 0
I70: =G70*H70 -> 0 | L70: =G70*K70 -> 0 | N70: =G70*M70 -> 0 | P70: =SUM(I70,L70,N70) -> 0
I71: =G71*H71 -> 0 | L71: =G71*K71 -> 0 | N71: =G71*M71 -> 0 | P71: =SUM(I71,L71,N71) -> 0
I72: =G72*H72 -> 0 | L72: =G72*K72 -> 0 | N72: =G72*M72 -> 0 | P72: =SUM(I72,L72,N72) -> 0
I73: =G73*H73 -> 0 | L73: =G73*K73 -> 0 | N73: =G73*M73 -> 0 | P73: =SUM(I73,L73,N73) -> 0
I74: =G74*H74 -> 0 | L74: =G74*K74 -> 0 | N74: =G74*M74 -> 0 | P74: =SUM(I74,L74,N74) -> 0
I75: =G75*H75 -> 0 | L75: =G75*K75 -> 0 | N75: =G75*M75 -> 0 | P75: =SUM(I75,L75,N75) -> 0
... I80: =G80*H80 -> 0 | L80: =G80*K80 -> 0 | N80: =G80*M80 -> 0 | P80: =SUM(I80,L80,N80) -> 0
B81: 001 | C81: Total | D81: ( 합 계 ) | I81: =TRUNC(SUM(I56:I80)) -> 0 | L81: =TRUNC(SUM(L56:L80)) -> 0 | N81: =TRUNC(SUM(N56:N80)) -> 0 | P81: =TRUNC(SUM(P56:P80)) -> 0
B82: 공종줄 | D82: 2.도급자관급
B83: 00201 | D83: 2-1-1. 전력간선공사 | F83: 식 | G83: 1
B84: 00202 | D84: 2-1-2. 동력설비공사 | F84: 식 | G84: 1
B85: 00203 | D85: 2-1-3. 열선공사 | F85: 식 | G85: 1
I89: =G89*H89 -> 0 | L89: =G89*K89 -> 0 | N89: =G89*M89 -> 0 | P89: =SUM(I89,L89,N89) -> 0
I90: =G90*H90 -> 0 | L90: =G90*K90 -> 0 | N90: =G90*M90 -> 0 | P90: =SUM(I90,L90,N90) -> 0
I91: =G91*H91 -> 0 | L91: =G91*K91 -> 0 | N91: =G91*M91 -> 0 | P91: =SUM(I91,L91,N91) -> 0
I92: =G92*H92 -> 0 | L92: =G92*K92 -> 0 | N92: =G92*M92 -> 0 | P92: =SUM(I92,L92,N92) -> 0
I93: =G93*H93 -> 0 | L93: =G93*K93 -> 0 | N93: =G93*M93 -> 0 | P93: =SUM(I93,L93,N93) -> 0
I94: =G94*H94 -> 0 | L94: =G94*K94 -> 0 | N94: =G94*M94 -> 0 | P94: =SUM(I94,L94,N94) -> 0
I95: =G95*H95 -> 0 | L95: =G95*K95 -> 0 | N95: =G95*M95 -> 0 | P95: =SUM(I95,L95,N95) -> 0
I96: =G96*H96 -> 0 | L96: =G96*K96 -> 0 | N96: =G96*M96 -> 0 | P96: =SUM(I96,L96,N96) -> 0
I97: =G97*H97 -> 0 | L97: =G97*K97 -> 0 | N97: =G97*M97 -> 0 | P97: =SUM(I97,L97,N97) -> 0
I98: =G98*H98 -> 0 | L98: =G98*K98 -> 0 | N98: =G98*M98 -> 0 | P98: =SUM(I98,L98,N98) -> 0
I99: =G99*H99 -> 0 | L99: =G99*K99 -> 0 | N99: =G99*M99 -> 0 | P99: =SUM(I99,L99,N99) -> 0
I100: =G100*H100 -> 0 | L100: =G100*K100 -> 0 | N100: =G100*M100 -> 0 | P100: =SUM(I100,L100,N100) -> 0
... I106: =G106*H106 -> 0 | L106: =G106*K106 -> 0 | N106: =G106*M106 -> 0 | P106: =SUM(I106,L106,N106) -> 0
B107: 002 | C107: Total | D107: ( 합 계 )

Sheet 내역서
A1: 총줄수-> | B1: 341 | C1: 2.0 | D1: [ 디지털농업 유리온실 전기공사 ]
A2: 번호 | B2: 공종코드 | C2: 코드 | D2: 명 칭 | E2: 규 격 | F2: 단위 | G2: 수량 | H2: 재료비 | J2: 노무비 | M2: 경비 | P2: 계 | Q2: 비고
H3: 단가 | I3: 금액 | J3: 수량 | K3: 단가 | L3: 금액 | M3: 단가 | N3: 금액 | O3: 단가
B4: 공종줄 | D4: 1.전기공사::1-1.전력간선공사
A5: 59753178005 | B5: 00101 | C5: 3913170610045635 | D5: 파상형 폴리에틸렌 전선관 | E5: 80㎜ | F5: m | G5: 453
A6: A0500000000 | B6: 00101 | C6: RENT000000000002 | D6: [ 배관 부속재 ] | E6: 전선관의 15 % | F6: 식 | R6: 제외(내선설비공사에 적용)
A7: 59754877203 | B7: 00101 | C7: 3912171220935652 | D7: 관로구방수장치 | E7: D80 | F7: 조 | G7: 4
A8: E1450287513 | B8: 00101 | C8: 2612162920683892 | D8: 폴리에틸렌 난연케이블 | E8: 0.6/1kv F-CV 1C×120㎟ | F8: m | G8: 1024
A9: E9400177034 | B9: 00101 | C9: 3912143220172048 | D9: 러그단자 | E9: 동관단자 2 HOLE 120 ㎟ | F9: 개 | G9: 8
A10: 56950200520 | B10: 00101 | C10: EAC110160000 | D10: 맨 홀 | E10: 1000x1000x1000 | F10: 식 | G10: 1 | Q10: 제 7호
A11: MM065885812 | B11: 00101 | C11: 391115ZZ701Z0001 | D11: F-CV 120_㎟/1c | E11: 4열 동시포설 | F11: m | G11: 976
A12: MM032697150 | B12: 00101 | C12: 391115ZZ701Z0002 | D12: MCC | E12: L-1 | F12: EA | G12: 1 | Q12: 관급자재
A13: MM032894974 | B13: 00101 | C13: 391115ZZ701Z0003 | D13: MCC설치 | E13: L-1 | F13: EA | G13: 1
A14: ECO20240918 | B14: 00101 | C14: EAZ800030000 | D14: 아스팔트포장 절단 | E14: 일시공량(500m) | F14: 일 | G14: 1 | Q14: 제 18호
A15: ECO20240919 | B15: 00101 | C15: EAZ800040000 | D15: 아스팔트포장 원상복구 | E15: W1000×H50 | F15: m | G15: 110 | Q15: 제 19호
A16: LBY22122401 | B16: 00101 | C16: LBY221224001 | D16: 터파기(기계90%,인력10%) | E16: 보통토사 | F16: ㎥ | G16: 110 | Q16: 제 12호
A17: LBY22122402 | B17: 00101 | C17: LBY221224002 | D17: 되메우기(기계90%,인력10%) | E17: 보통토사 | F17: ㎥ | G17: 89.7 | Q17: 제 13호
A18: 56930220056 | B18: 00101 | C18: ABD102000000 | D18: 모래채우기 | F18: ㎥ | G18: 20.2 | Q18: 제 20호
A19: 56930240130 | B19: 00101 | C19: ABC113000000 | D19: 현장내잔토처리 | E19: 소운반.고르기 | F19: ㎥ | G19: 20.2 | Q19: 제 2호
A20: MM300041324 | B20: 00101 | C20: 3912218220173432 | D20: 경고테프 W:100 | F20: m | G20: 220
A21: PADWS0000004 | B21: 00101 | C21: PADWS0000004 | D21: 폐아스콘 중간처리비 | E21: 순수 폐아스팔트콘크리트 | F21: Ton | G21: 12.9
A22: PADWS0000001 | B22: 00101 | C22: PADWS0000001 | D22: 건설폐기물 상차비 | E22: 중량기준, 중간처리대상 | F22: Ton | G22: 12.9
A23: PADWS0000002 | B23: 00101 | C23: PADWS0000002 | D23: 건설폐기물 운반비 | E23: 15톤 덤프트럭, 30km | F23: Ton | G23: 12.9
A24: A0100000000 | B24: 00101 | C24: RENT000000000003 | D24: [ 소모 잡자재 ] | E24: 전선, 전선관의 2 % | F24: 식 | R24: 제외(내선설비공사에 적용)
A25: 56900017076 | B25: 00101 | C25: L001010101000078 | D25: 노 무 비 | E25: 저압케이블전공 | F25: 인 | G25: 10.204
A26: 56900017117 | B26: 00101 | C26: L001010101000076 | D26: 노 무 비 | E26: 특고압케이블전공 | F26: 인 | G26: 0.11
A27: 56900017031 | B27: 00101 | C27: L001010101000081 | D27: 노 무 비 | E27: 배전전공 | F27: 인 | G27: 3.96
A28: 56900017035 | B28: 00101 | C28: L001010501000116 | D28: 노 무 비 | E28: 변전전공 | F28: 인 | G28: 0
A29: 56900017041 | B29: 00101 | C29: L001010101000002 | D29: 노 무 비 | E29: 보통인부 | F29: 인 | G29: 19.507
A30: 56900017042 | B30: 00101 | C30: L001010101000006 | D30: 노 무 비 | E30: 비계공 | F30: 인 | G30: 0
A31: 56900017015 | B31: 00101 | C31: L001010101000051 | D31: 노 무 비 | E31: 기계설비공 | F31: 인 | G31: 0
D32: 노 무 비 | E32: 내선전공 | F32: 인 | G32: 2.17
A33: A0300000000 | B33: 00101 | C33: RENT000000000006 | D33: [ 공 구 손 료 ] | E33: 노무비의 3 % | F33: 식 | G33: 1
B55: 합계줄 | D55: ( 합 계 )
B56: 공종줄 | D56: 1.전기공사::1-2.동력설비공사
A57: 59750337012 | B57: 00102 | C57: 3913170620935609 | D57: 강제전선관(노출) | E57: 아연도 22 mm | F57: m | G57: 156
A58: 59753097004 | B58: 00102 | C58: 3913170610035666 | D58: 합성수지제 가요전선관 | E58: CD-난연성 28㎜ | F58: m | G58: 1
A59: A0600000000 | B59: 00102 | C59: RENT000000000001 | D59: [ 배관 부속재 ] | E59: CD 전선관의 40 % | F59: 식 | G59: 1
A60: A0500000000 | B60: 00102 | C60: RENT000000000002 | D60: [ 배관 부속재 ] | E60: 전선관의 15 % | F60: 식 | G60: 1
A61: 59753017024 | B61: 00102 | C61: 3913170620174423 | D61: 1종금속제가요전선관 | E61: 22 mm 일반-방수 | F61: m | G61: 223
A62: MM496797030 | B62: 00102 | C62: 3913170620174471 | D62: 1종금속제가요전선관 | E62: 22 mm 고장력-방수 | F62: m | G62: 171
A63: 61455137894 | B63: 00102 | C63: 3912130320175917 | D63: 정션 박스 | E63: 100*100*50 | F63: EA | G63: 4
A64: 59753857021 | B64: 00102 | C64: 3912130310035796 | D64: 풀박스 | E64: 100×100×100 | F64: 개 | G64: 1
A65: 59751817372 | B65: 00102 | C65: 3913170420938583 | D65: Hi-Tec Tray(분체도장) | E65: STRAIGHT, W200x60Hx1.2t | F65: m | G65: 225
A66: 59751817374 | B66: 00102 | C66: 3913170420938585 | D66: Hi-Tec Tray(분체도장) | E66: STRAIGHT, W400x60Hx1.2t | F66: m | G66: 27
A67: 59751817390 | B67: 00102 | C67: 3913170420938612 | D67: Hi-Tec Tray(분체도장) | E67: COVER, W200 | F67: m | G67: 212
A68: 59751817392 | B68: 00102 | C68: 3913170420938614 | D68: Hi-Tec Tray(분체도장) | E68: COVER, W400 | F68: m | G68: 27
... A88: MM300042161 | B88: 00102 | C88: 3913170820176620 | D88: 케이블타이 | E88: 140mm | F88: EA | G88: 41
A89: 56950120022 | B89: 00102 | C89: EAA110120000 | D89: 파이프행가 | E89: 22 C | F89: 식 | G89: 40 | Q89: 제 3호
A90: 56950160200 | B90: 00102 | C90: EAA110420000 | D90: 케이블트레이지지대 | E90: W200-1단 | F90: 식 | G90: 107 | Q90: 제 4호
A91: 56950160400 | B91: 00102 | C91: EAA110440000 | D91: 케이블트레이지지대 | E91: W400-1단 | F91: 식 | G91: 13 | Q91: 제 5호
A92: MM933368902 | B92: 00102 | C92: 391115ZZ701Z0004 | D92: SUS WIRE | E92: 3Φ | F92: m | G92: 20.7
A93: MM032697156 | B93: 00102 | C93: 391115ZZ701Z0021 | D93: 환경제어반 | E93: LCP-1 | F93: EA | G93: 1 | Q93: 관급자재
A94: MM032697157 | B94: 00102 | C94: 391115ZZ701Z0022 | D94: 환경제어반 | E94: LCP-2 | F94: EA | G94: 1 | Q94: 관급자재
A95: MM032697158 | B95: 00102 | C95: 391115ZZ701Z0023 | D95: 환경제어반 | E95: LCP-3 | F95: EA | G95: 1 | Q95: 관급자재
A96: MM032894989 | B96: 00102 | C96: 391115ZZ701Z0024 | D96: 환경제어반설치 | E96: LCP-1 | F96: EA | G96: 1
A97: MM032894990 | B97: 00102 | C97: 391115ZZ701Z0025 | D97: 환경제어반설치 | E97: LCP-2 | F97: EA | G97: 1
A98: MM032894991 | B98: 00102 | C98: 391115ZZ701Z0026 | D98: 환경제어반설치 | E98: LCP-3 | F98: EA | G98: 1
A99: 56959000024 | B99: 00102 | C99: EAZ800020000 | D99: 전선관지지행가 | E99: 22C(벽부형) | F99: 식 | G99: 5 | Q99: 제 9호
A100: A0100000000 | B100: 00102 | C100: RENT000000000003 | D100: [ 소모 잡자재 ] | E100: 전선, 전선관의 2 % | F100: 식 | G100: 1
A101: 56900017016 | B101: 00102 | C101: L001010101000075 | D101: 노 무 비 | E101: 내선전공 | F101: 인 | G101: 128.365
A102: 56900017076 | B102: 00102 | C102: L001010101000078 | D102: 노 무 비 | E102: 저압케이블전공 | F102: 인 | G102: 86.585
A103: A0300000000 | B103: 00102 | C103: RENT000000000006 | D103: [ 공 구 손 료 ] | E103: 노무비의 3 % | F103: 식 | G103: 1
B107: 합계줄 | D107: ( 합 계 )
B108: 공종줄 | D108: 1.전기공사::1-3.열선공사
A109: 59753017024 | B109: 00103 | C109: 3913170620174423 | D109: 1종금속제가요전선관 | E109: 22 mm 일반-방수 | F109: m | G109: 9
A110: 59751817211 | B110: 00103 | C110: 3913170420174047 | D110: 케이블트레이 | E110: STRAIGHT,St W200x100Hx2.3t | F110: m | G110: 65
A111: 59751817333 | B111: 00103 | C111: 3913170420171160 | D111: 케이블트레이 | E111: COVER,St W200 | F111: m | G111: 65
A112: 59754967006 | B112: 00103 | C112: 3913170520175049 | D112: 케이블트레이부속품 | E112: H. ELBOW, St,W200x100Hx2.3t | F112: 개 | G112: 3
A113: 59754967501 | B113: 00103 | C113: 3913170520175118 | D113: 케이블트레이부속품 | E113: JOINT CONNEC.아연도100Hx2.3 | F113: 개 | G113: 41
A114: 59754967521 | B114: 00103 | C114: 3913170520175120 | D114: 케이블트레이부속품 | E114: SHANK BOLT & NUT, 아연도 | F114: 개 | G114: 415
A115: 59754967561 | B115: 00103 | C115: 3913170520175124 | D115: 케이블트레이부속품 | E115: BONDING JUMPER, 35㎟ | F115: 개 | G115: 41
A116: E1450927203 | B116: 00103 | C116: 2612152420683697 | D116: 접지용비닐절연전선(F-GV) | E116: 6㎟ | F116: m | G116: 60
A117: E1450287522 | B117: 00103 | C117: 2612162920683903 | D117: 폴리에틸렌 난연케이블 | E117: 0.6/1kv F-CV 2C×4㎟ | F117: m | G117: 80
A118: E1450287563 | B118: 00103 | C118: 2612162920683945 | D118: 폴리에틸렌 난연케이블 | E118: 0.6/1kv F-CV 4C×6㎟ | F118: m | G118: 57
A119: 56950170113 | B119: 00103 | C119: EAA110630000 | D119: EPS SUPPORT | E119: W200-1단 | F119: 식 | G119: 31 | Q119: 제 6호
A120: MM032697159 | B120: 00103 | C120: 391115ZZ701Z0027 | D120: 히팅코일 | E120: 40W/M | F120: m | G120: 297
A121: MM032697160 | B121: 00103 | C121: 391115ZZ701Z0028 | D121: 히팅코일제어반 | E121: HC-1 | F121: EA | G121: 1 | Q121: 관급자재
A122: MM032697161 | B122: 00103 | C122: 391115ZZ701Z0029 | D122: 히팅코일제어반 | E122: HC-2 | F122: EA | G122: 1 | Q122: 관급자재
A123: MM032894995 | B123: 00103 | C123: 391115ZZ701Z0030 | D123: 히팅코일제어반설치 | E123: HC-1 | F123: EA | G123: 1
A124: MM032894996 | B124: 00103 | C124: 391115ZZ701Z0031 | D124: 히팅코일제어반설치 | E124: HC-2 | F124: EA | G124: 1
A125: A0100000000 | B125: 00103 | C125: RENT000000000003 | D125: [ 소모 잡자재 ] | E125: 전선, 전선관의 2 % | F125: 식 | G125: 1
A126: 56900017016 | B126: 00103 | C126: L001010101000075 | D126: 노 무 비 | E126: 내선전공 | F126: 인 | G126: 30.839
A127: 56900017076 | B127: 00103 | C127: L001010101000078 | D127: 노 무 비 | E127: 저압케이블전공 | F127: 인 | G127: 3.097
A128: A0300000000 | B128: 00103 | C128: RENT000000000006 | D128: [ 공 구 손 료 ] | E128: 노무비의 3 % | F128: 식 | G128: 1
B133: 합계줄 | D133: ( 합 계 )
B134: 공종줄 | D134: 1.전기공사::1-4.접지공사
A135: E1450927209 | B135: 00104 | C135: 2612152420683702 | D135: 접지용비닐절연전선(F-GV) | E135: 50㎟ | F135: m | G135: 8
A136: MM449604035 | B136: 00104 | C136: 2612152420182438 | D136: 전기용 연동연선(BC) | E136: 50㎟ | F136: m | G136: 195
A137: E9400177025 | B137: 00104 | C137: 3912143210033799 | D137: 러그단자 | E137: 동관단자 2 HOLE 50 ㎟ | F137: 개 | G137: 4
A138: 56950220100 | B138: 00104 | C138: EAD110110000 | D138: 접지공사 | E138: 1,2종 | F138: 식 | G138: 8 | Q138: 제 8호
A139: A0100000000 | B139: 00104 | C139: RENT000000000003 | D139: [ 소모 잡자재 ] | E139: 전선, 전선관의 2 % | F139: 식 | G139: 1
A140: 56900017016 | B140: 00104 | C140: L001010101000075 | D140: 노 무 비 | E140: 내선전공 | F140: 인 | G140: 1.52
A141: 56900017076 | B141: 00104 | C141: L001010101000078 | D141: 노 무 비 | E141: 저압케이블전공 | F141: 인 | G141: 0.064
A142: A0300000000 | B142: 00104 | C142: RENT000000000006 | D142: [ 공 구 손 료 ] | E142: 노무비의 3 % | F142: 식 | G142: 1
I144: =TRUNC(G144*H144) -> 0 | L144: =TRUNC(G144*K144) -> 0 | N144: =TRUNC(G144*M144) -> 0 | P144: =SUM(I144,L144,N144) -> 0
I145: =TRUNC(G145*H145) -> 0 | L145: =TRUNC(G145*K145) -> 0 | N145: =TRUNC(G145*M145) -> 0 | P145: =SUM(I145,L145,N145) -> 0
I146: =TRUNC(G146*H146) -> 0 | L146: =TRUNC(G146*K146) -> 0 | N146: =TRUNC(G146*M146) -> 0 | P146: =SUM(I146,L146,N146) -> 0
I147: =TRUNC(G147*H147) -> 0 | L147: =TRUNC(G147*K147) -> 0 | N147: =TRUNC(G147*M147) -> 0 | P147: =SUM(I147,L147,N147) -> 0
I148: =TRUNC(G148*H148) -> 0 | L148: =TRUNC(G148*K148) -> 0 | N148: =TRUNC(G148*M148) -> 0 | P148: =SUM(I148,L148,N148) -> 0
...

Sheet 합산자재
A1: 총줄수-> | B1: 159 | C1: [ 디지털농업 유리온실 전기공사 ] - 합산자재목록
A2: 번호 | B2: … | C2: 코드 | D2: 명 칭 | E2: 규 격 | F2: 단위 | G2: 수량 | H2: 재료비 | I2: 노무비 | J2: 경비 | K2: 지급비 | L2: 계 | M2: 비고
C4: 3913170620935609 | D4: 강제전선관(노출) | E4: 아연도 22 mm | F4: m | H4: =TRUNC(#REF!*옵션!$D$11) -> #REF! | L4: =SUM(H4,I4,J4) -> #REF!
C5: 3913170610034965 | D5: 경질비닐전선관 | E5: HI 16 mm | F5: m | H5: =TRUNC(#REF!*옵션!$D$11) -> #REF! | L5: =SUM(H5,I5,J5) -> #REF!
C6: 3913170610034966 | D6: 경질비닐전선관 | E6: HI 22 mm | F6: m | H6: =TRUNC(#REF!*옵션!$D$11) -> #REF! | L6: =SUM(H6,I6,J6) -> #REF!
C7: 3913170610035664 | D7: 합성수지제 가요전선관 | E7: CD-난연성 16㎜ | F7: m | H7: =TRUNC(#REF!*옵션!$D$11) -> #REF! | L7: =SUM(H7,I7,J7) -> #REF!
C8: 3913170610035665 | D8: 합성수지제 가요전선관 | E8: CD-난연성 22㎜ | F8: m | H8: =TRUNC(#REF!*옵션!$D$11) -> #REF! | L8: =SUM(H8,I8,J8) -> #REF!
C9: 3913170610035666 | D9: 합성수지제 가요전선관 | E9: CD-난연성 28㎜ | F9: m | H9: =TRUNC(#REF!*옵션!$D$11) -> #REF! | L9: =SUM(H9,I9,J9) -> #REF!
C10: 3913170610045635 | D10: 파상형 폴리에틸렌 전선관 | E10: 80㎜ | F10: m | H10: =TRUNC(#REF!*옵션!$D$11) -> #REF! | L10: =SUM(H10,I10,J10) -> #REF!
C11: 3913170620174410 | D11: 1종금속제가요전선관 | E11: 16 mm 일반-비방수 | F11: m | H11: =TRUNC(#REF!*옵션!$D$11) -> #REF! | L11: =SUM(H11,I11,J11) -> #REF!
C12: 3913170620174423 | D12: 1종금속제가요전선관 | E12: 22 mm 일반-방수 | F12: m | H12: =TRUNC(#REF!*옵션!$D$11) -> #REF! | L12: =SUM(H12,I12,J12) -> #REF!
C13: 3913170620174434 | D13: 1종금속제가요전선관 | E13: 커넥터, 16 mm 일반-비방수 | F13: 개 | H13: =TRUNC(#REF!*옵션!$D$11) -> #REF! | L13: =SUM(H13,I13,J13) -> #REF!
C14: 3913170620174471 | D14: 1종금속제가요전선관 | E14: 22 mm 고장력-방수 | F14: m | H14: =TRUNC(#REF!*옵션!$D$11) -> #REF! | L14: =SUM(H14,I14,J14) -> #REF!
C15: 3912171220935652 | D15: 관로구방수장치 | E15: D80 | F15: 조 | H15: =TRUNC(#REF!*옵션!$D$11) -> #REF! | L15: =SUM(H15,I15,J15) -> #REF!
... C82: 3912110220186114 | D82: 세대단자함 | E82: 30A(Main), 5회로 | F82: 개 | H82: =TRUNC(#REF!*옵션!$D$11) -> #REF! | L82: =SUM(H82,I82,J82) -> #REF!
C83: 3912218220173432 | D83: 경고테프 W:100 | F83: m | H83: =TRUNC(#REF!*옵션!$D$11) -> #REF! | L83: =SUM(H83,I83,J83) -> #REF!
C84: 3912170120173494 | D84: 케이블걸이 | E84: 걸이쇠, 2조 | F84: EA | H84: =TRUNC(#REF!*옵션!$D$11) -> #REF! | L84: =SUM(H84,I84,J84) -> #REF!
C85: 3912170120174007 | D85: 케이블받침대 | E85: 75x40x5x750 | F85: EA | H85: =TRUNC(#REF!*옵션!$D$11) -> #REF! | L85: =SUM(H85,I85,J85) -> #REF!
C86: 3912143220171078 | D86: 러그단자 | E86: 동관단자 2 HOLE 10 ㎟ | F86: 개 | H86: =TRUNC(#REF!*옵션!$D$11) -> #REF! | L86: =SUM(H86,I86,J86) -> #REF!
C87: 3912143210033799 | D87: 러그단자 | E87: 동관단자 2 HOLE 50 ㎟ | F87: 개 | H87: =TRUNC(#REF!*옵션!$D$11) -> #REF! | L87: =SUM(H87,I87,J87) -> #REF!
C88: 3912143220172048 | D88: 러그단자 | E88: 동관단자 2 HOLE 120 ㎟ | F88: 개 | H88: =TRUNC(#REF!*옵션!$D$11) -> #REF! | L88: =SUM(H88,I88,J88) -> #REF!
C89: 3913170820176620 | D89: 케이블타이 | E89: 140mm | F89: EA | H89: =TRUNC(#REF!*옵션!$D$11) -> #REF! | L89: =SUM(H89,I89,J89) -> #REF!
C90: 3912140920171333 | D90: 와이어콘넥터 | E90: 6 ㎟ x 2가닥 | F90: 개 | H90: =TRUNC(#REF!*옵션!$D$11) -> #REF! | L90: =SUM(H90,I90,J90) -> #REF!
C91: 3912141320170954 | D91: 볼트형콘넥터 | E91: 접지선서비스, 22-38 ㎟ | F91: 개 | H91: =TRUNC(#REF!*옵션!$D$11) -> #REF! | L91: =SUM(H91,I91,J91) -> #REF!
C92: 3912219520175644 | D92: 지중선용 가선철물 | E92: 맨홀용발판볼트, 200x330 | F92: EA | H92: =TRUNC(#REF!*옵션!$D$11) -> #REF! | L92: =SUM(H92,I92,J92) -> #REF!
C93: 3912219520175645 | D93: 지중선용 가선철물 | E93: 맨홀용 훅크, 100x250 | F93: EA | H93: =TRUNC(#REF!*옵션!$D$11) -> #REF! | L93: =SUM(H93,I93,J93) -> #REF!
C94: 3012169821869019 | D94: 맨홀 | E94: 1000x1000x1000 | F94: 조 | H94: =TRUNC(#REF!*옵션!$D$11) -> #REF! | L94: =SUM(H94,I94,J94) -> #REF!
C95: 3012169821869024 | D95: 핸드홀카바 | E95: 통신용 | F95: 기 | H95: =TRUNC(#REF!*옵션!$D$11) -> #REF! | L95: =SUM(H95,I95,J95) -> #REF!
... C125: 391115ZZ701Z0031 | D125: 히팅코일제어반설치 | E125: HC-2 | F125: EA | H125: =TRUNC(#REF!*옵션!$D$11) -> #REF! | L125: =SUM(H125,I125,J125) -> #REF!
C126: CDE110000100 | D126: 인력터파기/보통토사 | E126: 육상(1m이하)-양호 | F126: m3 | H126: =#REF! -> #REF! | I126: =#REF! -> #REF! | J126: =#REF! -> #REF! | L126: =SUM(H126,I126,J126) -> #REF!
C127: CDE130110000 | D127: 기계터파기/보통토사 | E127: 육상(5m이하)-양호 | F127: m3 | H127: =#REF! -> #REF! | I127: =#REF! -> #REF! | J127: =#REF! -> #REF! | L127: =SUM(H127,I127,J127) -> #REF!
C128: ECA565826042 | D128: 기계터파기 | E128: 보통토사(0.6㎥) | F128: ㎥ | H128: =#REF! -> #REF! | I128: =#REF! -> #REF! | J128: =#REF! -> #REF! | L128: =SUM(H128,I128,J128) -> #REF! | M128: 종합적산661
C129: ECA565826051 | D129: 기계되메우기 | E129: 보통토사(0.6㎥) | F129: ㎥ | H129: =#REF! -> #REF! | I129: =#REF! -> #REF! | J129: =#REF! -> #REF! | L129: =SUM(H129,I129,J129) -> #REF! | M129: 종합적산661
C130: ECA565826048 | D130: 굴삭기 | E130: 0.2㎥ | F130: 분 | H130: =#REF! -> #REF! | I130: =#REF! -> #REF! | J130: =#REF! -> #REF! | L130: =SUM(H130,I130,J130) -> #REF! | M130: 종합적산701
C131: ECA565826044 | D131: 크레인 | E131: 트럭 탑재형 10 Ton | F131: 분 | H131: =#REF! -> #REF! | I131: =#REF! -> #REF! | J131: =#REF! -> #REF! | L131: =SUM(H131,I131,J131) -> #REF! | M131: 종합적산718
C132: ECA565826064 | D132: 살수차 | E132: 1,800ℓ | F132: 분 | H132: =#REF! -> #REF! | I132: =#REF! -> #REF! | J132: =#REF! -> #REF! | L132: =SUM(H132,I132,J132) -> #REF! | M132: 종합적산749
C133: ECA565826049 | D133: 진동롤러(핸드가이드식) | E133: 0.7 TON | F133: 분 | H133: =#REF! -> #REF! | I133: =#REF! -> #REF! | J133: =#REF! -> #REF! | L133: =SUM(H133,I133,J133) -> #REF! | M133: 종합적산711
C134: L001010101000075 | D134: 노 무 비 | E134: 내선전공 | F134: 인 | I134: =TRUNC(#REF!) -> #REF! | L134: =SUM(H134,I134,J134) -> #REF!
C135: L001010101000078 | D135: 노 무 비 | E135: 저압케이블전공 | F135: 인 | I135: =TRUNC(#REF!) -> #REF! | L135: =SUM(H135,I135,J135) -> #REF!
C136: L001010101000076 | D136: 노 무 비 | E136: 특고압케이블전공 | F136: 인 | I136: =TRUNC(#REF!) -> #REF! | L136: =SUM(H136,I136,J136) -> #REF!
C137: L001010101000081 | D137: 노 무 비 | E137: 배전전공 | F137: 인 | I137: =TRUNC(#REF!) -> #REF! | L137: =SUM(H137,I137,J137) -> #REF!
C138: L001010501000116 | D138: 노 무 비 | E138: 변전전공 | F138: 인 | I138: =TRUNC(#REF!) -> #REF! | L138: =SUM(H138,I138,J138) -> #REF!
C139: L001010101000088 | D139: 노 무 비 | E139: 통신외선공 | F139: 인 | I139: =TRUNC(#REF!) -> #REF! | L139: =SUM(H139,I139,J139) -> #REF!
C140: L001010101000002 | D140: 노 무 비 | E140: 보통인부 | F140: 인 | I140: =TRUNC(#REF!) -> #REF! | L140: =SUM(H140,I140,J140) -> #REF!
C141: L001010101000003 | D141: 노 무 비 | E141: 특별인부 | F141: 인 | I141: =TRUNC(#REF!) -> #REF! | L141: =SUM(H141,I141,J141) -> #REF!
C142: L001010101000006 | D142: 노 무 비 | E142: 비계공 | F142: 인 | I142: =TRUNC(#REF!) -> #REF! | L142: =SUM(H142,I142,J142) -> #REF!
C143: L001010101000051 | D143: 노 무 비 | E143: 기계설비공 | F143: 인 | I143: =TRUNC(#REF!) -> #REF! | L143: =SUM(H143,I143,J143) -> #REF!
C144: L001010101000034 | D144: 노 무 비 | E144: 줄눈공 | F144: 인 | I144: =TRUNC(#REF!) -> #REF! | L144: =SUM(H144,I144,J144) -> #REF!
C145: L001010101000001 | D145: 노 무 비 | E145: 작업반장 | F145: 인 | I145: =TRUNC(#REF!) -> #REF! | L145: =SUM(H145,I145,J145) -> #REF!
C146: 391115ZZ701Z0032 | D146: 커터 | E146: 320-400㎜ | F146: hr | H146: =TRUNC(#REF!*옵션!$D$11) -> #REF! | I146: 31547 | J146: 1826 | L146: =SUM(H146,I146,J146) -> #REF!
C147: 391115ZZ701Z0033 | D147: 동력분무기 | E147: 4.85kW | F147: hr | H147: =TRUNC(#REF!*옵션!$D$11) -> #REF! | J147: 237 | L147: =SUM(H147,I147,J147) -> #REF!
C148: 391115ZZ701Z0034 | D148: 작업인건비 | F148: 식 | H148: =TRUNC(#REF!*옵션!$D$11) -> #REF! | L148: =SUM(H148,I148,J148) -> #REF!
C149: 391115ZZ701Z0046 | D149: 아스콘 | E149: #78(표층용) | F149: TON | H149: =TRUNC(#REF!*옵션!$D$11) -> #REF! | L149: =SUM(H149,I149,J149) -> #REF!
C150: 1111170120142525 | D150: 모래 | E150: 서울, 상차도 | F150: ㎥ | H150: =TRUNC(#REF!*옵션!$D$11) -> #REF! | L150: =SUM(H150,I150,J150) -> #REF!
C151: L001010101000200 | D151: 노 무 비 | E151: 포장공 | F151: 인 | I151: =TRUNC(#REF!) -> #REF! | L151: =SUM(H151,I151,J151) -> #REF!
C152: ECA565826200 | D152: 플레이트콤팩터 | E152: 소형 1.5ton급 | F152: 일 | H152: =#REF! -> #REF! | I152: =#REF! -> #REF! | J152: =#REF! -> #REF! | L152: =SUM(H152,I152,J152) -> #REF!
C153: 391115ZZ701Z0048 | D153: 유화아스팔트 | E153: RSC-3, 수동도포 | F153: L | H153: =TRUNC(#REF!*옵션!$D$11) -> #REF! | L153: =SUM(H153,I153,J153) -> #REF!
C154: PADWS0000004 | D154: 폐아스콘 중간처리비 | E154: 순수 폐아스팔트콘크리트 | F154: Ton | J154: =TRUNC(#REF!*옵션!$D$11) -> #REF! | L154: =SUM(H154,I154,J154) -> #REF!
C155: PADWS0000001 | D155: 건설폐기물 상차비 | E155: 중량기준, 중간처리대상 | F155: Ton | J155: =TRUNC(#REF!*옵션!$D$11) -> #REF! | L155: =SUM(H155,I155,J155) -> #REF!
C156: PADWS0000002 | D156: 건설폐기물 운반비 | E156: 15톤 덤프트럭, 30km | F156: Ton | J156: =TRUNC(#REF!*옵션!$D$11) -> #REF! | L156: =SUM(H156,I156,J156) -> #REF!

Sheet 옵션
B1: 재료비 | C1: 노무비 | D1: 경비 | F1: 계
A2: 총 급 액 | B2: =총괄표!I29 -> 0 | C2: =총괄표!L29 -> 0 | D2: =총괄표!N29 -> 0 | F2: =SUM(B2,C2,D2) -> 0
A3: 도급자관급 | B3: =총괄표!I107 -> 0 | C3: =총괄표!L107 -> 0 | D3: =총괄표!N107 -> 0 | F3: =SUM(B3,C3,D3) -> 0 | H3: 금액조정이 안되나요?
F4: =SUM(B4,C4,D4) -> 0
F5: =SUM(B5,C5,D5) -> 0
F6: =SUM(B6,C6,D6) -> 0 | H6: 이지테크에서 변환할 때 2번 옵션을 지정하여 다시 해보세요
F7: =SUM(B7,C7,D7) -> 0
F8: =SUM(B8,C8,D8) -> 0
H9: 시트를 삭제할 때 에러가 뜨면 1번 옵션으로 하면 됩니다.
B10: 적용율(%) | C10: 끝자리 | D10: 적용율(%)/100 | E10: 일위대가소수
A11: 전체자재 적용율(%)(공종/일위대가) | B11: 100 | C11: 1 | D11: =$B$11/100 -> 1
A12: 전체노임 적용율(%)(공종) | B12: 100 | C12: 1 | D12: =$B$12/100 -> 1 | E12: 2 | H12: 2번 옵션으로 변환했을 때에는 결과값이 다를 수 있습니다.
A13: 전체노임 적용율(%)(일위대가) | B13: 100 | C13: 1 | D13: =$B$13/100 -> 1 | E13: 5
A20: *(그룹별 자재 단가 추가 할증)* | B20: 적용율(%) | D20: 적용율(%)/100
A21: Cable(CAB) 할증(%) | B21: =B11 -> 100 | D21: =$B$21/100 -> 1
A22: Wire (WIR) 할증(%) | B22: =B11 -> 100 | D22: =$B$22/100 -> 1
A23: Pipe (PIP) 할증(%) | B23: =B11 -> 100 | D23: =$B$23/100 -> 1
A24: 제 4그룹 할증(%) | B24: =B11 -> 100 | D24: =$B$24/100 -> 1
A25: 제 5그룹 할증(%) | B25: =B11 -> 100 | D25: =$B$25/100 -> 1
A30: *(그룹별 노임 추가 할증)* | B30: 적용율(%) | C30: 자동부속재(전기) | D30: 자동부속재(통신)
A31: 배관부속재(%) | B31: 15 | C31: 15 | D31: 20
A32: CD관부속재(%) | B32: 40 | C32: 40 | D32: 40
A33: 소모잡자재(%) | B33: 2 | H33: 본 파일은 이지테크에서 2번 옵션으로 만들었습니다.
A34: 방폭할증(%)
A35: 고소할증(%) | B35: 2
A36: 공구손료(%) | B36: 3
A40: *(공종별 노임 적용율(%))* | B40: 적용율(%) | C40: 소수자릿수
A41: 1-1. 전력간선공사 | B41: 100 | C41: 3
A42: 1-2. 동력설비공사 | B42: 100 | C42: 3
A43: 1-3. 열선공사 | B43: 100 | C43: 3
A44: 1-4. 접지공사 | B44: 100 | C44: 3
A45: 1-5. 전등설비공사 | B45: 100 | C45: 3
A46: 1-6. 전열설비공사 | B46: 100 | C46: 3
A47: 2-1-1. 전력간선공사 | B47: 100 | C47: 3
A48: 2-1-2. 동력설비공사 | B48: 100 | C48: 3
A49: 2-1-3. 열선공사 | B49: 100 | C49: 3

Sheet 기본산출서
A1: 총줄수-> | B1: 4462 | C1: 1.전기공사::1-1.전력간선공사
B2: 2.0 | F2: 전선관 | G2: 관로구 | H2: 케이블 | I2: 경고테프 | J2: 러그단자 | K2: 맨홀 | L2: 현장잔토 | M2: F-CV120_㎟/1c | N2: MCC | O2: MCC설치 | P2: 모래 | Q2: 아스팔트포장절단 | R2: 아스팔트포장 | S2: 터파기(기계90%,인력10%) | T2: 되메우기(기계90%,인력10%) | U2: 폐아스콘 중간처리비 | V2: 건설폐기물 상차비 | W2: 건설폐기물 운반비
C3: No | D3: 산 출 목 록 / 산 출 수 식 | E3: 단위/계 | F3: (지중) | G3: 방수장치 | H3: F-CV | J3: 동2홀 | K3: 1000 | L3: 소운반 | M3: 4열동시포설 | N3: L-1 | O3: L-1
F4: ELP80c | G4: D80 | H4: 120_㎟/1c | I4: W:100 | J4: 120㎟ | K4: 100x100 | L4: 고르기 | M4: m | N4: EA | O4: EA | P4: 채우기 | Q4: 일시공량(500m) | R4: 소규모포장(W1000xH1000) | S4: 보통토사 | T4: 보통토사 | U4: 순수 폐아스팔트콘크리트 | V4: 중량기준, 중간처리대상 | W4: 15톤 덤프트럭, 30km
D5: ▣ L-S-1 → L-1
C6: 1 | E6: =IF(egTextCal(D6)<>0, egTextCal(D6),"")
D7: F-CV 120_㎟/1c-4(Lead) | H7: 4
C8: 2 | D8: =#REF! -> #REF! | E8: =IF(egTextCal(D8)<>0, egTextCal(D8),"") -> #VALUE! | H8: =IF(E8*H7<>0,E8*H7, ) -> #VALUE! | CC8: =H8 -> #VALUE!
D9: F-CV 120_㎟/1c-4(ELP 80c지중) | F9: 2 | H9: 4
C10: 3 | D10: =#REF! -> #REF! | E10: =IF(egTextCal(D10)<>0, egTextCal(D10),"") -> #VALUE! | F10: =IF(E10*F9<>0,E10*F9, ) -> #VALUE! | H10: =IF(E10*H9<>0,E10*H9, ) -> #VALUE! | CA10: =F10 -> #VALUE! | CC10: =H10 -> #VALUE!
D11: F-CV 120_㎟/1c-4(Tray) | H11: 4
C12: 4 | D12: =#REF! -> #REF! | E12: =IF(egTextCal(D12)<>0, egTextCal(D12),"") -> #VALUE! | H12: =IF(E12*H11<>0,E12*H11, ) -> #VALUE! | CC12: =H12 -> #VALUE!
D13: F-CV 120_㎟/1c;4열 동시포설;m | M13: 1
C14: 5 | D14: =#REF! -> #REF! | E14: =IF(egTextCal(D14)<>0, egTextCal(D14),"") -> #VALUE! | M14: =IF(E14*M13<>0,E14*M13, ) -> #VALUE! | CH14: =M14 -> #VALUE!
D15: 러그단자 동관단자 2 HOLE 120 ㎟ | J15: 1
C16: 6 | D16: =#REF! -> #REF! | E16: =IF(egTextCal(D16)<>0, egTextCal(D16),"") -> #VALUE! | J16: =IF(E16*J15<>0,E16*J15, ) -> #VALUE! | CE16: =J16 -> #VALUE!
D17: MCC설치;L-1;EA | O17: 1
C18: 7 | D18: =#REF! -> #REF! | E18: =IF(egTextCal(D18)<>0, egTextCal(D18),"") -> #VALUE! | O18: =IF(E18*O17<>0,E18*O17, ) -> #VALUE! | CJ18: =O18 -> #VALUE!
D19: MCC;L-1;EA | N19: 1
C20: 8 | D20: =#REF! -> #REF! | E20: =IF(egTextCal(D20)<>0, egTextCal(D20),"") -> #VALUE! | N20: =IF(E20*N19<>0,E20*N19, ) -> #VALUE! | CI20: =N20 -> #VALUE!
D21: 맨 홀 1000x1000x1000 | K21: 1
C22: 9 | D22: =#REF! -> #REF! | E22: =IF(egTextCal(D22)<>0, egTextCal(D22),"") -> #VALUE! | K22: =IF(E22*K21<>0,E22*K21, ) -> #VALUE! | CF22: =K22 -> #VALUE!
D23: 관로구방수장치 D80 | G23: 1
C24: 10 | D24: =#REF! -> #REF! | E24: =IF(egTextCal(D24)<>0, egTextCal(D24),"") -> #VALUE! | G24: =IF(E24*G23<>0,E24*G23, ) -> #VALUE! | CB24: =G24 -> #VALUE!
S25: 1
C26: 11 | S26: =IF(E26*S25<>0,E26*S25, ) -> 0 | CN26: =S26 -> 0
T27: 1
C28: 12 | T28: =IF(E28*T27<>0,E28*T27, ) -> 0 | CO28: =T28 -> 0
L29: 1
C30: 13 | L30: =IF(E30*L29<>0,E30*L29, ) -> 0 | CG30: =L30 -> 0
P31: 1
C32: 14 | P32: =IF(E32*P31<>0,E32*P31, ) -> 0 | CK32: =P32 -> 0
I33: 1
C34: 15 | I34: =IF(E34*I33<>0,E34*I33, ) -> 0 | CD34: =I34 -> 0
C36: 16
D37: 아스팔트포장 절단 일시공량(500m) | Q37: 1
C38: 17 | D38: =#REF! -> #REF! | E38: =IF(egTextCal(D38)<>0, egTextCal(D38),"") -> #VALUE! | Q38: =IF(E38*Q37<>0,E38*Q37, ) -> #VALUE! | CL38: =Q38 -> #VALUE!
D39: 아스팔트포장 소규모포장(W1000xH1000) | R39: 1
C40: 18 | D40: =#REF! -> #REF! | E40: =IF(egTextCal(D40)<>0, egTextCal(D40),"") -> #VALUE! | R40: =IF(E40*R39<>0,E40*R39, ) -> #VALUE! | CM40: =R40 -> #VALUE!
C42: 19
D43: 터파기(기계90%,인력10%) 보통토사 | S43: 1
C44: 20 | D44: =#REF! -> #REF! | E44: =IF(egTextCal(D44)<>0, egTextCal(D44),"") -> #VALUE! | S44: =IF(E44*S43<>0,E44*S43, ) -> #VALUE! | CN44: =S44 -> #VALUE!
D45: 되메우기(기계90%,인력10%) 보통토사 | T45: 1
C46: 21 | D46: =#REF! -> #REF! | E46: =IF(egTextCal(D46)<>0, egTextCal(D46),"") -> #VALUE! | T46: =IF(E46*T45<>0,E46*T45, ) -> #VALUE! | CO46: =T46 -> #VALUE!
F48: 전선관 | G48: 관로구 | H48: 케이블 | I48: 경고테프 | J48: 러그단자 | K48: 맨홀 | L48: 현장잔토 | M48: F-CV120_㎟/1c | N48: MCC | O48: MCC설치 | P48: 모래 | Q48: 아스팔트포장절단 | R48: 아스팔트포장 | S48: 터파기(기계90%,인력10%) | T48: 되메우기(기계90%,인력10%) | U48: 폐아스콘 중간처리비 | V48: 건설폐기물 상차비 | W48: 건설폐기물 운반비
C49: No | D49: 산 출 목 록 / 산 출 수 식 | E49: 단위/계 | F49: (지중) | G49: 방수장치 | H49: F-CV | J49: 동2홀 | K49: 1000 | L49: 소운반 | M49: 4열동시포설 | N49: L-1 | O49: L-1
F50: ELP80c | G50: D80 | H50: 120_㎟/1c | I50: W:100 | J50: 120㎟ | K50: 100x100 | L50: 고르기 | M50: m | N50: EA | O50: EA | P50: 채우기 | Q50: 일시공량(500m) | R50: 소규모포장(W1000xH1000) | S50: 보통토사 | T50: 보통토사
D51: 현장내잔토처리 소운반.고르기 | L51: 1
C52: 1 | D52: =#REF! -> #REF! | E52: =IF(egTextCal(D52)<>0, egTextCal(D52),"") -> #VALUE! | L52: =IF(E52*L51<>0,E52*L51, ) -> #VALUE! | CG52: =L52 -> #VALUE!
D53: 모래채우기 | P53: 1
C54: 2 | D54: =#REF! -> #REF! | E54: =IF(egTextCal(D54)<>0, egTextCal(D54),"") -> #VALUE! | P54: =IF(E54*P53<>0,E54*P53, ) -> #VALUE! | CK54: =P54 -> #VALUE!
D55: 경고테프 W:100 | I55: 1
C56: 3 | D56: =#REF! -> #REF! | E56: =IF(egTextCal(D56)<>0, egTextCal(D56),"") -> #VALUE! | I56: =IF(E56*I55<>0,E56*I55, ) -> #VALUE! | CD56: =I56 -> #VALUE!
D57: 폐아스콘 중간처리비 순수 폐아스팔트콘크리트 | U57: 1
C58: 4 | D58: =#REF! -> #REF! | E58: =IF(egTextCal(D58)<>0, egTextCal(D58),"") -> #VALUE! | U58: =IF(E58*U57<>0,E58*U57, ) -> #VALUE! | CP58: =U58 -> #VALUE!
D59: 건설폐기물 상차비 중량기준, 중간처리대상 | V59: 1
C60: 5 | D60: =#REF! -> #REF! | E60: =IF(egTextCal(D60)<>0, egTextCal(D60),"") -> #VALUE! | V60: =IF(E60*V59<>0,E60*V59, ) -> #VALUE! | CQ60: =V60 -> #VALUE!
D61: 건설폐기물 운반비 15톤 덤프트럭, 30km | W61: 1
C62: 6 | D62: =#REF! -> #REF! | E62: =IF(egTextCal(D62)<>0, egTextCal(D62),"") -> #VALUE! | W62: =IF(E62*W61<>0,E62*W61, ) -> #VALUE! | CR62: =W62 -> #VALUE!
C64: 7
C66: 8
C68: 9
C70: 10
C72: 11
C74: 12
C76: 13
C78: 14
C80: 15
C82: 16
C84: 17
C86: 18
... C90: 20
B91: 산출계 | D91: 소계 | E91: 식 | F91: =SUM(CA6:CA90) -> #VALUE! | G91: =SUM(CB6:CB90) -> #VALUE! | H91: =SUM(CC6:CC90) -> #VALUE! | I91: =SUM(CD6:CD90) -> #VALUE! | J91: =SUM(CE6:CE90) -> #VALUE! | K91: =SUM(CF6:CF90) -> #VALUE! | L91: =SUM(CG6:CG90) -> #VALUE! | M91: =SUM(CH6:CH90) -> #VALUE! | ... W91: =SUM(CR6:CR90) -> #VALUE!
C92: 21 | D92: 소계*(1)[공종]개소 | E92: 1 | F92: =E92*F91 -> #VALUE! | G92: =E92*G91 -> #VALUE! | H92: =E92*H91 -> #VALUE! | I92: =E92*I91 -> #VALUE! | J92: =E92*J91 -> #VALUE! | K92: =E92*K91 -> #VALUE! | L92: =E92*L91 -> #VALUE! | M92: =E92*M91 -> #VALUE! | N92: =E92*N91 -> #VALUE! | O92: =E92*O91 -> #VALUE! | P92: =E92*P91 -> #VALUE! | Q92: =E92*Q91 -> #VALUE! | R92: =E92*R91 -> #VALUE! | S92: =E92*S91 -> #VALUE! | T92: =E92*T91 -> #VALUE! | U92: =E92*U91 -> #VALUE! | V92: =E92*V91 -> #VALUE! | W92: =E92*W91 -> #VALUE!
B93: 공종줄 | C93: 1.전기공사::1-2.동력설비공사
F94: 전선관 | G94: 전선관 | H94: 1종가요 | I94: 1종가요 | J94: Junction | K94: 풀박스 | L94: Hi-Tec | M94: Hi-Tec | N94: Hi-Tec | O94: Hi-Tec | P94: Hi-Tec | Q94: Hi-Tec | R94: Hi-Tec | S94: Hi-Tec | T94: 접지전선 | U94: 접지전선 | V94: 접지전선 | W94: 접지전선 | X94: 접지전선 | Y94: 케이블 | Z94: 케이블 | CA94: 전선관 | CB94: 전선관 | CC94: 1종가요 | CD94: 1종가요 | CE94: Junction | CF94: 풀박스 | CG94: Hi-Tec | CH94: Hi-Tec | CI94: Hi-Tec | CJ94: Hi-Tec | CK94: Hi-Tec | CL94: Hi-Tec | CM94: Hi-Tec | CN94: Hi-Tec | CO94: 접지전선 | CP94: 접지전선 | CQ94: 접지전선 | CR94: 접지전선 | CS94: 접지전선 | CT94: 케이블 | CU94: 케이블 | CV94: 케이블 | CW94: 케이블 | CX94: 케이블 | CY94: 케이블 | CZ94: 난연제어 | DA94: 방우콘 | DB94: 접지 | DC94: 러그단자 | DE94: 파이프 | DF94: 트레이 | DG94: 트레이 | DH94: SUSWIRE | DI94: 전선관
C95: No | D95: 산 출 목 록 / 산 출 수 식 | E95: 단위/계 | F95: (노출) | G95: (KS) | H95: 전선관 | I95: 전선관 | K95: 100x100 | L95: 분체1.2t | M95: 분체1.2t | N95: Tray커버 | O95: Tray커버 | P95: 분체쬬인 | Q95: 분체쬬인 | R95: BONDING | S95: 샹크(ST) | T95: F-GV | U95: F-GV | V95: F-GV | W95: F-GV | X95: F-GV | Y95: F-CV | Z95: F-CV | CA95: (노출) | CB95: (KS) | CC95: 전선관 | CD95: 전선관 | CF95: 100x100 | CG95: 분체1.2t | CH95: 분체1.2t | CI95: Tray커버 | CJ95: Tray커버 | CK95: 분체쬬인 | CL95: 분체쬬인 | CM95: BONDING | CN95: 샹크(ST) | CO95: F-GV | CP95: F-GV | CQ95: F-GV | CR95: F-GV | CS95: F-GV | CT95: F-CV | CU95: F-CV | CV95: F-CV | CW95: F-CV | CX95: F-CV | CY95: F-CV | CZ95: FCVV-SB | DA95: 매입접지 | DB95: 크램프 | DC95: 동2홀 | DD95: SJCT140MM | DE95: 행거 | DF95: 지지대 | DG95: 지지대 | DH95: 3Φ | DI95: 지지행가
F96: ST22c | G96: CD28c | H96: 방수22c | I96: 고방22c | J96: BOX | K96: 100 | L96: W200x60H | M96: W400x60H | N96: 분체W200 | O96: 분체W400 | P96: W200xH60 | Q96: W400xH60 | R96: 점퍼WIRE | S96: 볼트너트 | T96: 2.5_㎟ | U96: 4_㎟ | V96: 6_㎟ | W96: 10_㎟ | X96: 25_㎟ | Y96: 2.5_㎟/2c | Z96: 4_㎟/2c | CA96: ST22c | CB96: CD28c | CC96: 방수22c | CD96: 고방22c | CE96: BOX | CF96: 100 | CG96: W200x60H | CH96: W400x60H | CI96: 분체W200 | CJ96: 분체W400 | CK96: W200xH60 | CL96: W400xH60 | CM96: 점퍼WIRE | CN96: 볼트너트 | CO96: 2.5_㎟ | CP96: 4_㎟ | CQ96: 6_㎟ | CR96: 10_㎟ | CS96: 25_㎟ | CT96: 2.5_㎟/2c | CU96: 4_㎟/2c | CV96: 10_㎟/2c | CW96: 2.5_㎟/3c | CX96: 2.5_㎟/4c | CY96: 6_㎟/4c | CZ96: 1.5_㎟/3c | DA96: 1구250V | DB96: 25㎟ | DC96: 10㎟ | DE96: 22c | DF96: W200 | DG96: W400 | DH96: M | DI96: 22C벽부형
D97: ▣ MCC(L-1) → P-1-1
C98: 1 | E98: =IF(egTextCal(D98)<>0, egTextCal(D98),"")
D99: F-CV 2.5_㎟/3c-1 (E)-2.5_㎟(Lead) | T99: 1
C100: 2 | D100: =#REF! -> #REF! | E100: =IF(egTextCal(D100)<>0, egTextCal(D100),"") -> #VALUE! | T100: =IF(E100*T99<>0,E100*T99, ) -> #VALUE! | CO100: =T100 -> #VALUE!
D101: F-CV 2.5_㎟/3c-1 (E)-2.5_㎟(일반22c) | H101: 1 | T101: 1
C102: 3 | D102: =#REF! -> #REF! | E102: =IF(egTextCal(D102)<>0, egTextCal(D102),"") -> #VALUE! | H102: =IF(E102*H101<>0,E102*H101, ) -> #VALUE! | T102: =IF(E102*T101<>0,E102*T101, ) -> #VALUE! | CC102: =H102 -> #VALUE! | CO102: =T102 -> #VALUE!
D103: F-CV 2.5_㎟/3c-1 (E)-2.5_㎟(ST 22c노출) | F103: 1 | T103: 1
C104: 4 | D104: =#REF! -> #REF! | E104: =IF(egTextCal(D104)<>0, egTextCal(D104),"") -> #VALUE! | F104: =IF(E104*F103<>0,E104*F103, ) -> #VALUE! | T104: =IF(E104*T103<>0,E104*T103, ) -> #VALUE! | CA104: =F104 -> #VALUE! | CO104: =T104 -> #VALUE!
D105: F-CV 2.5_㎟/3c-1(Tray)
C106: 5 | D106: =#REF! -> #REF! | E106: =IF(egTextCal(D106)<>0, egTextCal(D106),"") -> #VALUE!
D107: 2종금속제가요 전선관 비닐 22mm 방수 | I107: 1
C108: 6 | D108: =#REF! -> #REF! | E108: =IF(egTextCal(D108)<>0, egTextCal(D108),"") -> #VALUE! | I108: =IF(E108*I107<>0,E108*I107, ) -> #VALUE! | CD108: =I108 -> #VALUE!
D109: 파이프행가 22 C
C110: 7 | D110: =#REF! -> #REF! | E110: =IF(egTextCal(D110)<>0, egTextCal(D110),"") -> #VALUE!
C112: 8
D113: ▣ MCC(L-1) → P-1-2
C114: 9 | E114: =IF(egTextCal(D114)<>0, egTextCal(D114),"")
D115: F-CV 2.5_㎟/3c-1 (E)-2.5_㎟(Lead) | T115: 1
C116: 10 | D116: =#REF! -> #REF! | E116: =IF(egTextCal(D116)<>0, egTextCal(D116),"") -> #VALUE! | T116: =IF(E116*T115<>0,E116*T115, ) -> #VALUE! | CO116: =T116 -> #VALUE!
D117: F-CV 2.5_㎟/3c-1 (E)-2.5_㎟(일반22c) | H117: 1 | T117: 1
C118: 11 | D118: =#REF! -> #REF! | E118: =IF(egTextCal(D118)<>0, egTextCal(D118),"") -> #VALUE! | H118: =IF(E118*H117<>0,E118*H117, ) -> #VALUE! | T118: =IF(E118*T117<>0,E118*T117, ) -> #VALUE! | CC118: =H118 -> #VALUE! | CO118: =T118 -> #VALUE!
D119: F-CV 2.5_㎟/3c-1 (E)-2.5_㎟(ST 22c노출) | F119: 1 | T119: 1
...

Sheet 사용설명
B1: ** 반드시 다음 사항을 숙지하신 다음 수정 작업을 하십시오 **
A2: 1. | B2: 산출 양식은 공식이 연결되어 있지 않습니다.
B3: 수정 작업은 본 프로그램에서 하신 후 다시 작성(엑셀파일) 하십시오.
A4: 2. | B4: 본 파일의 내용을 인쇄할 경우, 미리보기를 통하여 페이지 절선을 확인 후 인쇄하십시오.
A5: 3. | B5: 페이지 절선이 맞지 않으면 다음을 참고하십시오.
B17: a. 해당시트의 셀 전체를 선택합니다.
B18: b. 행높이를 적절히 가감하면 페이지 절선을 맞출 수 있습니다.
