Workbook

Sheet 표지
B2: 2026년도
A5: 2026년 도유림 산림유역관리사업(가평 제령리) 시공감리용역
B8: ▣ 대 상 지 : | C8: 0 | D8: 경기도 가평군 북면 제령리 산192(대원사 인근)
B11: ▣ 사 업 량 : | D11: 사방댐 | E11: =대상지!G6 -> 2 | F11: 계류 | G11: =대상지!H6 -> 0.6 | H11: 산지 | I11: =대상지!I6 -> 0.5 | K11: (준설2개소 포함)
B14: ▣ 사 업 비 : | D14: ="일금"&NUMBERSTRING(J14,1)&"원정" -> 일금일천오백칠십만사천원정 | J14: =내역!C5 -> 15704000 | M14: 원
A16: 경기도산림환경연구소

Sheet 내역
A1: =표지!A5 -> 2026년 도유림 산림유역관리사업(가평 제령리) 시공감리용역
H2: (단위 : 원)
A3: 주 요 용 역 내 역 | C3: 용 역 금 액 | H3: 비 고
C4: 합 계 | E4: 건설부분 | G4: 건축부분
A5: 합 계 | C5: 15704000 | E5: 15704000 | G5: =SUM(G6:G8) -> 0
A6: 감리용역비 | C6: 14160000 | E6: 14160000 | G6: 0
A7: 손해배상(공제)료 | C7: 117000 | E7: 117000 | G7: 0 | H7: 엔지니어링공제조합 농림부문 (5억원 이하)기본 요율(0.833%) × 80% 적용
A8: 부가가치세 | C8: 1427000 | E8: 1427000 | G8: 0 | H8: 순설계비의10%

Sheet 사방사업 시공감리용역 산출내역
A1: =내역!A1 -> 2026년 도유림 산림유역관리사업(가평 제령리) 시공감리용역
A3: ■ 추정총공사비 : | M3: 원
A5: ■ 공사감리 요율 산출
C6: ◎ 건설부문요율 적용
C7: 구 분 | G7: 감리비 | K7: 합 계
C8: =AA19 -> 5 | D8: 억원 이하 | G8: =SUMIF($AA$15:$AA$22,C8,$AC$15:$AC$22) -> 1.89 | K8: =SUM(G8) -> 1.89
C9: =AA20 -> 10 | D9: 억원 이하 | G9: =SUMIF($AA$15:$AA$22,C9,$AC$15:$AC$22) -> 1.66 | K9: =SUM(G9) -> 1.66
A11: - 산출식 : 공사비가 중간에 있을때 요율은 직선보간법에 의거 산출(제12조)
B13: Y | C13: = | D13: Y1 | E13: - | F13: ( | G13: X | H13: - | I13: X2 | J13: ) ( | K13: Y1 | L13: - | M13: Y2 | N13: )
I14: X1 | J14: - | K14: X2
C15: X | D15: (당해공사금액) | I15: = | J15: =G3 -> 0 | P15: Y | Q15: (당해공사요율) | AA15: 0.5 | AB15: 5천만원 이하 | AC15: 3.02
C16: X1 | D16: (큰금액) | I16: = | J16: =C9*100000000 -> 1000000000 | P16: Y1 | Q16: (작은금액요율) | V16: = | W16: =SUM(G8) -> 1.89 | AA16: 1 | AB16: 1억원 이하 | AC16: 2.85
C17: X2 | D17: (작은금액) | I17: = | J17: =C8*100000000 -> 500000000 | P17: Y2 | Q17: (큰금액요율) | V17: = | W17: =SUM(G9) -> 1.66 | AA17: 2 | AB17: 2억원 이하 | AC17: 2.26
B18: Y | C18: = | D18: =W16 -> 1.89 | F18: - | G18: ( | H18: =G3 -> 0 | M18: - | N18: =J17 -> 500000000 | S18: ) ( | T18: =W16 -> 1.89 | V18: - | W18: =W17 -> 1.66 | Y18: ) | AA18: 3 | AB18: 3억원 이하 | AC18: 2.06
K19: =J16 -> 1000000000 | P19: - | Q19: =J17 -> 500000000 | AA19: 5 | AB19: 5억원 이하 | AC19: 1.89
B20: Y | C20: = | D20: =D18 -> 1.89 | F20: - | G20: =H18-N18 -> -500000000 | L20: x | M20: =T18-W18 -> 0.23 | AA20: 10 | AB20: 10억원 이하 | AC20: 1.66
H21: =K19-Q19 -> 500000000 | AA21: 20 | AB21: 20억원 이하 | AC21: 1.53
B22: Y | C22: = | D22: =D20 -> 1.89 | F22: - | G22: =IF(H21=0,0,ROUNDDOWN(G20*M20/H21,2)) -> -0.23 | J22: = | K22: =D22-G22 -> 2.12 | N22: % | AA22: 30 | AB22: 30억원 이하 | AC22: 1.48
B24: ∴ | C24: =J15 -> 0 | H24: 원 | I24: x | J24: =K22 -> 2.12 | L24: % | M24: = | N24: =ROUNDDOWN(C24*J24/100,0) -> 0 | S24: 원
A26: 2. 보정 : 업무 특성에 따른 난이도를 감안하여 상기 감리비의 | S26: 100 | U26: %를 적용함.
A27: - | B27: =N24 -> 0 | F27: × | G27: =S26 -> 100 | I27: % = | J27: =ROUNDDOWN(B27*G27/100,-4) -> 0 | N27: 원
A30: 3. 산출소계 : | H30: =J27 -> 0 | L30: 원
A33: ="※ 감리용역비 : 일금"&NUMBERSTRING(R33,1)&"원정" -> ※ 감리용역비 : 일금영원정 | Q33: ( | W33: )

Sheet 손해배상료 산출내역
A1: =표지!A5 -> 2026년 도유림 산림유역관리사업(가평 제령리) 시공감리용역
A3: □ 엔지니어링 손해배상료 산출 내역
A5: ① 1단계 공제 | B5: =SUM('사방사업 시공감리용역 산출내역'!R33:V33) -> 0 | C5: × | D5: 0.00833 | E5: × | F5: 0.8 | G5: = | H5: =ROUNDDOWN(B5*D5*F5,-1) -> 0
D6: ※ 엔지니어링 손해배상공제 요율표 농림부문 적용, 시공감리는 요율의 80% 적용
A8: ② 2단계 공제 | B8: =SUM('사방사업 시공감리용역 산출내역'!R33:V33) -> 0 | C8: × | D8: 0.0016 | E8: = | H8: =ROUNDDOWN(B8*D8,-1) -> 0
A10: □ 손해배상(공제)료 | G10: ① + ② = | H10: =ROUNDDOWN(H5+H8,-3) -> 0
H11: (천원미만 절사)

Sheet 첨부) 엔지니어링사업대가기준
A1: 참고) 엔지니어링사업대가의 기준
A2: (산업통상자원부 고시 제2024-217호, 20241231)
A4: <별표1>

Sheet 대상지
A1: =표지!A5 -> 2026년 도유림 산림유역관리사업(가평 제령리) 시공감리용역
K2: (단위 : 원)
A3: □ 대상지 내역
A4: 공구명 | B4: 시군 | C4: 읍면 | D4: 리동 | E4: 지번 | F4: 개소수 | G4: 사업량 | J4: 공사비 | K4: 비고
G5: 사방댐 | H5: 계류 | I5: 산지
A6: 계 | G6: =SUM(G7:G13) -> 2 | H6: =SUM(H7:H13) -> 0.6 | I6: =SUM(I7:I13) -> 0.5
A7: 산림유역 관리사업 | B7: 가평군 | C7: 북면 | D7: 제령리 | E7: 산192 | F7: 1 | G7: 2 | H7: 0.6 | I7: 0.5 | K7: 준설2개소 포함

Sheet 첨부) 엔지니어링 손해배상공제 요율표
A1: 참고) 엔지니어링손해배상공제
A2: (엔지니어링손해배상공제 의무가입제도 안내서, 엔지니어링공제)
