Workbook
Name ___FLG2: #REF!
Name ___FLG3: #REF!
Name ___hun1: [1]Sheet1!#REF!
Name ___hun2: [1]Sheet1!#REF!
Name ___IU69997: #REF!
Name ___IU79997: #REF!
Name ___IV65999: #REF!
Name ___IV67999: #REF!
Name ___IV68999: #REF!
Name ___IV69999: #REF!
Name ___IV88888: #REF!
Name ___IV99999: #REF!
Name ___IV999999: #REF!
Name ___JK7: #REF!
Name ___JK8: #REF!
Name ___JL1: #REF!
Name ___JL2: #REF!
Name ___LAB5: #REF!
Name ___PH2: '[2]기둥(원형)'!#REF!
Name ___PNO10: [3]INPUT!#REF!
Name ___PNO3: [3]INPUT!#REF!
Name ___PNO4: [3]INPUT!#REF!
Name ___PNO5: [3]INPUT!#REF!
Name ___PNO6: [3]INPUT!#REF!
Name ___PNO7: [3]INPUT!#REF!
Name ___PNO8: [3]INPUT!#REF!
Name ___PNO9: [3]INPUT!#REF!
Name ___px1: #REF!
Name ___px2: #REF!
Name ___qs1: [1]Sheet1!#REF!
Name ___qs12: [1]Sheet1!#REF!
Name ___qs2: [1]Sheet1!#REF!
Name ___qs22: [1]Sheet1!#REF!
Name ___RD1: #REF!
Name ___RD2: #REF!
Name ___RD3: #REF!
Name ___RD4: #REF!
Name ___RD6: #REF!
Name ___RD7: #REF!
Name ___RL1: #REF!
Name ___RL2: #REF!
Name ___RL3: #REF!
Name ___RL4: #REF!
Name ___RL5: #REF!
Name ___RL6: #REF!
Name ___RL7: #REF!
Name ___SL5: '[4]02 SLAB'!#REF!
Name ___SL6: '[4]02 SLAB'!#REF!
Name ___SM400: [5]물가시세!#REF!
Name ___stp1: #REF!
Name ___stp10: #REF!
Name ___stp100: #REF!
Name ___stp101: #REF!
Name ___stp102: #REF!
Name ___stp103: #REF!
Name ___stp104: #REF!
Name ___stp105: #REF!
Name ___stp106: #REF!
Name ___stp107: #REF!
Name ___stp108: #REF!

Sheet 표지
A5: ='1.갑지'!A4 -> 2027년 남양주, 가평 도로시설물 보수공사 실시설계용역
F10: 2026. 7.
A17: 경기도 건설본부

Sheet 1.갑지
B1: 과장 | E1: 팀장 | H1: 심사자 | K1: 설계자
A4: 2027년 남양주, 가평 도로시설물 보수공사 실시설계용역
H9: 총 용 역 금 액 | J9: ='3.내역서'!F17 -> 135916000
H11: 1. 공 급 가 액 | J11: ='3.내역서'!F14+'3.내역서'!F15 -> 123560000
H13: 2. 부가가치세 | J13: ='3.내역서'!F16 -> 12356000

Sheet 2.예정공정표
A1: 예 정 공 정 표
A3: 공기 공정 | B3: 공 정 기 간(360일) | J3: 비고
B4: 30일 | C4: 60일 | D4: 80일 | E4: 150일 | F4: 180일 | G4: 240일 | H4: 290일 | I4: 360일
A5: 1. 현장조사 기획
A6: 2. 안전점검 자료 분석
A7: 3. 대상구조물 현장조사
A8: 4. 실시설계 수량 산정
A9: 5. 공법심의 및 계약심사
A10: 6. 보고서 및 도면작성
A11: 7. 성과품 제출

Sheet 3.내역서
A1: 설 계 예 산 서
A2: ='1.갑지'!A4 -> 2027년 남양주, 가평 도로시설물 보수공사 실시설계용역
A3: 공 종 | B3: 규 격 | C3: 수량 | D3: 단위 | E3: 총 계 | G3: 재료비 | I3: 노무비 | K3: 경비 | M3: 비 고
E4: 단 가 | F4: 금 액 | G4: 단 가 | H4: 금 액 | I4: 단 가 | J4: 금 액 | K4: 단 가 | L4: 금 액
A5: 1. 실시설계비 | C5: 1 | D5: 식 | F5: =J5 -> 119500000 | H5: 0 | J5: ='4.대가산출근거'!I14 -> 119500000 | L5: 0
A6: 2. 추가조사비 | C6: 1 | D6: 식 | F6: =SUM(F7:F10) -> 3223912 | H6: =SUM(H7:H10) -> 153000 | J6: =SUM(J7:J10) -> 0 | L6: =SUM(L7:L10) -> 3070912
A7: 가-1)교량점검차 | C7: ='8.개략공사비'!I5 -> 2 | D7: 일 | E7: =G7+I7+K7 -> 1535456 | F7: =H7+J7+L7 -> 3070912 | K7: =ROUNDDOWN('5.점검차량운전경비'!I27, 0) -> 1535456 | L7: =C7*K7 -> 3070912
A8: 가-2)교량고소차 | C8: ='8.개략공사비'!J5 -> 0 | D8: 일 | E8: =G8+I8+K8 -> 1110136 | F8: =H8+J8+L8 -> 0 | K8: {='5.점검차량운전경비'!I30:J30} -> 1110136 | L8: 0
A9: 나)코어채취 | C9: 0 | D9: 개 | E9: =G9+I9+K9 -> 91050 | F9: =H9+J9+L9 -> 0 | G9: ='9.추가조사비(일위대가표)'!H6 -> 7140 | H9: =C9*G9 -> 0 | I9: ='9.추가조사비(일위대가표)'!J6 -> 82265 | J9: =C9*I9 -> 0 | K9: ='9.추가조사비(일위대가표)'!L6 -> 1645 | L9: =C9*K9 -> 0
A10: 다)인쇄비 | D10: 식 | F10: =SUM(F12:F13) -> 153000 | G10: =SUM(G12:G13) -> 51000 | H10: =SUM(H12:H13) -> 153000
A11: a. 보고서 | C11: 3 | D11: 부 | F11: =H11 -> 42000 | G11: ='4.대가산출근거'!E45 -> 14000 | H11: =C11*G11 -> 42000
A12: b. 설계서 | C12: 3 | D12: 부 | F12: =H12 -> 66000 | G12: ='4.대가산출근거'!E55 -> 22000 | H12: =C12*G12 -> 66000
A13: c. 설계도면 | C13: 3 | D13: 부 | F13: =H13 -> 87000 | G13: ='4.대가산출근거'!E66 -> 29000 | H13: =C13*G13 -> 87000
A14: 공급가액 | F14: =ROUNDDOWN(SUM(F5,F6),-4) -> 122720000 | H14: =H5+H6 -> 153000 | J14: =J5+J6 -> 119500000 | L14: =L5+L6 -> 3070912 | O14: =L14+J14+H14 -> 122723912
A15: 3. 손해배상보험료 | B15: ='4.대가산출근거'!B83/100 -> 0.00684 | C15: 1 | D15: 식 | F15: =ROUNDUP((F14*B15),-4) -> 840000
A16: 부가가치세 | C16: 10 | D16: % | F16: =INT((F14+F15)*0.1) -> 12356000
A17: 도급예정액 | F17: =ROUNDDOWN((F14+F15+F16), -3) -> 135916000 | G17: (천단위절사)

Sheet 4.대가산출근거
A1: ='1.갑지'!A4 -> 2027년 남양주, 가평 도로시설물 보수공사 실시설계용역
L2: 인쇄비용 | M2: 12150 | N2: 5150
A3: - 엔지니어링 사업대가의 실시설계 요율을 적용 | L3: 단위매수 | M3: 50
A4: - 대가기준은 공사비요율에 의한 방식을 적용 | L4: 인쇄매수 | M4: 150 | N4: 100
L5: 간지가격 | M5: 15
A6: 1. 실시설계비용 산출(엔지니어링 사업대가기준 제12조 적용) | L6: 제본가격 | M6: 1.683 | N6: =M6*2 -> 3.366
A7: ※ 별표 1에 의한 업무별 요율을 직선비례식에 의하여 산출
A8: ■ 설계비용 산출
A10: 당해공사비율(y) = y1 - | E10: (x - x2) (y1 - y2)
E11: x1 - x2
L12: =$H$14*$C$14/100 -> 1.1954922e+08
A13: 시 설 명 | C13: 공급가액(x) | D13: 큰금액(x1) | E13: 작은금액(x2) | F13: 작은금액요율(y1) | G13: 큰금액요율(y2) | H13: 당해공사비율(y) | I13: 설계비용 | J13: 비 고
A14: 도로구조물 보수보강공사 | C14: ='8.개략공사비'!H5*1000 -> 2218298980 | D14: ='6.용역설계비요율(별표1)'!A11 -> 3000000000 | E14: ='6.용역설계비요율(별표1)'!A10 -> 2000000000 | F14: ='6.용역설계비요율(별표1)'!B10 -> 5.47 | G14: ='6.용역설계비요율(별표1)'!B11 -> 5.1 | H14: =$F$14-((($C$14-$E$14)*($F$14-$G$14))/($D$14-$E$14)) -> 5.3892294 | I14: =ROUNDDOWN(C14*H14/100,-5) -> 119500000
L15: =4.03+(((200000000)*(4.43-4.03))/(4.43-4.03)) -> 2e+08
A18: 2. 추가업무비용(엔지니어링 사업대가기준 제17조 적용)
A19: (1) 인쇄비
A20: ① 보 고 서
A21: - 규 격 : 국배판(10절)
A22: - 지 질 : 백상지
A23: - 글자크기 : 10포인트
A24: - 면 수 : 본문면수 50면, 표지 5부, 간지 5매/부
A25: ② 내 역 서
A26: - 규 격 : 국배판(10절)
A27: - 지 질 : 백상지
A28: - 글자크기 : 10포인트
A29: - 면 수 : 본문면수 200면, 표지 10부, 간지 10매/부
... A37: a. 보고서
A38: - 본문인쇄 : | B38: (경인쇄 기준요금 - 조판생략감액) ÷ 50면 | L38: 인쇄비 2010년 1월 거래가격
B39: ( 12,150 - 5,150 ) | D39: ="÷ "&M3&" 면 =" -> ÷ 50 면 = | E39: =(M2-N2)/M3 -> 140
B40: =E39 -> 140 | D40: ="× "&N4&" 면 =" -> × 100 면 = | E40: =B40*N4 -> 14000
A41: - 표 지 : | B41: 10절 책자 5매 가격
B42: =B40 -> 140 | D42: ="× "&5&" 면 =" -> × 5 면 = | E42: =B42*5 -> 700
A43: - 간 지 : | B43: =M5 -> 15 | D43: =D42 -> × 5 면 = | E43: =B43*5 -> 75
A44: - 제 본 : | B44: =M6 -> 1.683 | D44: =D40 -> × 100 면 = | E44: =ROUNDDOWN(M6*N4,0) -> 168
A45: 소 계 : | E45: =SUM(E40:E44)-943 -> 14000
A47: a. 내역서
A48: - 본문인쇄 : | B48: (경인쇄 기준요금 - 조판생략감액) ÷ 50면
B49: ( 12,150 - 5,150 ) | D49: ="÷ "&M3&" 면 =" -> ÷ 50 면 = | E49: =(M2-N2)/M3 -> 140
B50: =E49 -> 140 | D50: ="× "&M4&" 면 =" -> × 150 면 = | E50: =B50*M4 -> 21000
A51: - 표 지 : | B51: 10절 책자 5매 가격
...

Sheet 5.점검차량운전경비
A1: 점검차량 운전경비 산출내역
A3: ○ 1일 노임단가 | C3: 건설기계운전사 : | E3: 283297 | F3: 원/일 | G3: 1/8 * 16/12 * 25/20 = | I3: =INT(E3*(1/8)*(16/12)*(25/20)) -> 59020 | J3: 원/시간
A4: (2026년 상반기) | C4: 건설기계조장 : | E4: 210909 | F4: 원/일 | G4: 1/8 * 16/12 * 25/20 = | I4: =INT(E4*(1/8)*(16/12)*(25/20)) -> 43939 | J4: 원/시간
C5: 화물차 운전사 : | E5: 238936 | F5: 원/일 | G5: 1/8 * 16/12 * 25/20 = | I5: =INT(E5*(1/8)*(16/12)*(25/20)) -> 49778 | J5: 원/시간
A7: ○ 경유 1ℓ당 | C7: 1657 | D7: 원/ℓ (부가가치세 별도)
A9: 1) 손료내역
A10: 장비명 | C10: 가격(천원) | E10: 내용시간 | F10: 연간표준 가동시간 | G10: 상각비율 | H10: 정비비율 | I10: 관리비율 | J10: 시간당 | N10: 시산당손료(원) | P10: 비 고
J11: 상각비계수 | K11: 정비비계수 | L11: 관리비계수 | M11: 계
A12: 교량점검차 (굴절차 22m) | C12: 410007 | E12: 7000 | F12: 1000 | G12: 0.9 | H12: 0.25 | I12: 0.14 | J12: 1286 | K12: 357 | L12: 955 | M12: =J12+K12+L12 -> 2598 | N12: =INT(C12*M12*10^-4) -> 106519 | P12: 트럭크레인(22m)
A13: 교량점검차 (굴절차 15m) | C13: 380000 | E13: 7000 | F13: 1000 | G13: 0.9 | H13: 0.25 | I13: 0.14 | J13: 1286 | K13: 357 | L13: 955 | M13: =J13+K13+L13 -> 2598 | N13: =INT(C13*M13*10^-4) -> 98724 | P13: 트럭크레인(15m)
A14: 교량점검차 (다굴절차) | C14: 530000 | E14: 9800 | F14: 1200 | G14: 0.9 | H14: 0.7 | I14: 0.14 | J14: 918 | K14: 714 | L14: 707 | M14: 2339 | N14: =INT(C14*M14*10^-4) -> 123967 | P14: 트럭크레인 (Basket형)
A15: 교량점검차 (고소차 5톤) | C15: 276238 | E15: 9800 | F15: 890 | G15: 0.9 | H15: 0.25 | I15: 0.14 | J15: 1286 | K15: 357 | L15: 955 | M15: =J15+K15+L15 -> 2598 | N15: =INT(C15*M15*10^-4) -> 71766 | P15: 5ton
A17: 2) 운전경비내역
A18: 장비명 | C18: 규격 | E18: 운전경비 | K18: 인건비 | N18: 소계 | O18: 시간당 손료 | P18: 합계 (시간당)
E19: 주연료(경유ℓ ) | H19: 잡품 | I19: 주연료의 (%) | J19: 계 | K19: 조정원 (기사) | L19: 조수 | M19: 조장
E20: 수량 | F20: 단가 | G20: 금액
A21: 교량점검차 | C21: (굴절차 22m) | E21: 7.7 | F21: =C7 -> 1657 | G21: =INT(E21*F21) -> 12758 | H21: =INT(G21*0.38) -> 4848 | I21: (38%) | J21: =G21+H21 -> 17606 | K21: =I3 -> 59020 | L21: =I6 -> 0 | M21: =INT(I4*0.2) -> 8787 | N21: =J21+K21+L21+M21 -> 85413 | O21: =N12 -> 106519 | P21: =N21+O21 -> 191932
A22: 교량점검차 | C22: (굴절차 15m) | E22: 7.7 | F22: =F21 -> 1657 | G22: =INT(E22*F22) -> 12758 | H22: =INT(G22*0.38) -> 4848 | I22: (38%) | J22: =G22+H22 -> 17606 | K22: =I3 -> 59020 | L22: =I6 -> 0 | M22: =M21 -> 8787 | N22: =J22+K22+L22+M22 -> 85413 | O22: =N13 -> 98724 | P22: =N22+O22 -> 184137
A23: 교량점검차 | C23: (다굴절차) | E23: 7.7 | F23: =F22 -> 1657 | G23: =INT(E23*F23) -> 12758 | H23: =INT(G23*0.38) -> 4848 | I23: (38%) | J23: =G23+H23 -> 17606 | K23: =I3 -> 59020 | L23: =I6 -> 0 | M23: =M22 -> 8787 | N23: =J23+K23+L23+M23 -> 85413 | O23: =N14 -> 123967 | P23: =N23+O23 -> 209380
A24: 교량점검차 | C24: (고소차 5톤) | E24: 7.7 | F24: =F23 -> 1657 | G24: =INT(E24*F24) -> 12758 | H24: =INT(G24*0.35) -> 4465 | I24: (35%) | J24: =G24+H24 -> 17223 | K24: =I5 -> 49778 | N24: =J24+K24+L24+M24 -> 67001 | O24: =N15 -> 71766 | P24: =N24+O24 -> 138767
A26: 3) 운전경비내역(일당)
A27: 교량점검차(굴절차 22m) : | D27: =P21 -> 191932 | E27: X | F27: 8 | G27: 시간/일 | H27: = | I27: =INT(D27*F27) -> 1535456 | K27: 원/일
A28: 교량점검차(굴절차 15m) : | D28: =P22 -> 184137 | E28: X | F28: 8 | G28: 시간/일 | H28: = | I28: =INT(D28*F28) -> 1473096 | K28: 원/일
A29: 교량점검차(다굴절차) : | D29: =P23 -> 209380 | E29: X | F29: 8 | G29: 시간/일 | H29: = | I29: =INT(D29*F29) -> 1675040 | K29: 원/일
A30: 교량점검차(고소차 5톤) : | D30: =P24 -> 138767 | E30: X | F30: 8 | G30: 시간/일 | H30: = | I30: =INT(D30*F30) -> 1110136 | K30: 원/일

Sheet 6.용역설계비요율(별표1)
A1: □ 용역 설계비 요율적용 기준(엔지니어링사업대가 기준 별표1)
A2: 요 율(%) | B2: 적용 | C2: 기본설계 | D2: 실시설계 | E2: 비고
A3: 공 사 비(원) | B3: =IF(K4=1,C2,IF(K4=2,D2,IF(K4=3,E2,"수정하시요"))) -> 실시설계
H4: 기본설계 | I4: 1 | J4: 공사종류선택 | K4: 2
H5: 실시설계 | I5: 2
H6: 공사감리 | I6: 3
H8: 엔지니어링 공제조합 2017년 적용(산업통상자원부 고시 제2017-067(2017.05.15)호)
A9: 1000000000 | B9: =IF($K$4=1,C9,IF($K$4=2,D9,IF($K$4=3,E9,"수정하시요"))) -> 6.16 | C9: 3.78 | D9: 6.16 | E9: 10억원까지
A10: 2000000000 | B10: =IF($K$4=1,C10,IF($K$4=2,D10,IF($K$4=3,E10,"수정하시요"))) -> 5.47 | C10: 3.33 | D10: 5.47 | E10: 20억원까지
A11: 3000000000 | B11: =IF($K$4=1,C11,IF($K$4=2,D11,IF($K$4=3,E11,"수정하시요"))) -> 5.1 | C11: 3.1 | D11: 5.1 | E11: 30억원까지
A12: 5000000000 | B12: =IF($K$4=1,C12,IF($K$4=2,D12,IF($K$4=3,E12,"수정하시요"))) -> 4.67 | C12: 2.82 | D12: 4.67 | E12: 50억원까지
A13: 10000000000 | B13: =IF($K$4=1,C13,IF($K$4=2,D13,IF($K$4=3,E13,"수정하시요"))) -> 4.15 | C13: 2.49 | D13: 4.15 | E13: 100억원까지
A14: 20000000000 | B14: =IF($K$4=1,C14,IF($K$4=2,D14,IF($K$4=3,E14,"수정하시요"))) -> 3.68 | C14: 2.2 | D14: 3.68 | E14: 200억원까지
A15: 30000000000 | B15: =IF($K$4=1,C15,IF($K$4=2,D15,IF($K$4=3,E15,"수정하시요"))) -> 3.43 | C15: 2.04 | D15: 3.43 | E15: 300억원까지
A16: 50000000000 | B16: =IF($K$4=1,C16,IF($K$4=2,D16,IF($K$4=3,E16,"수정하시요"))) -> 3.15 | C16: 1.86 | D16: 3.15 | E16: 500억원까지

Sheet 7.손해배상
A1: 손해배상보험 공제요율
N5: 엔지니어링 공제조합
N6: https://www.egic.co.kr/e/hp/business/deductFee.do

Sheet 8.개략공사비
A1: 시설물별 개략사업비
H2: 2026년 상반기 정기점검(26년도 보수대상 제외, 정밀점검 포함)
A3: 연번 | B3: 시설물명 | C3: 위치 | D3: 연장 | E3: 준공 년도 | F3: 종별 | G3: 보수 필요항목 | H3: 개략공사비 | I3: 200m이상 1,2종 교량중 필요 구간
H4: (천원) | I4: 점검차 | J4: 고소차
H5: =SUM(H6:H58) -> 2218299 | I5: =SUM(I6:I58) -> 2 | J5: =SUM(J6:J58) -> 0
A6: 5 | B6: 신포교 | C6: 가평군 설악면 신천리 843 | D6: 46 | E6: 1998 | F6: 3종 | G6: 소파보수, 표면보수, 단면보수, 재도장, 주입보수, 단면보수(방청) | H6: 21212.185
A7: 6 | B7: 대성3교 | C7: 가평군 청평면 대성리 산176-4 | D7: 55 | E7: 2005 | F7: 3종 | G7: 재도장, 거푸집제거, 표면보수, 단면보수, 단면보수(방청), 주입보수, 유도배수관 설치, 볼트 재체결 | H7: 13307.01
A8: 7 | B8: 두밀교 | C8: 가평군 가평읍 하색리 824 | D8: 34 | E8: 1994 | F8: 3종 | G8: 표면보수, 단면보수 | H8: 3785.85
A9: 8 | B9: 강씨봉교 | C9: 가평군 북면 적목리 산92 | D9: 70 | E9: 2011 | F9: 3종 | G9: 물끊기공 재설치, 단면보수, 재도장, 표면보수 | H9: 3020.8
A10: 9 | B10: 명화교 | C10: 가평군 북면 도대리 540 | D10: 42 | E10: 2003 | F10: 3종 | G10: 표면보수, 단면보수 | H10: 453.6
A11: 10 | B11: 신상교 | C11: 가평군 조종면 신상리 809 | D11: 117 | E11: 2013 | F11: 2종 | G11: 표면보수, 재도장, 단면보수, 호안사석 찰쌓기 | H11: 12928.375
A12: 11 | B12: 적목1교 | C12: 가평군 북면 적목리 731 | D12: 65 | E12: 2014 | F12: 3종 | G12: 단면보수, 유도배수관 설치, 표면보수 | H12: 853.85
A13: 12 | B13: 적목2교 | C13: 가평군 북면 적목리 731 | D13: 83.335 | E13: 2016 | F13: 기타 | G13: 표면보수, 단면보수, 재도장, 주입보수 | H13: 5266.63
A14: 13 | B14: 노체교 | C14: 가평군 조종면 운악리 578 | D14: 78 | E14: 1992 | F14: 3종 | G14: 단면보수(방청), 단면보수, 표면보수, 재도장, 주입보수 | H14: 3259.9
A15: 14 | B15: 상동교 | C15: 가평군 상면 태봉리 721 | D15: 27 | E15: 1985 | F15: 3종 | G15: 표면보수, 단면보수, 단면보수(방청), 재도장 | H15: 11075.6
A16: 16 | B16: 역말교 | C16: 가평군 조종면 현리 631 | D16: 46 | E16: 1989 | F16: 3종 | G16: 주입보수, 단면보수, 표면보수, 재설치, 단면보수(방청), 소파보수 | H16: 49724.66
A17: 17 | B17: 남종교 | C17: 가평군 북면 소법리 627-39 | D17: 52 | E17: 1994 | F17: 3종 | G17: 단면보수, 단면보수(방청), 표면보수, 주입보수 | H17: 42167.1
... A43: 45 | B43: 성지교 | C43: 남양주시 오남읍 오남리 864-1 | D43: 160 | E43: 2013 | F43: 1종 | G43: 표면보수, 재도장, 실링재 보수, 단면보수 | H43: 32541
A44: 46 | B44: 양수대교 | C44: 양평군 양서면 양수리 868 | D44: 600 | E44: 2015 | F44: 1종 | G44: 그레이팅 재설치, 재체결, 표면보수, 재도장, 단면보수 | H44: 977191 | I44: 1
A45: 47 | B45: 장현대교 | C45: 남양주시 진접읍 장현리 265-51 | D45: 130 | E45: 1998 | F45: 2종 | G45: 표면보수, 단면보수, 단면보수(방청), 청소, 주입보수, 소파보수, 재설치 | H45: 7708
A46: 48 | B46: 삼화교1 | C46: 남양주시 와부읍 월문리 317-13 | D46: 30 | E46: 1992 | F46: 3종 | G46: 표면보수, 단면보수, 우레탄방수, 단면보수(방청), 재도장, 신축이음 교체, 배수관 재설치 | H46: 29895
A47: 49 | B47: 연평대교 | C47: 남양주시 진접읍 연평리 134-12 | D47: 76.8 | E47: 2011 | F47: 3종 | G47: 표면보수, 단면보수(방청), 단면보수, 신축이음 재설치, 주입보수, 그레이팅 재설치 | H47: 102377
A48: 50 | B48: 신촌교1 | C48: 남양주시 수동면 입석리 95-1 | D48: 64 | E48: 1998 | F48: 3종 | G48: 단면보수, 소파보수, 배수관 재설치 | H48: 1532
A49: 51 | B49: 가곡교 | C49: 남양주시 화도읍 가곡리 98-18 | D49: 24 | E49: 1990 | F49: 3종 | G49: 표면보수, 단면보수(방청), 재도장, 재설치, 소파보수 | H49: 15184
A50: 52 | B50: 가양교 | C50: 남양주시 수동면 수산리 1-18 | D50: 36 | E50: 1991 | F50: 3종 | G50: 표면보수, 단면보수(방청), 주입보수, 단면보수 | H50: 7850
A51: 53 | B51: 수동교 | C51: 남양주시 수동면 운수리 93-1 | D51: 50.1 | E51: 1990 | F51: 3종 | G51: 단면보수, 재설치, 청소 | H51: 47600
A52: 54 | B52: 남양주생태통로 | C52: 남양주시 진접읍 연평리 산32-24 | D52: 30 | E52: 2013 | F52: 기타 | G52: 표면보수, 주입보수, 단면보수, 실링재 재설치 | H52: 27082
A53: 55 | B53: 용신지하차도 | C53: 남양주시 진건읍 신월리 51-18 | D53: 620 | E53: 2011 | F53: 2종 | G53: 실링재 보수, 단면보수, 표면보수, 소파보수 | H53: 25936
A54: 56 | B54: 용정2교 | C54: 남양주시 진건읍 신월리 1-2 | D54: 100 | E54: 2011 | F54: 2종 | G54: 실런트 충전, 재포장, 단면보수 | H54: 62123
A55: 57 | B55: 내각~오남간 보강토옹벽(좌) | C55: 남양주시 진접읍 내각리 457-1 | D55: 140 | E55: 2013 | F55: 기타 | G55: 표면보수, 주입보수, 단면보수, 몰탈채움, 정비 | H55: 2396
A56: 58 | B56: 내각~오남간 보강토옹벽(우) | C56: 남양주시 진접읍 연평리 619-2 | D56: 196 | E56: 2013 | F56: 기타 | G56: 표면보수, 주입보수, 단면보수, 몰탈채움, 정비 | H56: 2894
A57: 59 | B57: 용정3교 | C57: 남양주시 진접읍 연평리 446-10 | D57: 55 | E57: 2011 | F57: 2종 | G57: 물끊기 현장 설치, 표면처리, 실링재 재시공, 도장보수, 단면보수, 재설치, 주입보수, 유도배수시설 설치 | H57: 18525
A58: 60 | B58: 운수1교 | C58: 남양주시 수동면 운수리 224-10 | D58: 210 | E58: 2008 | F58: 2종 | G58: 표면보수, 단면보수, 주입보수, 단면보수(방청), 도장보수, 재설치, 재포장 | H58: 311624 | I58: 1

Sheet 9.추가조사비(일위대가표)
A1: 라. 추가조사비 산출 근거
A3: ■ 일 위 대 가 표
A4: 공 종 | B4: 규 격 | C4: 수 량 | D4: 단 위 | E4: 합 계 | G4: 재 료 비 | I4: 노 무 비 | K4: 경 비 | M4: 비 고
E5: 단가 | F5: 금액 | G5: 단가 | H5: 금액 | I5: 단가 | J5: 금액 | K5: 단가 | L5: 금액
A6: 제1호표 콘크리트 코어채취(Ø100,150㎜) | D6: 개소 | F6: =L6+J6+H6 -> 91050 | H6: =SUM(H7:H10) -> 7140 | J6: =SUM(J7:J10) -> 82265 | L6: =SUM(L7:L10) -> 1645
A7: 착 암 공 | C7: 0.211 | D7: 인 | E7: =G7+I7+K7 -> 220081 | F7: =H7+J7+L7 -> 46437 | I7: 220081 | J7: =INT(C7*I7) -> 46437
A8: 보통인부 | C8: 0.211 | D8: 인 | E8: =G8+I8+K8 -> 169804 | F8: =H8+J8+L8 -> 35828 | I8: 169804 | J8: =INT(C8*I8) -> 35828
A9: 코아드릴비트 | B9: Ø100mm | C9: 0.17 | D9: 개 | E9: =G9+I9+K9 -> 42000 | F9: =H9+J9+L9 -> 7140 | G9: 42000 | H9: =INT(C9*G9) -> 7140 | M9: 물자(26년)
A10: 공 구 손 료 | B10: 노무비의 2% | C10: 1 | D10: 식 | F10: =L10 -> 1645 | L10: =INT((J7+J8)*2%) -> 1645
