Workbook

Sheet 표지
F6: 2026년도
AF16: 연천 | AT16: 장진교 | BM16: 보수공사
AQ28: 경기도건설본부 | BK28: 북부도로과

Sheet 갑지
C3: 과 | U3: 팀 | AM3: 심 | BE3: 설
AM5: 사 | BE5: 계 | BX5: 2026년 06월 일 설계
C7: 장 | U7: 장 | AM7: 자 | BE7: 자
F10: 2026년도
AI18: 연천 | AW18: 장진교 | BP18: 보수공사
C22: ="○ 총공사비 : \ "&FIXED(원가계산서!F37,0)&"원(금"&NUMBERSTRING(원가계산서!F37,1)&"원)" -> #NUM!
AR32: 경기도건설본부 | BJ32: 북부도로과

Sheet 원가계산서
B1: 원가계산서
B3: 비 목 | E3: 구분 | F3: 금 액 | G3: 요율 | H3: 산 출 근 거
C4: 재 | D4: 직 접 재 료 비 | E4: 1 | F4: =내역서!J70 -> 0
C5: 료 | D5: 간 접 재 료 비 | E5: 2
C6: 비 | D6: 작 업 설, 부 산 물 등 | E6: 3
D7: 소 계 | E7: A | F7: =TRUNC((F4+F5+F6),0) -> 0 | H7: (1 + 2 + 3 )
C8: 노 | D8: 직 접 노 무 비 | E8: 4 | F8: =내역서!L70 -> 0
B9: 순 | C9: 무 | D9: 간 접 노 무 비 | E9: 5 | F9: =TRUNC(F8*0.191,0) -> 0 | G9: 19.1% | H9: 4 × 0.191
C10: 비 | D10: 소 계 | E10: B | F10: =TRUNC((F8+F9),0) -> 0 | H10: ( 4 + 5 )
B11: 공 | D11: 산 출 경 비 | E11: 6 | F11: =내역서!N70 -> 0
D12: 산 재 보 험 료 | E12: 7 | F12: =TRUNC(F10*0.0356,0) -> 0 | G12: 3.56% | H12: B × 0.0356
B13: 사 | D13: 고 용 보 험 료 | E13: 8 | F13: =TRUNC(F10*0.0101,0) -> 0 | G13: 1.01% | H13: B × 0.0101
C14: 경 | D14: 건 강 보 험 료 | E14: 9 | F14: =TRUNC(F8*0.03595,0) -> 0 | G14: 3.595% | H14: 4 × 0.03595
B15: 원 | D15: 연 금 보 험 료 | E15: 10 | F15: =TRUNC(F8*0.0475,0) -> 0 | G15: 4.75% | H15: 4 × 0.0475
D16: 노인장기요양 보험료 | E16: 11 | F16: =TRUNC(F14*0.1314,0) -> 0 | G16: 13.14% | H16: 9 × 0.1314
B17: 가 | D17: 퇴 직 공 제 부 금 비 | E17: 12 | F17: =TRUNC(F8*0.023,0) -> 0 | G17: 2.3% | H17: 4 × 0.023
D18: 건설기계대여금지급보증서발급액 | E18: 13 | F18: =TRUNC((F7+F8+F11)*0.0032,0) -> 0 | G18: 0.32% | H18: (A + 4 + 6) × 0.0032
D19: 산 업 안 전 보건관리비 | E19: 14 | F19: =TRUNC((F7+F8)*0.0315*1.2,0) -> 0 | G19: 3.15% | H19: (A + 4) × 0.0315 × 1.2
D20: 산 업 안 전 보건관리비 | F20: =TRUNC(((F7+F8)+F36/1.1)*0.0315,0) -> 0 | G20: 3.15% | H20: ((A + 4) + J/1.1) × 0.0315
D21: 안 전 관 리 비 | E21: 15 | F21: =내역서!H62 -> 0 | L21: =내역서!H62 -> 0
D22: 환 경 보 전 비 | E22: 16 | F22: =TRUNC((F7+F8+F11)*0.009,0) -> 0 | G22: 0.9% | H22: (A + 4 + 6) ×0.009
C23: 비 | D23: 기 타 경 비 | E23: 17 | F23: =TRUNC((F7+F10)*0.055,0) -> 0 | G23: 5.5% | H23: (A + B) × 0.055
D24: 기 술 사 용 료 | E24: 18 | F24: =내역서!H101 -> 0 | L24: =내역서!H101 -> 0
D25: 품 질 관 리 비 | E25: 19 | F25: =내역서!H96 -> 0 | L25: =내역서!H96 -> 0
D26: 석 면 분 담 금 | E26: 20 | F26: =TRUNC(F10*0.00006,0) -> 0 | G26: 0.006% | H26: B × 0.00006
D27: 임 금 채 권 부 담 금 | E27: 21 | F27: =TRUNC(F10*0.0009,0) -> 0 | G27: 0.09% | H27: B × 0.0009
D28: 폐 기 물 처 리 비 | E28: 22
D29: 소 계 | E29: C | F29: =TRUNC((F11+F12+F13+F14+F15+F16+F17+F18+F19+F21+F22+F23+F24+F25+F26+F27+F28),0) -> 0 | H29: (6:22)
D30: 순 공 사 원 가 | E30: D | F30: =TRUNC((F7+F10+F29),0) -> 0 | H30: (A + B + C)
D31: 일 반 관 리 비 | E31: E | F31: =TRUNC(F30*0.08,0) -> 0 | G31: 8% | H31: D × 0.08
D32: 이 윤 | E32: F | F32: =TRUNC((F10+F29+F31-F24)*0.15,0)-807 -> -807 | G32: 15% | H32: (B + C + E - 18) ×0.15
D33: 총 원 가 | E33: G | F33: =TRUNC((F30+F31+F32),0) -> -807 | H33: (D + E + F)
D34: 부 가 가 치 세 | E34: H | F34: =IF(L52<> "0.9",TRUNC(F33*0.1,0),TRUNC(F33*0.1,0)+1) -> -80 | G34: 10% | H34: G × 0.1
D35: 도 급 액 | E35: I | F35: =TRUNC((F33+F34),0) -> -887 | H35: (G + H)
D36: 관 급 자 재 대 | E36: J | F36: =내역서!H105 -> 0 | L36: =내역서!H105 -> 0 | M36: =내역서!H109 -> 0
D37: 총 공 사 비 | E37: K | F37: =TRUNC((F35+F36),0) -> -887 | H37: (I + J )
L52: =RIGHT(F33*0.1,3) -> 0.7

Sheet 내역서총괄표
B1: 내역서총괄표
B3: 공종 | C3: 품 명 | D3: 규 격 | E3: 수 량 | F3: 단위 | G3: 합 계 | H3: 재료비 | I3: 노무비 | J3: 경 비 | K3: 비 고
B4: 0. | C4: 연천 장진교 보수공사
B5: 1. | C5: 장진교
B6: 1.1 | C6: 포장보수
B7: 가. | C7: 보수공
B8: ◎ | C8: 교면포장
B9: ◎ | C9: 교면방수
B10: 나. | C10: 부대공
B11: 1.2 | C11: 신축이음 보수
B12: 1.3 | C12: 배수시설 보수
B13: 가. | C13: 보수공
B14: 나. | C14: 부대공
B15: 1.4 | C15: 콘크리트 보수
... B22: 2. | C22: 안전관리비
C23: 순 공 사 비
C24: 간접노무비 | E24: 19.1 | F24: %
C25: 산재보험료 | E25: 3.56 | F25: %
C26: 고용보험료 | E26: 1.01 | F26: %
C27: 건강보험료 | E27: 3.595 | F27: %
C28: 연금보험료 | E28: 4.75 | F28: %
C29: 노인장기요양보험료 | E29: 13.14 | F29: %
C30: 퇴직공제부금비 | E30: 2.3 | F30: %
C31: 건설기계대여금지급보증서발급액 | E31: 0.32 | F31: %
C32: 산업안전보건관리비 | E32: 3.15 | F32: %
C33: 안전관리비
C34: 환경보전비 | E34: 0.9 | F34: %
C35: 기타경비 | E35: 5.5 | F35: %
C36: 기술사용료
C37: 품질관리비
C38: 석면분담금 | E38: 0.006 | F38: %
C39: 임금채권부담금 | E39: 0.09 | F39: %
C40: 순공사원가
C41: 일반관리비 | E41: 8 | F41: %
C42: 이윤 | E42: 15 | F42: %
C43: 총원가
C44: 부가가치세 | E44: 10 | F44: %
C45: 도급액
C46: 관급자재대
C47: 총공사비

Sheet 내역서
B1: 내역서
B3: 공종 | C3: 품 명 | D3: 규 격 | E3: 수 량 | F3: 단위 | G3: 합 계 | I3: 재료비 | K3: 노무비 | M3: 경 비 | O3: 비 고
G4: 단 가 | H4: 금 액 | I4: 단 가 | J4: 금 액 | K4: 단 가 | L4: 금 액 | M4: 단 가 | N4: 금 액
B5: 0. | C5: 연천 장진교 보수공사
B7: 1. | C7: 장진교
B8: 1.1 | C8: 포장보수
B9: 가. | C9: 보수공
B10: ◎ | C10: 교면포장
C11: 아스팔트포장 절단 | E11: 180 | F11: m
C12: 아스팔트 포장 절삭후 아스팔트 덧씌우기 | D12: A-Type (1회절삭,2회포장) | E12: 1800 | F12: ㎡
B14: ◎ | C14: 교면방수
C15: 바탕만들기(방수) | D15: 콘크리트면,불량,바닥 | E15: 1800 | F15: ㎡
C16: 교면방수(ACUT) | E16: 1800 | F16: ㎡
B18: 나. | C18: 부대공
C19: 중기운반 | D19: 아스콘포장 | E19: 1 | F19: 식
C20: 교통안전관리비 | E20: 1 | F20: 일
C21: 차선도색-황색실선(운행도로) | D21: 구동식,상온경화형 | E21: 27 | F21: ㎡
C22: 차선도색-백색실선(운행도로) | D22: 구동식,상온경화형 | E22: 54 | F22: ㎡
C23: 폐기물상차 | D23: 백호0.6㎥ | E23: 144 | F23: ㎥
C24: 유공관 설치 | D24: Φ10mm | E24: 360 | F24: m
B27: 1.2 | C27: 신축이음 보수
C28: 연석부 신축이음 설치 | D28: #80 | E28: 3 | F28: m
B30: 1.3 | C30: 배수시설 보수
B31: 가. | C31: 보수공
C32: 배수구청소 | D32: 10개소/hr | E32: 8 | F32: ea
B34: 나. | C34: 부대공
C35: 교통안전관리비 | E35: 1 | F35: 일
B37: 1.4 | C37: 콘크리트 보수
B38: 가. | C38: 보수공
B39: ◎ | C39: 연석
C40: 표면보수(ECO-M) | D40: 벽체 | E40: 288 | F40: ㎡
C41: 단면복구(ECO-M) | D41: t=30mm, 벽체 | E41: 0.5 | F41: ㎡
B43: ◎ | C43: 바닥판 하면
C44: 콘크리트 균열 보수 | D44: 표면처리공법 | E44: 2.1 | F44: M
C45: 단면복구(ECO-M) | D45: t=30mm, 벽체 | E45: 0.16 | F45: ㎡
B47: ◎ | C47: 교대 및 교각
C48: 콘크리트 균열 보수 | D48: 표면처리공법 | E48: 66.9 | F48: M
C49: 콘크리트 균열 보수 | D49: 주입공법(건식) | E49: 4.8 | F49: M
C50: 표면보수(ECO-M) | D50: 벽체 | E50: 128.43 | F50: ㎡
C51: 단면복구(ECO-M) | D51: t=30mm, 벽체 | E51: 3.82 | F51: ㎡
...
