Workbook

Sheet 〓 목 차 〓
D1: =IF('〓 INITIAL 〓'!C4,"※※ 기본정보의 일부가 삭제되어 Stmate로 변환할 수 없습니다 ※※","") -> ※※ 기본정보의 일부가 삭제되어 Stmate로 변환할 수 없습니다 ※※
B2: 목 차 | D2: ※ 본 엑셀자료는 【STmate w26.05】버전 이상에서 STmate 자료로 다시 등록할 수 있습니다.
D3: 단, 임의로 수정한 내용(Sheet삭제, 산근내용변경, 기타계산식변경..)은 반영되지 않을 수 있습니다.
B4: 1. ※※안내※※ | D4: =HYPERLINK("#'※※안내※※'!A1","※※안내※※ →") -> ※※안내※※ →
B5: 2. 공사원가계산서 | D5: =HYPERLINK("#"&공사원가계산서!G2&"!A1","공사원가계산서 →") -> 공사원가계산서 →
B6: 3. 총괄설계내역서 | D6: =HYPERLINK("#"&총괄설계내역서!#REF!&"!A1","총괄설계내역서 →") -> #REF!
B7: 4. 설계내역서 | D7: =HYPERLINK("#"&설계내역서!#REF!&"!A1","설계내역서 →") -> #REF!
B8: 5. 재료비목록표 | D8: =HYPERLINK("#"&재료비목록표!#REF!&"!A1","재료비목록표 →") -> #REF!
B9: 6. 자재단가대비표 | D9: =HYPERLINK("#"&자재단가대비표!#REF!&"!A1","자재단가대비표 →") -> #REF!

Sheet ※※안내※※
A2: =HYPERLINK("#'〓 목 차 〓'!B2","목차 →") -> 목차 → | B2: === 엑셀파일에 작성에 대한 안내문(반드시 읽어보세요) ===
B4: 엑셀파일 수정후 계산식 반영이 안될경우 :【 Ctrl+Alt(+Shift)+F9 】
B6: ◈ 엑셀파일내의 산식은 기초단가, 복합단가, 내역서 및 총괄내역서까지 연결됩니다.
B7: (모든산식은 단가만을 불러오며, 명칭, 규격, 단위, 비고.. 등은 TEXT로 입력됩니다)
B8: ◈ 각 Sheet우측에는 해당 항목을 찾아가는 위치이동(→) 링크가 있으며, 클릭하면 이동됩니다.
B9: (Alt + ← 키를 이용하여 찾아갔던 항목을 되돌아 올 수 있습니다.)
B10: ◈ 자재단가 대비표의 적용단가는 수식이 적용되지 않았으나, 우측에 최소단가 수식을 입력하였습니다.
B11: ◈ 일위대가표 및 중기사용료 및 총괄내역서의 양식은 일반양식을 적용합니다.
B12: ◈ [목차] 및 [안내] Sheet의 이름을 변경하지 마시고, Sheet이름을 변경할때 공백문자 및 특수문자를 사용하지 마십시요.
B14: ※※※ 아래의 내용(안내 및 오류)을 확인/검토 하세요 ※※※
B15: =HYPERLINK("#"&총괄설계내역서!#REF!&"!I"&ROW(총괄설계내역서!#REF!)," → ") -> #REF! | C15: 【총괄설계내역서】9번째줄의 I열 이윤보정액은 총공사비 금액이 다를경우 임의조정(±α) 하십시요.

Sheet 공사원가계산서
A1: 공 사 원 가 계 산 서
A2: 용역명 : 경기도 팀업캠퍼스 야구장 인조잔디 교체공사 분리회수 및 재활용처리용역
A3: 구 분 | D3: 금 액 | E3: 구 성 비 | F3: 비 고
A4: 비 목
A5: 순 공 사 원 가 | B5: 재 료 비 | C5: 직 접 재 료 비
C6: 간 접 재 료 비
C7: 작업설,부산물등(△)
C8: 소 계
B9: 노 무 비 | C9: 직 접 노 무 비
C10: 간 접 노 무 비
C11: 소 계
B12: 경 비 | C12: 산 출 경 비
C16: 소 계
A17: 이 윤 | F17: (노무비+경비+일반관리비) x 0%
A18: 총 원 가
A19: 부 가 가 치 세 | F19: 총 원 가 x 10%
A20: 도 급 공 사 비
A21: 총 공 사 비

Sheet 총괄설계내역서
A1: 총 괄 설 계 내 역 서
A2: 용역명 : 경기도 팀업캠퍼스 야구장 인조잔디 교체공사 분리회수 및 재활용처리용역
A3: 공 종 | B3: 명 칭 | C3: 규 격 | D3: 재 료 비 | E3: 노 무 비 | F3: 경 비 | G3: 합 계
B4: 팀업 야구장 인조잔디 교체공사 | E4: 0 | F4: 0
A5: 1 | B5: 인조잔디 철거 | E5: 0 | F5: 0
A6: 가. | B6: 순공사비계 | E6: 0 | F6: 0
A7: 나. | B7: 소 계
A8: 다. | B8: 소 계
B9: 1. 이 윤 | D9: (다.소계 - 재료비) x 0% = 0
A10: 라. | B10: 공급가액
B11: 2. 부가가치세 | D11: 공급가액 x 10%
A12: 마. | B12: 도급공사비

Sheet 설계내역서
A1: 설 계 내 역 서
A2: 용역명 : 경기도 팀업캠퍼스 야구장 인조잔디 교체공사 분리회수 및 재활용처리용역
A3: 공 종 | B3: 명 칭 | C3: 규 격 | D3: 수 량 | E3: 단위 | F3: 재 료 비 | H3: 노 무 비 | J3: 경 비 | L3: 합 계 | N3: 비 고
F4: 단 가 | G4: 금 액 | H4: 단 가 | I4: 금 액 | J4: 단 가 | K4: 금 액 | L4: 단 가 | M4: 금 액
B5: 팀업 야구장 인조잔디 교체공사
A7: 1 | B7: 인조잔디 철거
A8: 1.1 | B8: 인조잔디철거(분리회수 및 재활용(폐기)) | C8: 철거/운반/처리비 포함 | D8: 5064 | E8: m2
B9: 직접공사비

Sheet 재료비목록표
A1: 재료비 목록표
A2: 용역명 : 경기도 팀업캠퍼스 야구장 인조잔디 교체공사 분리회수 및 재활용처리용역
A3: 호표 | B3: 명 칭 | C3: 규 격 | D3: 단위 | E3: 단 가 | F3: 비 고
A4: 1 | B4: 인조잔디철거(분리회수 및 재활용(폐기)) | C4: 철거/운반/처리비 포함 | D4: m2

Sheet 자재단가대비표
A1: 자재단가 대비표
A2: 용역명 : 경기도 팀업캠퍼스 야구장 인조잔디 교체공사 분리회수 및 재활용처리용역
A3: 호표 | B3: 명 칭 | C3: 규 격 | D3: 단위 | E3: 가격 정보 | G3: 물가 자료 | I3: 물가 정보 | K3: 견적단가1 | M3: 거래가격 | O3: 적용 단가 | Q3: 비 고
E4: 단 가 | F4: 페이지 | G4: 단 가 | H4: 페이지 | I4: 단 가 | J4: 페이지 | K4: 단 가 | L4: 페이지 | M4: 단 가 | N4: 페이지 | O4: 단 가 | P4: 페이지
A5: 1 | B5: 인조잔디철거(분리회수 및 재활용(폐기)) | C5: 철거/운반/처리비 포함 | D5: m2

Sheet 〓 INITIAL 〓
B2: ※※ 현재 Sheet를 수정 또는 삭제하지 마십시요[수정/삭제시 STmate 데이타로 변환할 수 없습니다] ※※
B4: [Sheet정보] | C4: =ISERROR(SUM(C6:X15,C18:X23)) -> TRUE | D4: =ROW(C24) -> 24
B5: 목차 | C5: Sheet | D5: FPos | E5: ITNAME | F5: NAME | G5: SIZE | H5: QTY | I5: UNIT | J5: SPOS | K5: EPOS | L5: TAMT | M5: TAMOUNT | N5: MAMT | O5: MAMOUNT | P5: LAMT | Q5: LAMOUNT | R5: SAMT | S5: SAMOUNT | T5: AAMT | U5: AAMOUNT | V5: NAMT | W5: NAMOUNT | X5: INFO
B6: 1. 재료비목록표 | C6: =IF(D6="","재료비목록표",MID(D6,FIND("]",D6)+1,LEN(D6))) -> 재료비목록표 | D6: =CELL("filename",재료비목록표!A1) -> F:\★ 2026\본청\3. 문화체육관광국\05 체육진흥과\23. 경기도 팀업캠퍼스 야구장 인조잔디 교체공사 분리회수 및 재활용 처리용역\3. 공고게시\[공내역서(인조잔디 재활용 처리).xlsx]재료비목록표 | F6: =HYPERLINK("#"&C6&"!"&ADDRESS(3,COLUMN(재료비목록표!B1),1),COLUMN(재료비목록표!B1)) -> 2 | G6: =HYPERLINK("#"&C6&"!"&ADDRESS(3,COLUMN(재료비목록표!C1),1),COLUMN(재료비목록표!C1)) -> 3 | I6: =HYPERLINK("#"&C6&"!"&ADDRESS(3,COLUMN(재료비목록표!D1),1),COLUMN(재료비목록표!D1)) -> 4 | J6: =HYPERLINK("#"&C6&"!A"&ROW(재료비목록표!A4),ROW(재료비목록표!A4)) -> 4 | K6: =HYPERLINK("#"&C6&"!A"&ROW(재료비목록표!A4),ROW(재료비목록표!A4)) -> 4 | L6: =HYPERLINK("#"&C6&"!"&ADDRESS(3,COLUMN(재료비목록표!E1),1),COLUMN(재료비목록표!E1)) -> 5 | X6: =HYPERLINK("#"&C6&"!"&ADDRESS(3,COLUMN(재료비목록표!#REF!),1),COLUMN(재료비목록표!#REF!)) -> #REF!
B7: 2. 노무비목록표
B8: 3. 경비목록표
B9: 4. 일식목록표
B10: 5. 환율 및 기초자료
B11: 6. 중기목록표
B12: 7. 실적단가표
B13: 8. 일위대가목록표
B14: 9. 산출근거목록표
B15: 10. 자재단가대비표 | C15: =IF(D15="","자재단가대비표",MID(D15,FIND("]",D15)+1,LEN(D15))) -> 자재단가대비표 | D15: =CELL("filename",자재단가대비표!A1) -> F:\★ 2026\본청\3. 문화체육관광국\05 체육진흥과\23. 경기도 팀업캠퍼스 야구장 인조잔디 교체공사 분리회수 및 재활용 처리용역\3. 공고게시\[공내역서(인조잔디 재활용 처리).xlsx]자재단가대비표 | F15: =HYPERLINK("#"&C15&"!"&ADDRESS(4,COLUMN(자재단가대비표!B1),1),COLUMN(자재단가대비표!B1)) -> 2 | G15: =HYPERLINK("#"&C15&"!"&ADDRESS(4,COLUMN(자재단가대비표!C1),1),COLUMN(자재단가대비표!C1)) -> 3 | I15: =HYPERLINK("#"&C15&"!"&ADDRESS(4,COLUMN(자재단가대비표!D1),1),COLUMN(자재단가대비표!D1)) -> 4 | J15: =HYPERLINK("#"&C15&"!A"&ROW(자재단가대비표!A5),ROW(자재단가대비표!A5)) -> 5 | K15: =HYPERLINK("#"&C15&"!A"&ROW(자재단가대비표!A5),ROW(자재단가대비표!A5)) -> 5 | L15: =HYPERLINK("#"&C15&"!"&ADDRESS(4,COLUMN(자재단가대비표!E1),1),COLUMN(자재단가대비표!E1)) -> 5 | M15: =HYPERLINK("#"&C15&"!"&ADDRESS(4,COLUMN(자재단가대비표!F1),1),COLUMN(자재단가대비표!F1)) -> 6 | N15: =HYPERLINK("#"&C15&"!"&ADDRESS(4,COLUMN(자재단가대비표!G1),1),COLUMN(자재단가대비표!G1)) -> 7 | O15: =HYPERLINK("#"&C15&"!"&ADDRESS(4,COLUMN(자재단가대비표!H1),1),COLUMN(자재단가대비표!H1)) -> 8 | P15: =HYPERLINK("#"&C15&"!"&ADDRESS(4,COLUMN(자재단가대비표!I1),1),COLUMN(자재단가대비표!I1)) -> 9 | Q15: =HYPERLINK("#"&C15&"!"&ADDRESS(4,COLUMN(자재단가대비표!J1),1),COLUMN(자재단가대비표!J1)) -> 10 | R15: =HYPERLINK("#"&C15&"!"&ADDRESS(4,COLUMN(자재단가대비표!K1),1),COLUMN(자재단가대비표!K1)) -> 11 | S15: =HYPERLINK("#"&C15&"!"&ADDRESS(4,COLUMN(자재단가대비표!L1),1),COLUMN(자재단가대비표!L1)) -> 12 | T15: =HYPERLINK("#"&C15&"!"&ADDRESS(4,COLUMN(자재단가대비표!M1),1),COLUMN(자재단가대비표!M1)) -> 13 | U15: =HYPERLINK("#"&C15&"!"&ADDRESS(4,COLUMN(자재단가대비표!N1),1),COLUMN(자재단가대비표!N1)) -> 14 | V15: =HYPERLINK("#"&C15&"!"&ADDRESS(4,COLUMN(자재단가대비표!O1),1),COLUMN(자재단가대비표!O1)) -> 15 | W15: =HYPERLINK("#"&C15&"!"&ADDRESS(4,COLUMN(자재단가대비표!P1),1),COLUMN(자재단가대비표!P1)) -> 16 | X15: =HYPERLINK("#"&C15&"!"&ADDRESS(4,COLUMN(자재단가대비표!#REF!),1),COLUMN(자재단가대비표!#REF!)) -> #REF!
B16: 11. 내역서 | C16: =IF(D16="","설계내역서",MID(D16,FIND("]",D16)+1,LEN(D16))) -> 설계내역서 | D16: =CELL("filename",설계내역서!A1) -> F:\★ 2026\본청\3. 문화체육관광국\05 체육진흥과\23. 경기도 팀업캠퍼스 야구장 인조잔디 교체공사 분리회수 및 재활용 처리용역\3. 공고게시\[공내역서(인조잔디 재활용 처리).xlsx]설계내역서 | E16: =HYPERLINK("#"&C16&"!"&ADDRESS(4,COLUMN(설계내역서!A1),1),COLUMN(설계내역서!A1)) -> 1 | F16: =HYPERLINK("#"&C16&"!"&ADDRESS(4,COLUMN(설계내역서!B1),1),COLUMN(설계내역서!B1)) -> 2 | G16: =HYPERLINK("#"&C16&"!"&ADDRESS(4,COLUMN(설계내역서!C1),1),COLUMN(설계내역서!C1)) -> 3 | H16: =HYPERLINK("#"&C16&"!"&ADDRESS(4,COLUMN(설계내역서!D1),1),COLUMN(설계내역서!D1)) -> 4 | I16: =HYPERLINK("#"&C16&"!"&ADDRESS(4,COLUMN(설계내역서!E1),1),COLUMN(설계내역서!E1)) -> 5 | J16: =HYPERLINK("#"&C16&"!A"&ROW(설계내역서!A5),ROW(설계내역서!A5)) -> 5 | K16: =HYPERLINK("#"&C16&"!A"&ROW(설계내역서!A30),ROW(설계내역서!A30)) -> 30 | L16: =HYPERLINK("#"&C16&"!"&ADDRESS(4,COLUMN(설계내역서!L1),1),COLUMN(설계내역서!L1)) -> 12 | M16: =HYPERLINK("#"&C16&"!"&ADDRESS(4,COLUMN(설계내역서!M1),1),COLUMN(설계내역서!M1)) -> 13 | N16: =HYPERLINK("#"&C16&"!"&ADDRESS(4,COLUMN(설계내역서!F1),1),COLUMN(설계내역서!F1)) -> 6 | O16: =HYPERLINK("#"&C16&"!"&ADDRESS(4,COLUMN(설계내역서!G1),1),COLUMN(설계내역서!G1)) -> 7 | P16: =HYPERLINK("#"&C16&"!"&ADDRESS(4,COLUMN(설계내역서!H1),1),COLUMN(설계내역서!H1)) -> 8 | Q16: =HYPERLINK("#"&C16&"!"&ADDRESS(4,COLUMN(설계내역서!I1),1),COLUMN(설계내역서!I1)) -> 9 | R16: =HYPERLINK("#"&C16&"!"&ADDRESS(4,COLUMN(설계내역서!J1),1),COLUMN(설계내역서!J1)) -> 10 | S16: =HYPERLINK("#"&C16&"!"&ADDRESS(4,COLUMN(설계내역서!K1),1),COLUMN(설계내역서!K1)) -> 11 | X16: =HYPERLINK("#"&C16&"!"&ADDRESS(4,COLUMN(설계내역서!#REF!),1),COLUMN(설계내역서!#REF!)) -> #REF!
B17: 12. 총괄내역서 | C17: =IF(D17="","총괄설계내역서",MID(D17,FIND("]",D17)+1,LEN(D17))) -> 총괄설계내역서 | D17: =CELL("filename",총괄설계내역서!A1) -> F:\★ 2026\본청\3. 문화체육관광국\05 체육진흥과\23. 경기도 팀업캠퍼스 야구장 인조잔디 교체공사 분리회수 및 재활용 처리용역\3. 공고게시\[공내역서(인조잔디 재활용 처리).xlsx]총괄설계내역서 | E17: =HYPERLINK("#"&C17&"!"&ADDRESS(3,COLUMN(총괄설계내역서!A1),1),COLUMN(총괄설계내역서!A1)) -> 1 | F17: =HYPERLINK("#"&C17&"!"&ADDRESS(3,COLUMN(총괄설계내역서!B1),1),COLUMN(총괄설계내역서!B1)) -> 2 | G17: =HYPERLINK("#"&C17&"!"&ADDRESS(3,COLUMN(총괄설계내역서!C1),1),COLUMN(총괄설계내역서!C1)) -> 3 | I17: =HYPERLINK("#"&C17&"!"&ADDRESS(3,COLUMN(총괄설계내역서!D1),1),COLUMN(총괄설계내역서!D1)) -> 4 | J17: =HYPERLINK("#"&C17&"!A"&ROW(총괄설계내역서!A4),ROW(총괄설계내역서!A4)) -> 4 | K17: =HYPERLINK("#"&C17&"!A"&ROW(총괄설계내역서!A12),ROW(총괄설계내역서!A12)) -> 12 | L17: =HYPERLINK("#"&C17&"!"&ADDRESS(3,COLUMN(총괄설계내역서!G1),1),COLUMN(총괄설계내역서!G1)) -> 7 | M17: =HYPERLINK("#"&C17&"!"&ADDRESS(3,COLUMN(총괄설계내역서!#REF!),1),COLUMN(총괄설계내역서!#REF!)) -> #REF! | N17: =HYPERLINK("#"&C17&"!"&ADDRESS(3,COLUMN(총괄설계내역서!#REF!),1),COLUMN(총괄설계내역서!#REF!)) -> #REF! | O17: =HYPERLINK("#"&C17&"!"&ADDRESS(3,COLUMN(총괄설계내역서!#REF!),1),COLUMN(총괄설계내역서!#REF!)) -> #REF! | P17: =HYPERLINK("#"&C17&"!"&ADDRESS(3,COLUMN(총괄설계내역서!#REF!),1),COLUMN(총괄설계내역서!#REF!)) -> #REF! | Q17: =HYPERLINK("#"&C17&"!"&ADDRESS(3,COLUMN(총괄설계내역서!#REF!),1),COLUMN(총괄설계내역서!#REF!)) -> #REF! | X17: =HYPERLINK("#"&C17&"!"&ADDRESS(3,COLUMN(총괄설계내역서!#REF!),1),COLUMN(총괄설계내역서!#REF!)) -> #REF!
B18: 13. 중기사용료
B19: 14. 일위대가표
B20: 15. 단가산출근거
B21: 16.
B22: 17.
B23: 18. 표준시장목록표
B24: [공사정보] | D24: =ROW(C33) -> 33
B25: M_DVER | C25: 26.05
B26: PNAME | C26: 팀업 야구장 인조잔디 철거공사
B27: PCLAS | C27: 0
B28: SCLAS | C28: 0
B29: K_ORD | C29: 0
B30: PRIPR | C30: True
B31: ACTYP | C31: 1
B32: ACTOP | C32: 2
B33: [초기값] | D33: =ROW(C52) -> 52
B34: P_ORD | C34: 1 | D34: 1 | E34: 0 | F34: 0 | G34: 0 | H34: 0
B35: EXNM_ | C35: 1507 | D35: 1507 | E35: 1507 | F35: 1507 | G35: 1000 | H35: 1000 | I35: 1000 | J35: 1000
B36: EXRNM | C36: True
B37: RXNM_ | C37: 1/8 * 16/12 * 25/20
B38: COND_ | C38: L00003L00004L00005 | D38: L00003L00004
B39: KCDNM | C39: 1
B40: JCDNM | C40: 1
B41: ECDNM | C41: 0
B42: ACDNM | C42: 1
B43: BPNNM | C43: 1
B44: ZCDNM | C44: 2
B45: CHGNM | C45: True
B46: CHBNM | C46: True
B47: CHNNM | C47: True
B48: CUTNM | C48: True
B49: OPTNM | C49: SML
B50: S_JDA | C50: True
B51: SUBNM
B52: [인쇄정보] | D52: =ROW(C75) -> 75
B53: BMSTR | C53: 재 료 비 | D53: 노 무 비 | E53: 경 비 | F53: 합 계
B54: BMKNM | C54: MLST
B55: JEMNM | C55: 123456
B56: JMKN1 | C56: 가격 정보 | D56: 가.정
B57: JMKN2 | C57: 물가 자료 | D57: 물.자
B58: JMKN3 | C58: 물가 정보 | D58: 물.정
B59: JMKN4 | C59: 견적단가1 | D59: 견적 1
B60: JMKN5 | C60: 거래가격 | D60: 거.가
B61: JMKN6 | C61: 적용 단가
B62: CAP_CODE | C62: 코드번호
B63: CAP_NO | C63: 호표
B64: CAP_IBRD | C64: 분류번호
B65: CAP_EQCOD | C65: 시설코드
B66: CAP_ITNUM | C66: 공 종
B67: CAP_NAME | C67: 명 칭
B68: CAP_SIZE | C68: 규 격
B69: CAP_QTY | C69: 수 량
B70: CAP_SUNIT | C70: 단위
B71: CAP_AMT | C71: 단 가
B72: CAP_PAGE | C72: 페이지
... B74: CAP_BIGO | C74: 비 고
B75: [PREPARE] | D75: =ROW(C79) -> 79
B76: PREP_VER | C76: w26.05
B77: PREP_COP | C77: (주)다옴엔지니어링 #01
B78: PREP_DATE | C78: 2026-06-24 19:29
B79: [.끝.]
