Workbook
Name aaa: #REF!
Name aaa: #REF!
Name aaa: #REF!
Name aaa: #REF!
Name aaa: #REF!
Name aaa: #REF!
Name B: #REF!
Name B1B: #REF!
Name B2B: #REF!
Name B3B: #REF!
Name B4B: #REF!
Name B5B: [13]교각1!#REF!
Name B5B: [13]교각1!#REF!
Name B5B: [13]교각1!#REF!
Name B5B: [13]교각1!#REF!
Name B5B: [13]교각1!#REF!
Name B5B: [13]교각1!#REF!
Name B6B: [13]교각1!#REF!
Name B6B: [13]교각1!#REF!
Name B6B: [13]교각1!#REF!
Name B6B: [13]교각1!#REF!
Name B6B: [13]교각1!#REF!
Name B6B: [13]교각1!#REF!
Name B7B: [13]교각1!#REF!
Name B7B: [13]교각1!#REF!
Name B7B: [13]교각1!#REF!
Name B7B: [13]교각1!#REF!
Name B7B: [13]교각1!#REF!
Name B7B: [13]교각1!#REF!
Name bbb: #REF!
Name DIA: [13]교각1!#REF!
Name DIA: [13]교각1!#REF!
Name DIA: [13]교각1!#REF!
Name DIA: [13]교각1!#REF!
Name DIA: [13]교각1!#REF!
Name DIA: [13]교각1!#REF!
Name F1F: [13]교각1!#REF!
Name F1F: [13]교각1!#REF!
Name F1F: [13]교각1!#REF!
Name F1F: [13]교각1!#REF!
Name F1F: [13]교각1!#REF!
Name F1F: [13]교각1!#REF!
Name F2F: [13]교각1!#REF!
Name F2F: [13]교각1!#REF!
Name F2F: [13]교각1!#REF!
Name F2F: [13]교각1!#REF!
Name F2F: [13]교각1!#REF!
Name F2F: [13]교각1!#REF!
Name F3F: [13]교각1!#REF!
Name F3F: [13]교각1!#REF!
Name F3F: [13]교각1!#REF!
Name F3F: [13]교각1!#REF!
Name F3F: [13]교각1!#REF!
Name F3F: [13]교각1!#REF!
Name fd: [4]TOTAL_BOQ!#REF!
Name fd: [4]TOTAL_BOQ!#REF!
Name fd: [4]TOTAL_BOQ!#REF!
Name fd: [4]TOTAL_BOQ!#REF!
Name fd: [4]TOTAL_BOQ!#REF!
Name fd: [4]TOTAL_BOQ!#REF!

Sheet 표지
B6: 경기도청소년수련원 정문 입구 정비공사
A8: 설 계 서
A16: 2 0 2 6. 6.
A26: 경 기 도

Sheet 목차
A6: 목 차
C8: Ⅰ. | D8: 설 계 서
C10: Ⅱ. | D10: 설 계 예 산 서
C12: Ⅲ. | D12: 단 가 산 출 서
C14: Ⅳ. | D14: 수 량 산 출 서
C16: Ⅴ. | D16: 설 계 도

Sheet 1간지
A2: Ⅰ. 설 계 서

Sheet 설계설명서
A2: 1. 설 계 설 명 서
A4: 1. 공 사 명: | G4: =+갑지!A6 -> 경기도청소련수련원 정문 입구 정비공사
A6: 2. 위 치: | G6: =+갑지!Q9 -> 경기도 안산시 단원구 선감로 255
A8: 3. 목 적: | G8: 경기도청소년수련원 정문 입구 정비(회전교차로 개선)를 통해 안전한 수련활동 공간 제공하고자 함
A10: 4. 공사개요:
G11: =갑지!Q12 -> 1) 아스콘 포장(T=45Cm) : A = 187.8M2
G12: =갑지!Q14 -> 2) 보차도경계석 : L = 41.4M
G13: =갑지!Q16 -> 3) 부대공 1식
G14: =갑지!Q18 -> 4) 차량출입시스템 교체 1식(관급자재 현장설치도 구입 예정으로 설계도면 미포함)
A24: 5. 주요자재 및 소요 현황
C26: 품 명 | P26: 규 격 | AB26: 단 위 | AF26: 수 량 | AL26: 비 고
C27: 보차도경계석 | I27: 표준R석 | P27: 200×250×1000 | AB27: EA | AF27: 43 | AL27: 관급
C28: 기 층 | P28: #467 | AB28: Ton | AF28: 44 | AL28: "
C29: 레미콘 | I29: 무근콘크리트 | P29: 25-21-08 | AB29: M3 | AF29: 6 | AL29: 사급
C30: PC개량우수받이 | P30: 300×400×900 | AB30: EA | AF30: 1 | AL30: "
C31: 스틸그레이팅 | P31: 395×495×50 | AB31: EA | AF31: 1 | AL31: "
C32: PVC 이중벽관 | P32: D250 | AB32: M | AF32: 7 | AL32: "
C33: PVC 소켓 | P33: D250 | AB33: EA | AF33: 1 | AL33: "
C34: 표 층 | P34: #78 | AB34: Ton | AF34: 22 | AL34: "
C35: 아스 팔트 | I35: 택 코 팅 | P35: RSC - 4 | AB35: D/M | AF35: 1 | AL35: "
I36: 프라임코팅 | P36: RSC - 3 | AB36: D/M | AF36: 1 | AL36: "
C37: 보차도용블럭(U형) | AB37: Ton | AF37: 3 | AL37: "
C38: 융착식도료(백색) | P38: 특수페인트R3 | AB38: Kg | AF38: 30 | AL38: "
AB39: 포 | AF39: 2 | AL39: "
C40: 골재 집계표 | I40: 모 래 | AB40: M3 | AF40: 1 | AL40: "
I41: 보 조 기 층 | P41: 혼합(Φ40mm) | AB41: M3 | AF41: 83 | AL41: "
A43: 6. 공사기간
A44: 본 공사의 기간은 착공일로부터 | N44: 29 | P44: 일로 한다.
A45: 단, 토목공사 표준시방서 제21조 (공사의 일시중시)의 사유가 발생하여 시공이 불가능할 때, 시행청의 지시로 공사가 중지될 때에는 그만큼 연장할 수 있으며,
A46: 또한 연평균 강우일수보다 많은 강우일로 인하여 공사진행에 현저한 지장을 주었을때와 용지 및 지장물 보상지연으로 공사에 지장을 주었다고 인정될 경우에는
A47: 이에 상응하는 일수만큼 연장할 수 있다.
A49: 7. 설계변경조건
A50: 본 공사는 다음과 같은 사항이 발생하였을 때 변경할 수 있다.
A51: 1) 설계당시 조사된 자료에 의거 설계하였는바 조사 불가능한 부분 및 조사후 변경시공 측량결과 지형의 차이 등 현지 여건이 변경되었을시 변경할 수 있다.
A52: 2) 관급자재의 규격, 수량 및 인도지가 변경할 수 있다.
A53: 3) 골재원 및 토취장이 변경되었을시
A54: 4) 기초공의 지반 지질이 실지와 상이할 때 변경할 수 있다.
A55: 5) 선형 및 구조물 포장등의 위치 수량공법이 변경되었을 때
A56: 6) 유토곡선에 의한 토량의 운반거리가 변경될 때
A57: 7) 진입로 시공 및 진입로의 통행시설이 변경될 경우
... A63: 2) 노임 및 품셈 : 2026년 상반기 노임 기준 및 건설공사 표준품셈에 의거 산출

Sheet 1.총칙
A2: 2. 공 사 시 방 서
A4: 1. 총 칙
A5: 1-1 공사일반
A6: 1. 일반사항
A7: 1.1 적용범위
A8: 1.1.1 적 용
A9: 본 시방서는 “건설기술 관리법 시행규칙 제14조의2 제2항”에 의거 작성한 시방서로서 본 공사 시공관리에 대한 기준은 본 시방서를 적용한다.
A10: 1.1.2 적용순서
A11: (1) 설계서에 누락, 오류가 있는 경우에는 그 사실을 조사 확인하고 계약 목적물의 기능 및 안전을 확보할 수 있도록 설계서를 보완한다.
A12: (2) 설계도서 간에 상호모순이 있을 경우에는 아래 순서에 따라 적용한다.
B13: 가. 공사시방서
B14: 나. 설계도면
B15: 다. 입찰내역서
A16: (3) 본 공사시방서의 총칙과 총칙 이외의 시방 내용 간에 상호모순이 있을 경우에는 총칙 이외의 시방에 명시된 내용을 우선 적용한다.
A17: (4) 본 공사시방서에서 제시되지 않은 사항은 전문시방서, 표준 시방서의 순으로 적용하며, 표준시방서 간 상호모순이 있는 경우에는 발주 기관의
A18: 의견에 따른다.
A19: 1.1.3 법규 우선 준수
A20: (1) 수급인은 본 시방서를 포함한 설계도서의 내용이 관련법규의 내용과 상호모순이 있을 경우, 관련법규를 우선 적용하여야 한다. 다만,
A21: 본 시방서에서 특별히 “○○은 관련법규의 규정에도 불구하고 본 시방서에서 정하는 바에 따른다.”라고 명기한 경우에는 이를 따른다.
A22: (2) 관련법규의 우선적용순서
B23: 가. 국 내 법
B24: 나. 국 제 법
A25: 1.1.4 발주자 대리인 경유
A26: 수급자가 발주청에 통지 또는 제출하는 서류는 발주자 대리인을 경유하여야 한다.
A27: 1.2 감독원의 업무
A28: 1.2.1 감독원은 계약된 공사의 수행과 품질의 확보 및 향상을 위하여 수급인, 현장대리인, 현장 요원, 수급인이 당해 공사를 위하여 지정하거나
A29: 고용한 자 및 수급인과 하도급계약을 체결한 자에 대하여 “건설기술관리법시행령 제56조, 동법 시행규칙 제43조”와 “공사계약일반조건 제16조
A30: 규정이 정하는 범위내에서 공사시행에 필요한 지시, 확인, 검토 및 검사 등을 하여야 한다.
A31: 1.2.2 감독원은 수급인에 대하여 행하는 지시, 승인 및 확인 등은 서면으로 한다. 다만, 계약문서 내용의 변경을 수반하지 않는 시정지시 및 이행촉구
A32: 등은 구두로 할 수 있다.
A33: 1.2.3. 감독원은 “건설기술관리법 제28조의4”에 의거 수급인이 건설공사의 설계도서ㆍ시방서 기타 관계서류의 내용과 적합하지 아니하게
A34: 해당건설공사를 시공하는 경우에는 재시공ㆍ공사중지명령 등 기타 필요한 조치를 할 수 있다.
A35: 1.2.4 감독원은 수급인에게 재시공ㆍ공사중지명령 등 기타 필요한 조치를 한 경우에는 수급인에게 이를 통보하고 시정여부를 확인하여 공사재개
A36: 지시 등 필요한 조치를 해야 한다.
... A77: (5) 기타사항
B78: ① 설계당시 조사 불가능한 부분 및 조사후 변경된 사항에 대하여는 실제에 맞추어 변경
B79: ② 시공결과 구조물 및 토공의 추정 암반선이 변경될 경우 실제에 맞추어 변경
B80: ③ 골재원, 토취장 및 사토장 등의 위치 및 운반거리가 변경될 경우
B81: ④ 유용토 운반거리등 각종 운반거리가 변경될 경우
B82: ⑤ 천재지변 등으로 인하여 설계변경이 불가피할 경우
B83: ⑥ 확인측량 결과 지형의 차이등 현지여건이 변경되었을 때
B84: ⑦ 지자체등 공공기관에서 고시하는 골재원석대의 고시단가 변동시
B85: ⑧ 발주청의 방침변경으로 인하여 설계변경이 불가피할 경우의 조사설계비 반영 및 시공비 변경
B86: ⑨ 발주설계도서에 추정된 지질내용이 명기되어 있을시는 실제로 보링을 실시하고 공사비에 반영
B87: 기타 현장의 여건변동에 따라 계약내용이 변경시
B88: 신기술․신공법 적용시 여러종류 같은 공법을 비교 검토하여 설계도면보다 상회하는 공법을 적용한다.
A89: 1.5 관련 규준 등의 비치
A90: (1) 공사와 관련한 계약문서 사본 일체, (.2) 관련 지급자재 구입계약서 및 자재시방서, (3) 계약 및 건설 관련 법규 및 조례
A91: (4) 관련 한국산업규격(KS) , (5) 기타 본 시방서에 명시되어 있는 서류
A94: 1-2 공사계획 및 관리
A95: 1-2-1 공사계획
A96: 1. 일반사항
A97: 1.1 시공계획서 제출
A98: 1.1.1 수급인은 본 시방서에 의거한 시공계획서를 작성하여 감독원의 확인을 받아야 한다.
A99: 1.1.2 시공계획서는 감독원의 승인을 받아 공사의 진도에 맞추어 분할 할 수도 있다.
A100: 1.1.3 시공계획서가 변경될 때에는 변경시공계획서를 작성하여 감독원의 승인을 받아야 한다.
A101: 1.2 현장확인 및 설계도서의 검토
A102: 1.2.1 수급인은 공사착공과 동시에 설계도서의 내용과 현장을 확인하여 이상유무를 즉시 발주청의 장에게 보고하여야 한다. 특히 주요 구조물(교량)의
... A187: (1) “공사계약특수조건 제8조 제1항” 에 명시되어 있는 설계도면
B188: ① 당해 공사의 준공부분에 대한 설계도면(준공도면)
B189: ② 공사현장에서 설계변경한 부분의 설계도면 원도
A190: (2) 시공상세도면
A191: (3) 공사사진첩
A192: (4) 발급받은 신고 및 인ㆍ허가필증 원본
A193: (5) 하도급자의 목록(상호, 소재지, 대표자, 전화번호, 공사범위, 공사기간 등)
A194: 1.4 준공도서 사본 작성 및 제출
A195: “공사계약특수조건 제8조 제2항”에 따라 시설물의 안전관리에 관한 특별법에 규정된 1종 및 2종 시설물에 해당되는 시설물을 시공하는 수급자는
A196: 아래의 준공도서 사본을 건설교통부 및 시설안전기술공단이 제시한 “준공도서 사본작성ㆍ관리지침”에 따라 마이크로필름과 CD-ROM 으로 각각
A197: 2세트를 작성하여 준공검사가 완료되기 전까지 발주청 및 시설안전관리공단에 각각 1세트씩을 제출하여야 한다.
A198: (1) 준공도면 , (2) 준공내역서 및 필요시 유지관리시방서 , (3) 기타 시공상 특기한 사항에 대한 보고서 등
A199: 2. 준공청소
B200: ① 노출표면에 부착된 이물질이나 오물, 먼지, 녹, 얼룩 등이 없도록 노출 내외면을 청소한다.
B201: ② 포장면의 찌꺼기, 퇴적물, 얼룩 등을 제거하고 깨끗하게 청소한다.
B202: ③ 조경지역 등 공사장의 쓰레기, 잔여자재, 폐물, 공사가설물 및 기타 이물질을 깨끗이 제거하고 지표면을 균등하게 고른다.
B203: ④ 기타사항
A205: 1-3 인계‧인수
A206: 1. 일반사항
A207: 1.1 시설물 인계‧인수
A208: 1.1.1 수급인은 당해 공사의 예비 준공검사 (부분준공, 발주청의 필요에 의한 기성부분 포함)를 실시완료후 시설물의 인계‧인수를 위한 계획을 수립하여
A209: 이를 감독원에게 통지해야 한다.
A210: 1.1.2 수급인이 준공시설물을 인계하기 위하여 제출한 인계‧인수서는 감독원이 이를 검토, 확인 하여야 한다.
A211: 1.1.3 발주청과 수급인과의 시설물 인계‧인수를 위하여 감독원은 입회인이 된다.
A212: 1.1.4 시설물 인계‧인수에 대한 발주청의 지시사항이 있을 경우, 감독원은 이에 대한 현황파악 및 필요대책 등 의견을 제시하여 수급인이 이를 수행토록
A213: 조치해야 한다.
A214: 1.1.5 인계‧인수서는 준공검사 결과를 포함하는 내용으로 한다.
A215: 1.1.6 당해 공사와 관련한 공사기록 서류중 발주청에 인계할 문서는 해당 유지관리기관의 장과 감독원, 수급인이 협의하여 작성한다.
A216: 1.1.7 준공도서 사본 작성 및 제출
... A224: 마. 기타 시공상 특이한 사항에 대한 보고서 등

Sheet 2.측량및지반조사
A1: 2. 측량 및 지반조사
A2: 2-1 공사측량
A3: 1. 일반사항
A4: 1.1 적용범위
A5: 본 시방은 토목공사의 시공을 위한 공사측량에 적용한다.
A6: 1.2 다음사항을 추가로 제출하여야 한다.
A7: (1) 공사측량 성과표(야장포함)
A8: (2) 용지경계표주 설치도
A9: 1.3 모든 측량은 측량법, 동법 시행령 및 시행규칙, 공공측량 작업규정에 따라 시행하여야 한다.
A10: 1.4 수급인은 정확한 검사측량을 위해 측량법 제6조의 2항에 의거하여 검정을 필한 측량기구를 현장에 구비하여 운영하여야 한다.
A11: 1.5 수급인은 공사측량을 시작하기 전에 공사측량계획을 수립하여 감독원의 승인을 받아야 한다.
A12: 1.6 수급인은 공사착공 후 30일 이내에 당해 공사에 대한 시공측량을 실시하여 설계도서 등과의 상이점을 확인하고 그 결과를 감독원에게 제 출하여야 한다.
... A14: 표 2-1 거리측량의 허용오차 범위
E15: 구 분 | H15: 허 용 오 차 범 위 | K15: 비 고
E16: 평 지(mm) | H16: S/2,500∼S/3,000 | K16: S는 측점간의 거리(m)
E17: 산 지(mm) | H17: S/500∼S/1,000
A18: 1.8 중심선측량
A19: 1.8.1 측량기술자는 기 작성된 실시설계 성과를 사용하며, 현지측량을 실시하여 중심선 말뚝을 현장에 설치하여야 한다.
A20: 1.8.2 측점간격은 20m로 하고, 지형상 종ㆍ횡단 변화가 있는 지점, 구조물의 설치점, 곡선의 시ㆍ종점(완화곡선의 시ㆍ종점) 등 필요한 지점에
A21: 중간말뚝을 설치하여야 한다.
A22: 1.8.3 하천 및 해안의 중심선 측량은 20m 또는 50m를 측점간격으로 할 수 있다.
A23: 1.9 종, 횡단측량
A24: 1.9.1 측량기술자는 중심선에 설치된 측점 및 변화점에 설치된 중심말뚝, 추가말뚝, 보조말뚝을 기준으로 하여 중심선의 지반고를 구한다.
A25: 1.9.2 종단변화점 및 주요한 구조물의 위치는 중심점으로부터 거리를 측정하여 정한다.
A26: 1.9.3 측량기술자는 횡단측량은 중심말뚝이 설치되어 있는 지점에서 중심말뚝을 기준으로 하여 중심선의 직각방향의 좌ㆍ우 지반고가 변화하고 있는
A27: 지점의 고저 및 중심말뚝으로 부터의 거리를 구한다.
A28: 1.10 용지경계 표주설치측량
A29: 1.10.1 수급인은 중심점 등으로부터 중심선에 대하여 직각방향의 용지경계 말뚝점 좌표값을 계산하여 4등 이상의 기준점, 주요점, 중심점 등 으로부터
... A31: 1.10.2 용지경계 표주는 기 작성된 용지도상에 설치위치를 표시하여 감독원의 확인을 받은 후 설치하여야 한다.

Sheet 3.토공
A1: 3. 토 공
A2: 3-1 구조물 및 지장물 제거
A3: 1. 수급인은 설계도서에 따라 구조물 및 지장물의 제거작업을 수행하여야 하며, 보존하도록 지정된 것은 유해한 손상을 입히지 않도록 주의하여
A4: 설계도서에서 지시하는 장소까지 옮겨야 한다. 또한 제거된 물질 중 흙쌓기용 재료로 유용할 수 있는 것은 가능한 한 유용토록 하고 불량재료는
A5: 폐기물 처리법에 의거 처리하여야 한다.
A6: 2. 사용중인 교량, 암거 및 기타 배수시설은 현장에 적합한 대체시설을 설치하여 통행 및 이용에 불편이 없도록 조치한 후에 철거하여야 한다.
A7: 3. 구조물 하부구조의 유수부는 하상면까지 제거하여야 하며, 지표면에서는 최소 30cm 깊이까지 제거하여야 한다.
A8: 4. 도로 완성면에서 최소 1m 깊이까지의 모든 콘크리트는 제거하여야 하며, 소요규격으로 쪼개서 흙쌓기나 기타 공종의 재료로 사용할 수 있다.
A10: 3-2 흙 깍 기
A11: 1. 일반사항
A12: 1.1 적용범위
A13: 본 시방은 설계도서에 의해 확정된 선형, 경사, 치수나 시방서의 규정에 부합되도록 땅을 깎는 공사에 적용한다.
... A88: 최대건조밀도의 95% 이상의 밀도가 되도록 균일하게 다져야 한다. 평판재하시험을 실시한 경우에는 아래 표에 따른다.
J97: 표 3-1 다짐시험의 판정기준
B98: 구 분 | I98: 노 체 | M98: 노 상 | N98: 비 고
I99: 암쌓기 | K99: 일반쌓기
B100: 1층 다짐 완료후의 두께 (cm) | I100: 60 | K100: 30 | M100: 20
B101: 다 짐 도 (%) | I101: - | K101: 90 이상 | M101: 95 이상 | N101: KS F 2311
N102: KS F 2312
N103: ASSHTO.T 224-86
B104: 다 짐 방 법 | I104: - | K104: A, B | M104: C, D, E | N104: KS F 2312
B105: 평판재하시험 | D105: 아스팔트포장 | F105: 침 하 량 (cm) | I105: 0.125 | K105: 0.25 | M105: 0.25 | N105: KS F 2310
F106: 지지력 계수(K30:kg/cm3) | I106: 20 | K106: 15 | M106: 20
D107: 시멘트포장 | F107: 침 하 량 (cm) | I107: 0.125 | K107: 0.125 | M107: 0.125 | N107: KS F 2310
F108: 지지력 계수(K30:kg/cm3) | I108: 20 | K108: 10 | M108: 15
A109: 3.3 다짐도 검사
A110: 3.3.1 수급인은 흙쌓기의 각 단계마다 재료의 품질 및 다짐도를 본절 3.4에 적합하게 시공되었는지 감독원의 확인을 받은 후 다음단계의 작업을
A111: 수행하여야 한다.
A112: 3.3.2 흙쌓기시 충격다짐으로 정확한 함수비-밀도곡선과 최대건조밀도를 구할 수 없거나, 점성이 없고 배수가 잘 되는 흙의 밀도를 결정하기 위해서는
A113: KS F 2345에 따르며, 이때에도 감독원의 확인을 받아야 한다.
A114: 3.3.3 현장다짐도 및 함수량 시험시 방사성 동위원소를 사용한 측정장비(RI)를 사용할 수 있다. 이때에는 현장에서 측정한 비교 시험 데이터(Data)와
A115: 함께 원자력법 및 방사선피폭관리 업무규정에 적합한 인원 및 시설에 관련하여 적법하게 처리한 서류를 감독원에게 제출하여 확인을 받은 후
A116: 사용하여야 한다.
A117: 3.3.4 다짐도 시험에 필요한 함수량 시험방법은 KS F 2306에 따르며, 급속함수량시험, 적외선 수분계 또는 방사성 동위원소를 사용한 측정장비(RI)를
A118: 사용할 경우에는 각 시험방법에 따른 보정값에 대하여 감독원의 확인을 받아야 한다
A120: 3-5 되 메 우 기
A121: 1. 시공일반
... A143: 3.4 노상면이 기후조건으로 불안전할 경우에는 차량이나 장비의 운행을 금지하여야 한다.

Sheet 4.배수,구조물)
A1: 4. 배수 및 구조물공
A2: 4-1 콘크리트용 배수관
A3: 1. 재 료
A4: 1.1 공장제작 콘크리트 배수관
A5: 1.1.1 철근 콘크리트관은 KS F 4401, KS F 4402, KS F 4403, KS F 4405, KS F 4406의 기준에 합격한 것이라야 한다.
A6: 1.1.2 모든 관에는 제조 공장명, 또는 그 약호, 제조 연월일, 공칭지름 및 관 길이를 명기하여야 한다.
A7: 2. 시 공
A8: 2.1 시공시 유의사항
A9: 2.1.1 터파기 바닥은 소정의 경사가 되게 하고 지반이 연약한 경우는 소정의 재료로 치환하여야 하며 바닥은 잘 다져 관부설후 부등침하가 생기지
A10: 않도록 한다.
A11: 2.1.2 배수관은 설계도서 또는 감독자가 지시한 경사에 정확히 맞도록 하여 하류층 또는 낮은 쪽에서부터 설치하여야 한다.
A12: 2.1.3 관은 기초 및 다음 이음관과 밀착이 되도록 하고 서로 어긋나지 않도록 한다.
... A108: 거푸집 제거시기의 콘크리트 압축강도의 참고값
C109: 부재면의 종류 | I109: 예 | M109: 콘크리트의 압축강도(kgf/㎠)
C111: 두꺼운 부재의 연직 또는 연직에 가까운 면, 경사진 상면, 작은 아치의 외면 | I111: 확대기초의 측면 | M111: 35
C113: 얇은 부재의 연직 또는 연직에 가까운 면, 45°보다 급한 경사의 하면, 작은 아치의 내면 | I113: 기둥, 벽, 보의 측면 | M113: 50
C115: 교량, 건물 등의 슬래브 및 보, 45°보다 느린 경사면의 하면 | I115: 슬래브, 보의 저면, 아치의 내면 | M115: 설계압축강도의 90%이상달할 때 또는 마지막 콘크리트 타설 후 21일 이후
A118: (6) 조강시멘트를 사용한 경우 또는 강도 시험결과에 따라 하중에 견딜만한 충분한 강도를 얻을 수 있는 경우에는 감독원의 확인을 받아 제거
A119: 시기를 단축할 수 있다.
A120: 3.5.4 마무리 작업
A121: (1) 수급인은 거푸집을 제거한 즉시 거푸집 이음매에 생긴 돌출부를 제거하여야 하며 구멍이 있는 경우에는 구체에 사용했던 콘크리트와 같은
A122: 배합비의 모르터로 메워야 한다. 이때 메움부위는 주변 콘크리트 색상과 일치하여야 한다.
A123: (2) 모르터 주입대신 에폭시 그라우팅이나 모르터에 에폭시 본드를 배합하여 사용할 경우에는 감독원의 확인을 받아야 한다.
A124: (3) 구조물의 강도에 영향을 미치거나 철근의 수명에 해를 끼칠만한 정도의 큰 구멍이 생겼으면, 영향권 내의 콘크리트를 제거하고 다시
A125: 시공하여야 한다.
A126: (4) 매끈하게 마무리를 할 수 없거나 수정이 불가능한 부분은 제거하여야 한다.

Sheet 5.포장공
A1: 5. 포 장 공
A2: [1]. 아스콘포장
A3: 1. 보조기층 및 선택층
A4: 1) 입도
A5: 보조기층 골재는 도로공사 일반시방서 제4장에 준하여 입도는 다음과 같다.
B6: 체 | D6: 각 체를 통과하는 것의 중량 백분율 (%)
B7: 입 도 번 호 | D7: 80m/m | F7: 50m/m | H7: 40m/m | J7: 19m/m | L7: NO.4 | N7: NO.8 | P7: NO.40 | R7: NO.200
B8: SB - 1 | D8: 100 | H8: 70-100 | J8: 50-90 | L8: 30-65 | N8: 20-55 | P8: 5-25 | R8: 2-10
B9: SB - 2 | F9: 100 | H9: 80-100 | J9: 55-100 | L9: 30-70 | N9: 5-55 | P9: 5-25 | R9: 2-10
A11: 선택층 골재는 도로공사 일반시방서 제4장에 준하여 입도는 다음과 같다.
B12: 체 | D12: 각 체를 통과하는 것의 중량 백분율 (%)
B13: 입 도 번 호 | D13: 100m/m | F13: 76m/m | H13: 38m/m | J13: 19m/m | L13: NO.4 | N13: NO.8 | P13: NO.40 | R13: NO.200
B14: SB - 2 | D14: 100 | F14: 90-100 | H14: 65-100 | J14: 39-85 | L14: 16-34 | N14: 10-34 | P14: 4-18 | R14: 2-10
A16: 2) 품 질
B17: 마모율 | F17: K.S.F | H17: 2508 | J17: 50%이하
B18: 소정지수 | F18: K.S.F | H18: 2304 | J18: 6%이하
B19: C. B. R치 | F19: K.S.F | H19: 2320 | J19: 30%이하
B20: 모래당량 | J20: 25%이하
A21: 보조기층은 교통하중을 분산시켜 노상이 안전하도록하는 것으로서 재료는 건조하여 내구적인 부순돌, 자갈, 모래기타 등으로서 품질 규정에 합격한
A22: 것으로서 점토등이 유기물, 이토 기타의 유해물을 함유홰서는 안된다
A23: 3) 혼합 및 면고르기
A24: 골재의 입도분포가 생기지 않게 로다, 그레이다로 포설하여야 하며 입도분리가 생겼을 경우 즉시 이를 시정 조치하여야 하고 다짐 후의 한층의 다짐두께는
A25: 20cm가 넘지않도록 포설하여야 한다.
A26: 4) 다 짐
A27: K.S.F 12312의 B-2, D-2 다짐시험에 따르며 최대건조밀도의 95%이상의 밀도가 되도록 균등하게 다져야하며 다짐때의 함수비로 한다.
A28: 다짐때의 함수비는 상기 시험방법에서의 최적함수비의 ±2% 이내 또는 감독원이 지시하는 함수비로 한다.
A29: 5) 완 성 면
A30: 보조기층은 설계도서에 표시한 종횡단형상으로 정확하게 완성하여야하며, 보조기층은 완성면은 계획고로부터 3CM이상 또는 설계두께 보다 10%이상
A31: 틀려서는 안되며, 3M 직선 정규자로 재어 측정할때 최저부의 깊이가 2CM이상 깊은곳이있어서는 안되며, 측정시 정규자는 반이상 겹쳐서 시행하고 만일
A32: 10%이상 증감이 있을경우에는 감독관의 승인으로 후속작업을 시행하여야 한다.
... A55: 골재는 현저하게 흡수성이 큰것 과량의 연속, 점토등을 함유하지 않은 것으로 아래 규정에 부합되는 것이라야 한다.
B56: ˚ | C56: 마모감량 | F56: : | G56: K.S.F 2508 : | J56: 40% 이하
B57: ˚ | C57: 안 전 성 | F57: : | J57: 12% 이하
B58: ˚ | C58: 소성지수(PI) | F58: : | G58: K.S.F 2303 : | J58: 4% 이하
A59: 골재의 입도는 아래표를 기준으로 한다.
A61: 1 | B61: 25m/m | D61: 19m/m | F61: 13m/m | H61: #4 | J61: #8 | L61: #30 | N61: #50 | P61: #100 | R61: #200
A62: 통중량 백분율 | B62: 100 | D62: 95-100 | F62: 70-90 | H62: 35-55 | J62: 20-35 | L62: 10-22 | N62: 5-16 | P62: 4-12 | R62: 2-6
A63: 5) 골재의 저장
A64: 생산된 골재(crusher rum)는 #8체를 기준하여 #8체 이상의 조골재와 #8체 이하의 새 골재로 구분 저장해야 되며 유해물의 혼입을 방지하고 지상부지
A65: 전면의 배수를 도모하도록 조치해야 한다.
A66: 6) 포 설
A67: 프라임코트 및 택코트의 양생이 충분히 끝나지않은 보조기층 위에 혼합물은 포설해서는 안된다.
A68: 7) 혼합물의 다짐
A69: 혼합물의 포설후 로울러에 의해 소정의 다짐도가 얻어지도록 충분히 다져야 한다.
A70: 로울러로써 불가능한 경우의는 램머로 다져서 마무리하여야 한다.
A71: 8) 아스팔트 콘크리트의 마샬 실험에 대한 기준치는 다음과 같다.
C72: ˚ 안정도 : 350kg이상
C73: ˚ 후로우치(1/100cm) : 20-40m/m
C74: ˚ 공극률 : 3-8
A75: 4. 표층공(아스팔트 콘크리트)
A76: 1) 표층용 굵은 골재는 아래 규격에 합격해야 한다.
C77: 비 중 | E77: : | F77: K.S.F 2503 | I77: 2.5%이상
C78: 흡 수 량 | E78: : | F78: K.S.F 2503 | I78: 3.0%이상
C79: 마모감량 | E79: : | F79: K.S.F 2508 | I79: 35.0%이상
C80: 안전성감량 | E80: : | F80: K.S.F 2507 | I80: 12.0%이상
A81: 2) 잔골재는 #8체를 통과하고 #200체에 남는 골재로 천연사 스크리닝 또는 이의 혼합된 모래를 사용해야 한다.
A82: 3) 필러는 석회가루, 소석회, 시멘트 등을 사용하여 그 수분이 1%이어야하고 입도는 아래와 같다.
B83: 체 번 호 | H83: 통 과 중 량 백 분 율 (%)
B84: # 30 | H84: 100
B85: # 50 | H85: 95-100
B86: #100 | H86: 95-100
B87: #200 | H87: 75-100
B88: 수 분 | H88: 1 이하
A89: 4) 골재의 입도는 아래표에 준한다.
B90: 체 크 기 | C90: 19m/m | E90: 13m/m | G90: # 4 | I90: # 8 | K90: # 30 | M90: # 50 | O90: #100 | Q90: #200
B91: 통 과 량 | C91: 100 | E91: 95-100 | G91: 55-75 | I91: 35-55 | K91: 18-29 | M91: 13-23 | O91: 6-16 | Q91: 4-8
A92: 5) 아스팔트 콘크리트의 마샬 실험에 대한 기준치는 다음과 같다.
B93: ˚ | C93: 안정도 | H93: --------------- | K93: 500kg이상
B94: ˚ | C94: 훌로우치(1/100m) | H94: --------------- | K94: 20-40
B95: ˚ | C95: 공극율 | H95: --------------- | K95: 3-6
B96: ˚ | C96: 아스팔트 공극 채움율 | H96: --------------- | K96: 75-85
A97: 6) 표층포설은 골재분류를 일으키지 않고 두께등 모든 규격에 맞도록 자유로이 조정할 수 있는 조정장치가 된 자주식 포설기계를 사용하여야 한다.
A98: 7) 다짐두께는 5CM를 1층으로 1회포설하고 다짐도는 마샬안정도시험에서 얻은 최저아스팔트함량 상대를 밀도에 대한 90%이상 이어야 한다.
A99: 8) 완성면은 3m 직선정규자로 포장 중심에 평행 또는 직각으로 검측하여 3m/m이상의 요철이 있어서는 안된다.
A101: 5. 프라임 코팅
A102: 1) 프라임코트은 기름이 잘 건조되고 기온이 높을때 시공하여야하며 기온이 10℃이하 또는 우천시에는 시공하여서는 안되며 4시간 전부터 기온 2℃이상
A103: 일때는 감독원의 승인을 얻어 시공할 수 있다.
A104: 2) 살포후 48시간 양생 시킨후 충분히 양생된 후에는 노면에 부착된 모래, 먼지등을 완전히 제거한후 상부층을 시공하여야 한다.
A105: 3) 프라임 코트가 침투된후 부족된 아스팔트는 더 살포하고 모래를 3mm 두께로 살포하여야 한다.
A106: 6. 택코팅
A107: 1) 택코팅 하려는 브택메이스 표면은 시공전에 굴러다니는 돌, 먼지, 기타의 불순물을 제거하고 감독원의 승인을 받아야 한다.
A108: 2) 택코팅 시공시 아스팔트 지정된 양만큼 살포하여야하며 과하게 살포해서 포장에 해로움이 있을 경우에는 표면(택베이스)을 긁어 버리고 재시공하여야 한다.
A109: 3) 살포가 끝난후 상부를 포설하기 까지의 조건 정착에 필요한 시간 동안은 손상을 입혀서는 안된다.
... A164: 표 3.1-1 블록의 허용 치수
B165: 구분 | D165: 폭 | F165: 양 빗면 중심거리 | H165: 두께
B166: 단위(㎜) | D166: ±2 | F166: ±2 | H166: ±2
A167: (7) 품질기준
A168: ① 블록의 강도는 휨강도 0.5 kN/㎠(50 ㎏f/㎠) 이상이어야 한다.
A169: ② 콘크리트 휨강도(단순보의 중앙점 하중법) 시험 방법에 따른다.
A170: (8) 블록의 검사
A171: ① 휨강도 검사는 1,980개(180㎡)를 한 샘플로 하고 무작위로 3개를 채취하여 채취시료가 전부 규격에 맞으면 대표하는 샘플 전부를 합격으로 한다.
A172: ② 상기 ①에 적합하지 않을 경우 그 샘플에서 무작위로 3개의 시료를 추가로 채취하여 채취시료가 전부 규격에 맞으면 전항의 시험에
A173: 불구하고 샘플 전부를 합격으로 한다.
A174: (9) 시공상태 검사
A175: 블록 표층의 평탄성, 경사, 블록의 고저차 및 계획고의 허용오차는 표 3.1-2와 같다.
A176: 표 3.1-2 블록 포장의 시공허용 오차
C177: 항목 | E177: 단위 | G177: 허용오차
C178: 평탄성 | E178: mm | G178: 10
C179: 경사 | E179: % | G179: ±0.4
C180: 고저차 | E180: mm | G180: ±2
...

Sheet 6.부대공
A1: 6. 부 대 공
A2: 1. 노면표시
A3: 1. 일반사항
A4: 1.1 적용범위
A5: 본 시방서는 마무리된 포장면 위에 노면 기호 및 구획선(중앙선, 차선, 길가장자리 구역선) 등의 노면표시를 하거나 제거하는 노면표시공의 재료와 설치 등
A6: 시공에 관한 일반사항을 규정한다.
A7: 1.2 참조규격
A8: KS L 2521:2006 도로 표지 도료용 유리알
A9: KS M 5000 도료 및 관련 원료 시험방법
A10: KS M 5322 상온형 도로 표지용 도료
A11: KS M 6080 융착식 도로 표지용 도료
A12: KS M 5336 가열식 도로 표지용 도료
... A25: 노면표시에 사용할 유리알은 시공방식에 따라 KS L 2521의 규격에 적합하도록 표 1-2과 같이 사용해야 한다.
B26: 표 1-1 노면표시의 재귀반사 성능
O27: (단위 : mcd/lx․m2)
B28: 입 사 각 | D28: 관 찰 각 | F28: 구 분 | H28: 반 사 성 능 | O28: 비 고
H29: 흰 색 | J29: 노랑색 | L29: 청 색 (흰색의 8%)
B31: 88.76° (1.24°) | D31: 1.05° (2.29°) | F31: 설치시 | H31: 240 | J31: 150 | L31: 80 | O31: 기준/적용
F32: 재도색 시기 | H32: 100 | J32: 70 | L32: 40 | O32: 권장
F33: 우천(습윤)시 | H33: 100 | J33: 70 | L33: 40 | O33: 권장
B34: 비고) 1. “설치시”는 노면표시 설치 1주일 후부터 준공시점까지로 본다.
B35: 2. “재도색 시기”는 반사성능의 값이 기준치 이하일 때 재도색 시점으로 본다.
B36: 3. 위 기준은 설치기술 및 유리알 생산기술의 개선에 따라 조정할 수 있다.
B37: 4. KS M 6080에서 제시하는 성능 이상의 제품 사용을 원칙으로 한다.
B38: 5. 노면이 젖은 상태에서의 노면표시 반사성능 측정은 EN 1436에서 정한 측정방법에 따른다.
C41: 표 1-2 유리알의 종류 (KS L 2521:2006)
C42: 구 분 | J42: 규 격 | O42: 비 고
C43: 입 도 | F43: 유리알 1호 | J43: 입도 106um ~ 850um
F44: 유리알 2호 | J44: 입도 150um ~ 600um
F45: 유리알 3호 | J45: 입도 90um ~ 212um
C46: 굴 절 율 | F46: 유리알 1종 | J46: 굴절율 1.50 ~ 1.90 이하
F47: 유리알 2종 | J47: 굴절율 1.90 이상
C48: 표 1-3 융착식 도료의 유리알 함유량에 따른 구분
C49: 종 류 | H49: 도료의 상태와 시공 조건
C50: 융착식 1호 | H50: 도료 중에 유리알을 15 ~ 18%(무게%) 함유 한 것
C51: 융착식 2호 | H51: 도료 중에 유리알을 20 ~ 23%(무게%) 함유 한 것
C52: 융착식 3호 | H52: 도료 중에 유리알을 25%(무게%) 이상을 함유 한 것
B53: 주1) 유리알은 KS L 2521에 따른 유리알 1호. 유리알 2호를 기준으로 한다.
B54: 주2) 유리알의 모양은 구형의 입자로서, 타원, 예각, 불투명, 이물질 및 입자간의 융착 등의 결점을 갖는 것의 총계가 20% 이하일 것.
C55: 표 1-4 노면표시의 색채 기준
C56: 색 종 류 | H56: 색 번 호 | N56: 비 고
C57: 흰 색 | H57: 37875 | N57: 허 용 치 △E = 1 이내
C58: 노 랑 색 | H58: 33538
C59: 청 색 | H59: 35250
B60: 비고) 한국산업표준 KS M 6080:2011
B61: 표 1-6 유리알의 품질
B62: 종류 및 항목 | D62: 1호 | I62: 2호 | O62: 3호
B63: 비중 | D63: 2.4 이상
B64: 입도 | D64: 표준망체 주((1) | I64: 표준망체 주((1) | O64: 표준망체 주((1)
D65: 850um에 남는 것 0% (2) | I65: 600um에 남는 것 0% | O65: 212um에 남는 것 0%
D66: 850um를 통과하고 600um에 남는 것 5~30% | I66: 600um를 통과하고 300um에 남는 것 40~90% | O66: 90um에 통과하는 것 0~4%
D67: 600um를 통과하고 300um에 남는 것 30~80% | I67: 150um에 통과하는 것 0~5%
D68: 300um를 통과하고 106um에 남는 것 5~30%
D69: 106um에 남는 것 10~40%
D70: 106um에 통과하는 것 0~5%
B71: 겉모양 | D71: 구상의 입자로서 타원, 예각, 불투명, 공기 혼합물, 이물 및 입자 간의 융착 등의 결점이 있는것의 총계가 20% 이하일 것.
B72: 굴절률 | D72: 1종 : 1.50 이상 1.90미만 2종 : 1.90 이상
B73: 내수성 | D73: 0.01N 염산의 소비량이 10mL 이하이고 유리알의 표면에 흐림이 없을 것. | O73: 0.01N 염산의 소비량이 15mL 이하이고 유리알의 표면에 흐림이 없을 것.
B75: 주1) KS A 5101-1(표준체_에 규정하는 안지름 200MM 또는 150MM, 깊이 45MM 또는 45MM 또는 60MM 표준망체 로서 위 표에서 규정한 눈의 벌림이 있는
B76: 것을 말한다.
B77: 주2) 무게 백분율(%)을 표시한다.
A78: 2.3. 재료의 반입 및 저장
A79: 1) 도료와 유리알은 지정된 용기와 포대로 반입하여야 한다.
A80: 2) 각 도료는 드럼의 뚜껑이 아래로 가도록 저장해야 하며, 도료가 반입된 후 3개월 이내에 사용할 때는 그대로 사용할 수 있으나, 3개월 이후에 사용해야 할
A81: 때는 며칠 전에 드럼을 뒤집어 놓아야 한다.
A82: 3) 유리알은 창고에 저장하고 냉습한 곳에 저장해서는 안 된다.
A83: 2.4 재료의 승인
A84: 계약자는 재료를 사용하기 30일 전에 사용할 재료가 KS의 관련 규격에 적합한 가를 증명할 수 있는 자료를 감독자에게 제출하고 승인을 얻어야 한다.
A86: 3. 시공
A87: 3.1 시공기계
A88: 3.1.1 일반사항
A89: 계약자는 시공에 사용할 차선도색 장비의 기종, 성능, 기계상태 등을 기재한 차선도색장비 사용계획서를 제출하여 감독자의 승인을 받아야 한다.
A90: 3.1.2 차선도색 장비
... A205: 할 수 있다.

Sheet 예정공정표
A1: 3. 예 정 공 정 표
B4: 착 공 | C4: 보 할 (%) | D4: 29 | J4: 비 고
A5: 공사구분 | D5: =+H5/3 -> 9.6666667 | F5: =+H5-D5 -> 19.333333 | H5: =D4 -> 29 | M5: 19191536
A6: 1. 토 공 | C6: =K6 -> 21.9 | D6: =$N6/5*2 -> 8.76 | F6: =$N6/5*2 -> 8.76 | H6: =$N6-D6-F6 -> 4.38 | K6: =SUM(D6:J6) -> 21.9 | M6: 3025910 | N6: =ROUND(M6/($M$5-$M$14)*100,1) -> 21.9
A8: 2. 배 수 공 | C8: =K8 -> 19 | E8: =$N8/4 -> 4.75 | F8: =$N8/4*2 -> 9.5 | H8: =N8-E8-F8 -> 4.75 | K8: =SUM(D8:J8) -> 19 | M8: 2620697 | N8: =ROUND(M8/($M$5-$M$14)*100,1) -> 19
A10: 4. 포 장 공 | C10: =K10 -> 41 | F10: =$N10/2 -> 20.5 | H10: =$N10/2 -> 20.5 | K10: =SUM(D10:J10) -> 41 | M10: 5658916 | N10: =ROUND(M10/($M$5-$M$14)*100,1) -> 41
A12: 5. 부 대 공 | C12: =K12 -> 18.1 | D12: =$N12/2 -> 9.1 | I12: =$N12/2-0.1 -> 9 | K12: =SUM(D12:J12) -> 18.1 | M12: 2509213 | N12: =ROUND(M12/($M$5-$M$14)*100,1) -> 18.2
A14: 계 | C14: =SUM(C6:C13) -> 100 | D14: =SUM(D6:E13) -> 22.61 | F14: =SUM(F6:G13) -> 38.76 | H14: =SUM(H6:I13) -> 38.63 | M14: 5376800
A16: 누 계 | D16: =D14 -> 22.61 | F16: =D16+F14 -> 61.37 | H16: =F16+H14 -> 100
M17: =M5-M14 -> 13814736
A18: * 본 공사예정 공정표는 전체 공정계획을 위한 것으로 착공시 세부공정별 공사예정표를 작성하여 감독원에 제출하여 승인을 득하여야 한다.

Sheet 2간지
A2: Ⅱ. 설 계 예 산 서

Sheet 갑지
A1: 과 장 | F1: 팀 장 | K1: 심 사 | P1: 설 계 년 월 일 | AC1: 검 산 | AH1: 설 계 | AM1: 비 고
P2: 2 0 2 6 년 6 월 일
A4: 2026 년도
A6: 경기도청소련수련원 정문 입구 정비공사
L9: 공 사 위 치 : | Q9: 경기도 안산시 단원구 선감로 255
L11: 공 사 개 요 : | Q11: 경기도청소년수련원 정문 입구 정비(회전교차로 선형개선)
Q12: 1) 아스콘 포장(T=45Cm) : A = 187.8M2
Q14: 2) 보차도경계석 : L = 41.4M
Q16: 3) 부대공 1식
Q18: 4) 차량출입시스템 교체 1식(관급자재 현장설치도 구입 예정으로 설계도면 미포함)
I24: 총 공 사 비 : | O24: =O25+O26 -> 62484000 | V24: =+"(금"&NUMBERSTRING(O24,1)&"원)" -> (금육천이백사십팔만사천원)
I25: 도급예정액 : | O25: 33700000 | V25: =+"(금"&NUMBERSTRING(O25,1)&"원)" -> (금삼천삼백칠십만원)
I26: 관급자재대 : | O26: 28784000 | V26: =+"(금"&NUMBERSTRING(O26,1)&"원)" -> (금이천팔백칠십팔만사천원)

Sheet 간지
A2: Ⅲ. 단 가 산 출 서
A23: Ⅳ. 수 량 산 출 서
A44: Ⅴ. 설 계 도
