Workbook

Sheet 총공사비집계표
A1: 총 공 사 비 집 계 표
A3: 공 종 | B3: 규 격 | C3: 수량 | D3: 단위 | E3: 합 계 | G3: 재 료 비 | I3: 노 무 비 | K3: 경 비 | M3: 비 고
E4: 단 가 | F4: 금 액 | G4: 단 가 | H4: 금 액 | I4: 단 가 | J4: 금 액 | K4: 단 가 | L4: 금 액
A5: 1. 토 공 | E5: =G5+I5+K5 -> 0 | F5: =H5+J5+L5 -> 0 | G5: 0 | H5: =내역서!H6 -> 0 | I5: 0 | J5: =내역서!J6 -> 0 | K5: 0 | L5: =내역서!L6 -> 0 | DM5: #B-2
A6: 2. 배 수 공 | E6: =G6+I6+K6 -> 0 | F6: =H6+J6+L6 -> 0 | G6: 0 | H6: =내역서!H19 -> 0 | I6: 0 | J6: =내역서!J19 -> 0 | K6: 0 | L6: =내역서!L19 -> 0 | DM6: #B-15
A7: 3. 포 장 공 | E7: =G7+I7+K7 -> 0 | F7: =H7+J7+L7 -> 0 | G7: 0 | H7: =내역서!H34 -> 0 | I7: 0 | J7: =내역서!J34 -> 0 | K7: 0 | L7: =내역서!L34 -> 0 | DM7: #B-30
A8: 4. 부 대 공 | E8: =G8+I8+K8 -> 0 | F8: =H8+J8+L8 -> 0 | G8: 0 | H8: =내역서!H45 -> 0 | I8: 0 | J8: =내역서!J45 -> 0 | K8: 0 | L8: =내역서!L45 -> 0 | DM8: #B-41
A9: 5. 사 급 자 재 대 | E9: =G9+I9+K9 -> 0 | F9: =H9+J9+L9 -> 0 | G9: 0 | H9: =내역서!H58 -> 0 | I9: 0 | J9: =내역서!J58 -> 0 | K9: 0 | L9: =내역서!L58 -> 0 | DM9: #B-54
A10: 순공사비 | E10: =G10+I10+K10 -> 0 | F10: =H10+J10+L10 -> 0 | G10: 0 | H10: =SUM(H5:H9) -> 0 | I10: 0 | J10: =SUM(J5:J9) -> 0 | K10: 0 | L10: =SUM(L5:L9) -> 0 | DM10: %SUM | DN10: [1..5]
A11: 6. 간 접 노 무 비 | C11: 1 | D11: 식 | E11: =G11+I11+K11 -> 0 | F11: =원가계산서!C9 -> 0 | G11: 0 | H11: 0 | I11: 0 | J11: 0 | K11: 0 | L11: 0 | DM11: #W-5
A12: 7. 산 재 보 험 료 | C12: 1 | D12: 식 | E12: =G12+I12+K12 -> 0 | F12: =원가계산서!C10 -> 0 | G12: 0 | H12: 0 | I12: 0 | J12: 0 | K12: 0 | L12: 0 | DM12: #W-6
A13: 8. 고 용 보 험 료 | C13: 1 | D13: 식 | E13: =G13+I13+K13 -> 0 | F13: =원가계산서!C11 -> 0 | G13: 0 | H13: 0 | I13: 0 | J13: 0 | K13: 0 | L13: 0 | DM13: #W-7
A14: 9. 산업안전보건관리비 | C14: 1 | D14: 식 | E14: =G14+I14+K14 -> 0 | F14: =원가계산서!C12 -> 0 | G14: 0 | H14: 0 | I14: 0 | J14: 0 | K14: 0 | L14: 0 | DM14: #W-8
A15: 10. 안 전 관 리 비 | C15: 1 | D15: 식 | E15: =G15+I15+K15 -> 0 | F15: =원가계산서!C14 -> 0 | G15: 0 | H15: 0 | I15: 0 | J15: 0 | K15: 0 | L15: 0 | DM15: #W-10
A16: 11. 환 경 보 전 비 | C16: 1 | D16: 식 | E16: =G16+I16+K16 -> 0 | F16: =원가계산서!C15 -> 0 | G16: 0 | H16: 0 | I16: 0 | J16: 0 | K16: 0 | L16: 0 | DM16: #W-11
A17: 12. 건설기계대여대금지급보증서발급금액 | C17: 1 | D17: 식 | E17: =G17+I17+K17 -> 0 | F17: =원가계산서!C16 -> 0 | G17: 0 | H17: 0 | I17: 0 | J17: 0 | K17: 0 | L17: 0 | DM17: #W-12
A18: 13. 석 면 분 담 금 | C18: 1 | D18: 식 | E18: =G18+I18+K18 -> 0 | F18: =원가계산서!C17 -> 0 | G18: 0 | H18: 0 | I18: 0 | J18: 0 | K18: 0 | L18: 0 | DM18: #W-13
A19: 14. 임금채권부담금 | C19: 1 | D19: 식 | E19: =G19+I19+K19 -> 0 | F19: =원가계산서!C18 -> 0 | G19: 0 | H19: 0 | I19: 0 | J19: 0 | K19: 0 | L19: 0 | DM19: #W-14
A20: 15. 기 타 경 비 | C20: 1 | D20: 식 | E20: =G20+I20+K20 -> 0 | F20: =원가계산서!C19 -> 0 | G20: 0 | H20: 0 | I20: 0 | J20: 0 | K20: 0 | L20: 0 | DM20: #W-15
A21: 16. 일 반 관 리 비 | C21: 1 | D21: 식 | E21: =G21+I21+K21 -> 0 | F21: =원가계산서!C21 -> 0 | G21: 0 | H21: 0 | I21: 0 | J21: 0 | K21: 0 | L21: 0 | DM21: #W-17
A22: 소 계 | E22: =G22+I22+K22 -> 0 | F22: =SUM(F10:F21) -> 0 | G22: 0 | H22: 0 | I22: 0 | J22: 0 | K22: 0 | L22: 0 | DM22: %SUM-TOT | DN22: [6..17]
A23: 17. 이 윤 | C23: 1 | D23: 식 | E23: =G23+I23+K23 -> 0 | F23: =원가계산서!C22 -> 0 | G23: 0 | H23: 0 | I23: 0 | J23: 0 | K23: 0 | L23: 0 | DM23: #W-18
A24: 18. 폐 기 물 처 리 | C24: 1 | D24: 식 | E24: =G24+I24+K24 -> 0 | F24: =원가계산서!C23 -> 0 | G24: 0 | H24: 0 | I24: 0 | J24: 0 | K24: 0 | L24: 0 | DM24: #W-19
A25: 공급가액 | E25: =G25+I25+K25 -> 0 | F25: =SUM(F22:F24) -> 0 | G25: 0 | H25: 0 | I25: 0 | J25: 0 | K25: 0 | L25: 0 | DM25: %SUM-TOT | DN25: [18..20]
A26: 19. 부 가 가 치 세 | C26: 1 | D26: 식 | E26: =G26+I26+K26 -> 0 | F26: =F25*0.1 -> 0 | G26: 0 | H26: 0 | I26: 0 | J26: 0 | K26: 0 | L26: 0 | DM26: %SUM-TOT | DN26: [21] * 0.1
A27: 도 급 예 정 액 | C27: 1 | D27: 식 | E27: =G27+I27+K27 -> 0 | F27: =원가계산서!C26 -> 0 | G27: 0 | H27: 0 | I27: 0 | J27: 0 | K27: 0 | L27: 0 | DM27: #W-22 | DN27: [21..22]
A28: 20. 관 급 자 재 대 | C28: 1 | D28: 식 | E28: =G28+I28+K28 -> 0 | F28: =원가계산서!C27 -> 0 | G28: 0 | H28: 0 | I28: 0 | J28: 0 | K28: 0 | L28: 0 | DM28: #W-23
A29: 총 사 업 비 | C29: 1 | D29: 식 | E29: =G29+I29+K29 -> 0 | F29: =SUM(F27:F28) -> 0 | G29: 0 | H29: 0 | I29: 0 | J29: 0 | K29: 0 | L29: 0 | DM29: %SUM-TOT | DN29: [23..24]

Sheet 원가계산서
A1: 원 가 계 산 서
A3: 구 분 | B3: 산 출 근 거 | C3: 금 액 | D3: 비 고
A5: 1. 순 공 사 비 | DN5: {B||*.순공사비|T}
A6: 2. 재 료 비 | DN6: {B||*.순공사비|M}
A7: 3. 직 접 노 무 비 | DN7: {B||*.순공사비|L}
A8: 4. 경 비 | DN8: {B||*.순공사비|E}
A9: 5. 간 접 노 무 비 | B9: [3] x 19.1% | DN9: [3]*<19.1%>
A10: 6. 산 재 보 험 료 | B10: [3+5] x 3.56% | DN10: [3+5]*<3.56%>
A11: 7. 고 용 보 험 료 | B11: [3+5] x 1.01% | DN11: [3+5]*<1.01%>
A12: 8. 산업안전보건관리비 | B12: [2+3] x 3.15% x 1.2 | DN12: [2+3]*<3.15%>*1.2
A13: 9. 산업안전보건관리비 | B13: ([2+3]+([23]/1.10)) x 3.15% | DN13: ([2+3]+([23]/1.10))*<3.15%>
A14: 10. 안 전 관 리 비 | DN14: {B||*.안전관리비|T}
A15: 11. 환 경 보 전 비 | B15: [2+3+4] x 0.90% | DN15: [2+3+4]*<0.90%>
A16: 12. 건설기계대여대금지급보증서발급금액 | B16: [2+3+4] x 0.68% | DN16: [2+3+4]*<0.68%>
A17: 13. 석 면 분 담 금 | B17: [3+5] x 0.006% | DN17: [3+5]*<0.006%>
A18: 14. 임금채권부담금 | B18: [3+5] x 0.09% | DN18: [3+5]*<0.09%>
A19: 15. 기 타 경 비 | B19: [2+3+5] x 5.5% | DN19: [2+3+5]*<5.5%>
A20: 16. 순 공 사 원 가 | B20: [2+3+4+5+6+7+8+9+10+11+12+13+14+15-9] | DN20: [2..15-9]
A21: 17. 일 반 관 리 비 | B21: [16] x 8.00% | DN21: [16]*<8.00%>
A22: 18. 이 윤 | B22: [16+17-2] x 14.6058% | D22: [16+17-2]x14.6058%= 2,638,341(≒2,569,019) | DN22: [16+17-2]*<15.00%>
A23: 19. 폐 기 물 처 리 | DN23: {B||*.폐기물처리|T}
A24: 20. 공 급 가 액 | B24: [16+17+18+19] | DN24: [16..19]
A25: 21. 부 가 가 치 세 | B25: [20] x 10.00% | DN25: [20]*<10.00%>
A26: 22. 도 급 예 정 액 | B26: [20+21] | DN26: [20..21]
A27: 23. 관 급 자 재 대 | B27: INT(6893524/10000+1) x 10000 | DN27: INT({B||*.관급자재대|T}/10000+1)*10000
A28: 24. 총 사 업 비 | B28: [22+23] | DN28: [22..23]

Sheet 내역서
A1: 예 산 내 역 서
A3: 공 종 | B3: 규 격 | C3: 수 량 | D3: 단위 | E3: 합 계 | G3: 재 료 비 | I3: 노 무 비 | K3: 경 비 | M3: 낙찰율(%) | N3: 비 고
E4: 단 가 | F4: 금 액 | G4: 단 가 | H4: 금 액 | I4: 단 가 | J4: 금 액 | K4: 단 가 | L4: 금 액
A5: *. 순 공 사 비 | C5: 0
A6: 1. 토 공 | C6: 0
A7: 1) 기존구조물철거 | C7: 0
A8: 무근콘크리트깨기 | B8: T=30Cm미만(BH0.4㎥) | C8: 11 | D8: ㎥ | N8: 산근 1호표 | DM8: S-MGCON30-BH04.
A9: 아스콘포장깨기 | B9: T=20Cm이하(굴삭기0.4㎥) | C9: 2 | D9: ㎥ | N9: 산근 2호표 | DM9: S-ASCON30- BH04.
A10: 보도블럭장비철거 | B10: B-TYPE | C10: 168 | D10: ㎡ | N10: 제 1호표 | DM10: B-보도철 장B.
A11: 아스콘절단(소규모) | C11: 63 | D11: m | N11: 산근 3호표 | DM11: S-ASCON CUT 소.
A12: 폐기물상차 | B12: 굴삭기0.4㎥ | C12: 23 | D12: ㎥ | N12: 산근 4호표 | DM12: S-PE SANG BH04.
A13: 2) 토 공 | C13: 0
A14: 구조물터파기 | B14: BH0.4㎥ | C14: 135 | D14: ㎥ | N14: 산근 5호표 | DM14: S-GJ YT BH04.
A15: 되메우기및다짐(소형장비)(소규모) | B15: 굴삭기0.4㎥/램머80kg | C15: 6 | D15: ㎥ | N15: 제 2호표 | DM15: B-DMUG(소)BH04 램80 소.
A16: 노반준비공 | B16: 절토부(BH0.4㎥) | C16: 217 | D16: ㎡ | N16: 산근 6호표 | DM16: S-NOBAN BH04.
A17: 사토운반(L=5 0Km) | B17: 굴삭기0.4㎥/덤프15Ton | C17: 128 | D17: ㎥ | N17: 산근 7호표 | DM17: S-SATO TO BH04 15.
C18: 0
A19: 2. 배 수 공 | C19: 0
A20: 1) 보차도및도로경계석 | C20: 0
A21: 보차도및도로경계석(곡선) | B21: 아래폭+높이(500미만)(B-TYPE) | C21: 41 | D21: M | N21: 제 3호표 | DM21: B-BOG 500-곡B.
A22: 무근콘크리트타설 | B22: 장비사용(VIB제외,소량) | C22: 5 | D22: ㎥ | N22: 제 4호표 | DM22: B-MCON장 VIBX(소량).
A23: 유 로 폼 | B23: 간단(벽체(0~7m)) | C23: 16 | D23: ㎡ | N23: 제 5호표 | DM23: B-YOURO 07 간.
A24: 몰탈(재료비) | B24: 1 : 3 | C24: 0.02 | D24: ㎥ | N24: 제 6호표 | DM24: B-MOLTAL 13재.
A25: 비닐깔기 | C25: 39 | D25: ㎡ | N25: 제 7호표 | DM25: B-VINIL.
A26: 2) PVC 이중벽관 | C26: 0
A27: PC개량우수받이설치 | B27: 300*400*900 | C27: 1 | D27: EA | N27: 제 8호표 | DM27: B-PCWOO349.
A28: 스틸그레이팅설치 | B28: 400*500*50 | C28: 1 | D28: EA | N28: 제 9호표 | DM28: B-스틸설4050.
A29: PVC이중벽관부설및접합 | B29: D300mm | C29: 7 | D29: M | N29: 제 10호표 | DM29: B-2PVC 300(설+재).
A30: PVC이중벽소켓이형관접합 | B30: D300mm | C30: 1 | D30: EA | N30: 제 11호표 | DM30: B-2PVCSO 300.
A31: 몰 탈 | B31: 1 : 2 | C31: 0.016 | D31: ㎥ | N31: 제 12호표 | DM31: B-MOLTAL 12
A32: PVC이중벽관 절단 | B32: D300mm | C32: 1 | D32: EA | N32: 제 13호표 | DM32: B-2PVC CUT30.
C33: 0
A34: 4. 포 장 공 | C34: 0
A35: 1) 아스콘포장 | C35: 0
A36: 표층포설및다짐 | B36: 인력식소규모 | C36: 188 | D36: ㎡ | N36: 제 14호표 | DM36: B-PYO IN.
A37: 택 코 팅(소규모) | B37: 인 력 식 | C37: 1.88 | D37: a | N37: 제 15호표 | DM37: B-TACCOT 인 소.
A38: 기층포설및다짐 | B38: 인력식소규모(2회포설) | C38: 188 | D38: ㎡ | N38: 제 16호표 | DM38: B-GI IN*2.
A39: 프라임코팅(소규모) | B39: 인 력 식 | C39: 1.88 | D39: a | N39: 제 17호표 | DM39: B-PRIMECOT 인 소.
A40: 보조기층포설및다짐 | B40: 인력식소규모장비 | C40: 65 | D40: ㎥ | N40: 제 18호표 | DM40: B-BOJO IN.
A41: 2) 보도포장 | C41: 0
A42: 보도블럭포장(소규모) | B42: T=8Cm이하(B-TYPE) | C42: 3 | D42: ㎡ | N42: 제 19호표 | DM42: B-BLOCK 06B 소.
A43: 보조기층포설및다짐 | B43: 인력식소규모장비 | C43: 1 | D43: ㎥ | N43: 제 18호표 | DM43: B-BOJO IN.
C44: 0
A45: 5. 부 대 공 | C45: 0
A46: 1) 부대공 | C46: 0
A47: 차선밑그림(소규모) | B47: 실선(기존도로) | C47: 7 | D47: ㎡ | N47: 제 20호표 | DM47: B-차로 실1 소.
A48: 차선도색(백색실선)(소규모) | B48: 융착형,수동식(기존),고휘도+일반형 | C48: 7 | D48: ㎡ | N48: 제 21호표 | DM48: B-차선도색 백실1 소.
A49: 차선규제봉설치(소규모) | B49: 750*200*D80 | C49: 4 | D49: EA | N49: 제 22호표 | DM49: B-규제봉 75 소.
A50: 2) 지장물이설 | C50: 0
A51: 지장물이설 | B51: 중량 1100~1300Kg | C51: 1 | D51: EA | N51: 제 23호표 | DM51: B-지장물이설(1100-1300).
A52: 지장물이설 | B52: 중량 150~300Kg | C52: 11 | D52: EA | N52: 제 24호표 | DM52: B-지장물이설(150-300).
A53: 3) 자재운반비 | C53: 0
A54: 경계석하차비 | C54: 1 | D54: 식 | N54: 산근 8호표 | DM54: S경계석하AA.
A55: 3) 중기운반비 | C55: 0
A56: 중기운반비 | C56: 1 | D56: 식 | N56: 산근 9호표 | DM56: S-중기운반 트X
C57: 0
A58: 6. 사 급 자 재 대 | C58: 0
A59: 레 미 콘 | B59: 25-21-08 | C59: 6 | D59: ㎥ | N59: M-S REMI 2108 | DM59: M-S REMI 2108
A60: PVC이중벽관(이음관) | B60: D300mm | C60: 1 | D60: EA | N60: M-22509449푸른 | DM60: M-22509449푸른
A61: 아스콘 | B61: 표층(#78) | C61: 22 | D61: Ton | N61: M-S ASCON 78 | DM61: M-S ASCON 78
A62: 인터로킹:회색 | B62: T60 | C62: 3 | D62: ㎡ | N62: M-S INTER GRA | DM62: M-S INTER GRA
A63: 모 래 | B63: 시내도착도 | C63: 1 | D63: ㎥ | N63: M-MORAE | DM63: M-MORAE
A64: 보조기층 | B64: Φ40mm(시내도착도) | C64: 83 | D64: ㎥ | N64: M-HONHAP 40 | DM64: M-HONHAP 40
C65: 0
A66: :: | C66: 0
A67: *. 안전관리비 | C67: 0
A68: 1. 안전시설 | C68: 0
A69: 교통정리원 | C69: 1 | D69: 인 | N69: 제 25호표 | DM69: B369-0011.
A70: 공사안내판제작및설치 | B70: 900*1800(A형) | C70: 1 | D70: EA | N70: E-안전표지. | DM70: E-안전표지.
A71: 현수막설치 | B71: 공사안내 | C71: 1 | D71: EA | N71: 제 26호표 | DM71: B현수막-1.
A72: 2. 교통안전처리시설 | C72: 0
A73: 교통안전처리시설 | C73: 1 | D73: 식 | N73: 산근 10호표 | DM73: S34-034*1도(단기주간)
C74: 0
A75: :: | C75: 0
A76: *. 폐 기 물 처 리 | C76: 0
A77: 1. 폐 기 물 운 반 | C77: 0
A78: 폐기물운반 | B78: 폐콘,폐아 | C78: 50 | D78: Ton | N78: E-PYEGI WB시 | DM78: E-PYEGI WB시
C79: 0
A80: 2. 폐 기 물 처 리 | C80: 0
A81: 폐기물처리 | B81: 폐콘크리트 | C81: 46 | D81: Ton | N81: E-PYEGI CON 시 | DM81: E-PYEGI CON 시
A82: 폐기물처리 | B82: 폐아스콘 | C82: 4 | D82: Ton | N82: E-PYEGI ASCON 시 | DM82: E-PYEGI ASCON 시
C83: 0
A84: :: | C84: 0
A85: *. 관 급 자 재 대 | C85: 0
A86: 1. 도급자 관급 | C86: 0
A87: 보차도경계석(화강석) | B87: 200*250*1000(표준곡선) | C87: 43 | D87: EA | N87: M-21794913화성 | DM87: M-21794913화성
A88: 아 스 콘 | B88: BB-2, #467(기층용) | C88: 44 | D88: Ton | N88: M-23734469경서 | DM88: M-23734469경서
A89: 조달수수료 | B89: 재료비의 | C89: 0.54 | D89: % | DM89: %RAN*ME | DN89: 86
A91: 2. 관급자 관급(현장설치도) | C91: 0 | M91: =SUM(M92:M99) -> 0
A92: 차량인식기(차량번호인식) | B92: 단방향, 전광판일체형, AGATE-LPR300 | C92: 1 | D92: EA | M92: 24355652 | N92: 24355652
A93: 차량차단기(자동차단기) | B93: AGATE-GTL | C93: 2 | D93: EA | M93: 24358161 | N93: 24358161
A94: 주차주제어장치(주차관리컴퓨터) | B94: AGATE-PCS | C94: 1 | D94: EA | M94: 24355649 | N94: 24355649
A95: 주차관제주변기기(차단기 스위치) | B95: AGATE-SW | C95: 2 | D95: EA | M95: 25539877 | N95: 25539877
A96: 차량감지기(루프코일감지기) | B96: DET-P100 | C96: 1 | D96: EA | M96: 24634156 | N96: 24634156
A97: 주차관제주변기기 (리모컨송신기) | B97: AGATE-REMR | C97: 2 | D97: EA | M97: 25533183 | N97: 25533183
A98: 주차관제주변기기 (리모컨수신기) | B98: AGATE-REMT | C98: 1 | D98: EA | M98: 25533184 | N98: 25533184
A99: 조달수수료 | B99: 0.54% | C99: 1
