Workbook

Sheet 표지
A2: 과장 | C2: 팀장 | E2: 심사자 | G2: 설계자 | I2: 2026년 6월 일 설계
A4: ○ 2026년도
A5: 2 0 2 6 년 상 수 직 교 등 2 개 소 포 장 공 사
B8: ○ 위 치 : 경기도 화성시 양감면 송산리 953-92번지 등 2개소
B9: ○ 공사개요
B10: - 포장공사 1식
B11: - 상수직교, 신왕교
B13: ○ 계약금액
B14: 총 공 사 금 액 : | D14: 237254000 | F14: (금이억삼천칠백이십오만사천원)
B15: 도 급 예 정 액 : | D15: 211592000 | F15: (금이억일천일백오십구만이천원)
B16: 도급자관급자재대 : | D16: 25662000 | F16: (금이천오백육십육만이천원)

Sheet 원가계산서
A1: 원 가 계 산 서
A2: 공 종 명 | C2: 규격 | D2: 수 량 | E2: 단위 | F2: 합 계 | G2: 노 무 비 | I2: 재 료 비 | K2: 경 비 | L2: 비고
A3: 가) 순공사비
A4: (1) 간접노무비 | D4: 19.1 | E4: % | G4: 【직접노무비】× 19.10%
A5: (2) 산재보험료 | D5: 3.56 | E5: % | G5: 【직접노무비＋간접노무비】× 3.56%
A6: (3) 고용보험료 | D6: 1.01 | E6: % | G6: 【직접노무비＋간접노무비】× 1.01%
A7: (4) 건강보험료 | D7: 3.595 | E7: % | F7: 2251603 | G7: 【직접노무비】× 3.595%
A8: (5) 연금보험료 | D8: 4.75 | E8: % | F8: 2974997 | G8: 【직접노무비】 × 4.75%
A9: (6) 노인장기요양보험료 | D9: 13.14 | E9: % | F9: 295860 | G9: 【건강보험료】× 13.14%
A10: (7) 건설기계대여금지급보증서 | D10: 0.68 | E10: % | G10: 【직접공사비】 × 0.68%
A11: (8) 산업안전보건관리비 | D11: 3.15 | E11: % | F11: 4031944 | G11: 【재료비＋직접노무비＋관급자재대】 × 3.15% = 4090838
G12: 【재료비＋직접노무비】 × 3.15%) x 1.2= 4031944 | L12: 적용
A13: (9) 환경보전비 | D13: 0.9 | E13: % | G13: 【직접공사비】 × 0.90%
A14: (10) 기 타 경 비 | D14: 5.5 | E14: % | G14: 【재료비+직접노무비+간접노무비】 × 5.50%
A15: (11) 건설하도급대금지급보증수수료 | D15: 0 | E15: % | G15: 【직접공사비】 × 0.000%
A16: (11) 석면분담금 | D16: 0.006 | E16: 식 | G16: 【직접노무비＋간접노무비】× 0.006%
A17: (12) 임금채권부담금 | D17: 0.09 | E17: 식 | G17: 【직접노무비＋간접노무비】× 0.09%
A18: (13) 퇴직공제부금비 | D18: 2.3 | E18: % | F18: 1440525 | G18: 【직접노무비】× 2.30%
A19: 나) 간접공사비
A20: 다) 특허기술사용료 | D20: 1 | E20: 식
A21: 라) 안전관리비 | D21: 1 | E21: 식 | F21: 10659473
A22: 마) 품질관리비 | D22: 1 | E22: 식 | F22: 722019
A23: 바) 순공사원가 | G23: 순공사비 + 간접노무비 + 경비
A24: 사) 일반관리비 | D24: 8 | E24: % | G24: 【순공사원가】 × 8.00%
A25: 아) 이 윤 | D25: 15 | E25: % | G25: 【순공사비＋일반관리비-재료비-특허사용료】 × 15.00%
A26: 자) 공 급 가 액
A27: 차) 부가가치세 | D27: 10 | E27: % | G27: 【공급가액】 × 10.00%
A28: 카) 도급예정액 | G28: 【공급가액＋부가가치세】
A29: 타) 도급자 관급자재대 | D29: 1 | E29: 식
A30: 총 공 사 비

Sheet 설계내역서(총괄)
A1: 총 괄 내 역 서
A2: 공 종 명 | B2: 규 격 | C2: 수량 | D2: 단위 | E2: 합 계 | G2: 노 무 비 | I2: 재 료 비 | K2: 경 비
E3: 단 가 | F3: 금 액 | G3: 단 가 | H3: 금 액 | I3: 단 가 | J3: 금 액 | K3: 단 가 | L3: 금 액
A4: ▣ 2026년 상수직교 등 2개소 포장공사
A5: 1. 순 공 사 비 원 가 | C5: 1 | D5: 식 | E5: =I5+G5+K5 -> 0
A6: 1) 순 공 사 비 | C6: 1 | D6: 식 | E6: =I6+G6+K6 -> 0
A7: 2) 간 접 노 무 비 | B7: =원가계산서!D4 -> 19.1 | C7: 1 | D7: 식 | E7: =I7+G7+K7 -> 0
A8: 3) 경 비 | E8: =I8+G8+K8 -> 0
A9: 가) 산 재 보 험 료 | B9: =원가계산서!D5 -> 3.56 | C9: 1 | D9: 식 | E9: =I9+G9+K9 -> 0
A10: 나) 고 용 보 험 료 | B10: =원가계산서!D6 -> 1.01 | C10: 1 | D10: 식 | E10: =I10+G10+K10 -> 0
A11: 다) 건 강 보 험 료 | B11: =원가계산서!D7 -> 3.595 | C11: 1 | D11: 식 | E11: =I11+G11+K11 -> 0
A12: 라) 연 금 보 험 료 | B12: =원가계산서!D8 -> 4.75 | C12: 1 | D12: 식 | E12: =I12+G12+K12 -> 0
A13: 마) 노인장기요양보험료 | B13: =원가계산서!D9 -> 13.14 | C13: 1 | D13: 식 | E13: =I13+G13+K13 -> 0
A14: 바) 건설기계대여금지급보증서 | B14: =원가계산서!D10 -> 0.68 | C14: 1 | D14: 식 | E14: =I14+G14+K14 -> 0
A15: 사) 산업안전보건관리비 | B15: =원가계산서!D11 -> 3.15 | C15: 1 | D15: 식 | E15: =I15+G15+K15 -> 0
A16: 아) 환 경 보 전 비 | B16: =원가계산서!D13 -> 0.9 | C16: 1 | D16: 식 | E16: =I16+G16+K16 -> 0
A17: 자) 기 타 경 비 | B17: =원가계산서!D14 -> 5.5 | C17: 1 | D17: 식 | E17: =I17+G17+K17 -> 0
A18: 차) 건설하도급지급수수료 | B18: =[1]제경비산출근거!D15 -> 0 | C18: 1 | D18: 식 | E18: =I18+G18+K18 -> 0
A19: 차) 석면분담금 | B19: =원가계산서!D16 -> 0.006 | C19: 1 | D19: 식
A20: 카) 임금채권부담금 | B20: =원가계산서!D17 -> 0.09 | C20: 1 | D20: 식
A21: 타) 퇴직공제부금비 | B21: =원가계산서!D18 -> 2.3 | C21: 1 | D21: 식
A22: 2. 특허기술사용료 | C22: 1 | D22: 식
A23: 3. 안전관리비 | C23: 1 | D23: 식
A24: 4. 품질관리비 | C24: 1 | D24: 식
A25: 5. 일 반 관 리 비 | B25: =원가계산서!D24 -> 8 | C25: 1 | D25: 식 | E25: =I25+G25+K25 -> 0
A26: 6. 이 윤 | B26: =원가계산서!D25 -> 15 | C26: 1 | D26: 식 | E26: =I26+G26+K26 -> 0
A27: 7. 공 급 가 액 | E27: =I27+G27+K27 -> 0
A28: 8. 부 가 가 치 세 | C28: 1 | D28: 식 | E28: =I28+G28+K28 -> 0
A29: Ⅰ. 도 급 예 정 액 | C29: 1 | D29: 식 | E29: =I29+G29+K29 -> 0
A30: Ⅱ. 도급자 관급자재대 | C30: 1 | D30: 식 | E30: =I30+G30+K30 -> 0
A31: ◎ 총 사 업 비 | C31: 1 | D31: 식 | E31: =I31+G31+K31 -> 0

Sheet 설계내역서(세부)
A1: 설계내역서
A2: 공 종 명 | B2: 규 격 | C2: 수량 | D2: 단위 | E2: 합 계 | G2: 재 료 비 | I2: 노 무 비 | K2: 경 비 | M2: 비 고
E3: 단 가 | F3: 금 액 | G3: 단 가 | H3: 금 액 | I3: 단 가 | J3: 금 액 | K3: 단 가 | L3: 금 액 | S3: 할 증 | T3: 화폐변환 | U3: OP값 | V3: EQ | W3: LA | X3: MA | Y3: 금액계상
A4: 2026년 상수직교 등 2개소 포장공사 | C4: 1 | D4: 식 | O4: B00
A5: 1.상 수 직 교 | C5: 1 | D5: 식 | P5: 80 | R5: B030
A6: 2.신 왕 교 | C6: 1 | D6: 식 | P6: 90 | R6: B055
P7: 100 | R7: B085
P8: 110 | R8: B087
P9: 120 | R9: B090
P10: 130 | R10: B095
P19: 140 | Q19: S
A21: 1.상 수 직 교 | C21: 1 | D21: 식 | O21: B030
A22: 1. 포장공 | P22: 10
A23: 1.01 절삭 및 덧씌우기 | B23: (야간) | P23: 20
A24: a 절삭후 아스팔트덧씌우기 | B24: (t=8cm, A-Type),야간 | C24: 225 | D24: M2 | P24: 30 | R24: SE024001 | T24: F
A25: b 절삭후 아스팔트덧씌우기 | B25: (t=5cm, A-Type), 야간 | C25: 186 | D25: M2 | P25: 40 | R25: SE04300 | T25: F
A26: 1.02 교면방수 | B26: (야간) | P26: 50
A27: a 교면방수 | C27: 225 | D27: M2 | P27: 60 | R27: ZB00J30 | T27: F
A28: 1.03 교면상판 슬래브보수 | B28: (야간) | P28: 70
A29: a 교량상판보수 | B29: (t=40mm) | C29: 11 | D29: M2 | P29: 80 | R29: ZB00J35 | T29: F
A30: 1.04 신축이음 | P30: 90
A31: a 신축이음장치 교체 | B31: (NO.50) | C31: 22 | D31: M | P31: 100 | R31: SR00607 | T31: F
A32: b 차수판설치 | C32: 4 | D32: EA | P32: 110 | R32: SA0097 | T32: F
A33: c 신축이음부 배수시설 | C33: 2 | D33: 개소 | P33: 120 | R33: SC05403 | T33: F
A34: 1.05 배수시설 | P34: 130
A35: a 집수구 교체 | C35: 4 | D35: EA | P35: 140 | R35: SC05300 | T35: F
A36: b 교면물뻬기공 | C36: 48 | D36: M | P36: 150 | R36: ZB00J34 | T36: F
A37: 2. 부대공 | P37: 160
A38: 2.01 차선도색 | P38: 170
A39: a 백색실선 | B39: (융착식,수동식) | C39: 13 | D39: M2 | P39: 180 | R39: SF04300 | T39: F
A40: b 황색실선 | B40: (융착식,수동식) | C40: 7 | D40: M2 | P40: 190 | R40: SF04301 | T40: F
A41: 2.02 폐기물상차 | P41: 200
A42: a 폐기물상차비 | C42: 28 | D42: M3 | P42: 210 | R42: S506115000 | T42: F
A43: 2.03 장비사용료 | P43: 220
A44: a 중기운반비 | B44: (상수직교) | C44: 1 | D44: 식 | P44: 230 | R44: SD00244 | T44: F
A45: 3. 사급자재대 | P45: 240
A46: a 아스팔트 유제 | B46: RSC-4 | C46: 1 | D46: D/M | P46: 250 | R46: MZR591
P53: 260 | Q53: S
A55: 2.신 왕 교 | C55: 1 | D55: 식 | O55: B055
A56: 1. 포장공 | P56: 10
...
