Workbook
Name 내역: #REF!
Name 자재단가: [1]SHEET!$A$1:$J$65536

Sheet 원가계산
A3: [ 공사명 ] | B3: 경기도청 옛청사 구관 사무환경개선 전기공사(총괄) | E3: 금액 : 일십사억일천칠백사십팔만육천팔십원정 ( ₩1,417,486,080 )
A4: 비 목 | D4: 금 액 | E4: 구 성 비 | F4: 비 고
A5: 순 공 사 원 가 | B5: 재료비 | C5: 직 접 재 료 비
C6: 간 접 재 료 비
C7: 작업설·부설물(△)
C8: [ 소 계 ]
B9: 노무비 | C9: 직 접 노 무 비
C10: 간 접 노 무 비 | E10: 직접노무비×17.9%
C11: [ 소 계 ]
B12: 경 비 | C12: 기 계 경 비
C13: 산 재 보 험 료 | E13: 노무비×3.56%
C14: 고 용 보 험 료 | E14: 노무비×1.01%
C15: 건 강 보 험 료 | E15: 직접노무비×3.595%
C16: 노인장기요양보험료 | E16: 건강보험료×13.14%
C17: 연 금 보 혐 료 | E17: 직접노무비×4.75%
C18: 퇴 직 공 제 부 금 비 | E18: 직접노무비×2.3%
C19: 산업안전보건관리비 | E19: a,b중 작은금액적용
E20: a.{(재료비+직접노무비)×2.28%＋4,325,000 }×1.2 | F20: a.(재료비+직접노무비)×적용율×1.2
E21: b.(재료비+직접노무비+도급자관급)×2.28%＋4,325,000 | F21: b.(재료비+직접노무비+도급자관급)×적용율
C22: 기 타 경 비 | E22: (재료비＋노무비)×5.2%
C23: 석 면 분 담 금 | E23: 노무비×0.006%
C24: 임금채권부담금 | E24: 노무비×0.09%
C25: [ 소 계 ]
A26: [ 순 공 사 원 가 합 계 ]
A27: 일 반 관 리 비 | E27: 순공사원가×6.5%
A28: 이 윤 | E28: (노무비＋경비＋일반관리비)×15%
A29: 고 자 재
A30: 공 급 가 액
A31: 손 해 배 상 공 제 료 | E31: 순계약금액(공급가액+도급자관급)*0.26477%
A32: 부 가 가 치 세 | E32: 공급가액×10%
A33: 도 급 공 사 비 | D33: 1231431080 | F33: 십원단위 절사
A34: 관 급 자 관 급
A35: 도 급 자 관 급 | D35: 186055000 | E35: VAT 포함
A36: [ 총 공 사 비 ] | D36: 1417486080

Sheet 총괄표
A1: 총줄수-> | B1: 55 | D1: [ 경기도청 옛청사 구관 사무환경개선 전기공사(총괄) ] | AA1: 연속견적가로형식
A2: 번호 | B2: 공종코드 | C2: … | D2: 공 종 명 | E2: 규격 | F2: 단위 | G2: 수량 | H2: 재료비 | J2: 노무비 | M2: 경비 | P2: 계 | Q2: 비고
H3: 단가 | I3: 금액 | J3: 수량 | K3: 단가 | L3: 금액 | M3: 단가 | N3: 금액 | O3: 단가
B4: 공종줄 | D4: 경기도청 옛청사 구관 사무환경개선사업
B5: 01 | D5: 1.구관 | F5: 식 | G5: 1 | H5: =총괄표!I55 -> 0 | I5: =G5*H5 -> 0 | K5: =총괄표!L55 -> 0 | L5: =G5*K5 -> 0 | M5: =총괄표!N55 -> 0 | N5: =G5*M5 -> 0 | O5: =IF((H5+K5+M5)=0, "", (H5+K5+M5)) | P5: =SUM(I5,L5,N5) -> 0
C29: Total | D29: ( 합 계 ) | I29: =TRUNC(SUM(I4:I28)) -> 0 | L29: =TRUNC(SUM(L4:L28)) -> 0 | N29: =TRUNC(SUM(N4:N28)) -> 0 | O29: =IF((H29+K29+M29)=0, "", (H29+K29+M29)) | P29: =TRUNC(SUM(P4:P28)) -> 0
B30: 공종줄 | D30: 1.구관
B31: 0101 | D31: 1-1.전력간선공사 | F31: 식 | G31: 1 | H31: =내역서!I107 -> 0 | I31: =G31*H31 -> 0 | K31: =내역서!L107 -> 0 | L31: =G31*K31 -> 0 | M31: =내역서!N107 -> 0 | N31: =G31*M31 -> 0 | O31: =IF((H31+K31+M31)=0, "", (H31+K31+M31)) | P31: =SUM(I31,L31,N31) -> 0
B32: 0102 | D32: 1-2.동력설비공사 | F32: 식 | G32: 1 | H32: =내역서!I133 -> 0 | I32: =G32*H32 -> 0 | K32: =내역서!L133 -> 0 | L32: =G32*K32 -> 0 | M32: =내역서!N133 -> 0 | N32: =G32*M32 -> 0 | O32: =IF((H32+K32+M32)=0, "", (H32+K32+M32)) | P32: =SUM(I32,L32,N32) -> 0
B33: 0103 | D33: 1-3.전등설비공사 | F33: 식 | G33: 1 | H33: =내역서!I211 -> 0 | I33: =G33*H33 -> 0 | K33: =내역서!L211 -> 0 | L33: =G33*K33 -> 0 | M33: =내역서!N211 -> 0 | N33: =G33*M33 -> 0 | O33: =IF((H33+K33+M33)=0, "", (H33+K33+M33)) | P33: =SUM(I33,L33,N33) -> 0
B34: 0104 | D34: 1-4.전열설비공사 | F34: 식 | G34: 1 | H34: =내역서!I263 -> 0 | I34: =G34*H34 -> 0 | K34: =내역서!L263 -> 0 | L34: =G34*K34 -> 0 | M34: =내역서!N263 -> 0 | N34: =G34*M34 -> 0 | O34: =IF((H34+K34+M34)=0, "", (H34+K34+M34)) | P34: =SUM(I34,L34,N34) -> 0
B35: 0105 | D35: 1-5.냉난방 및 전열교환기설비공사 | F35: 식 | G35: 1 | H35: =내역서!I315 -> 0 | I35: =G35*H35 -> 0 | K35: =내역서!L315 -> 0 | L35: =G35*K35 -> 0 | M35: =내역서!N315 -> 0 | N35: =G35*M35 -> 0 | O35: =IF((H35+K35+M35)=0, "", (H35+K35+M35)) | P35: =SUM(I35,L35,N35) -> 0
B36: 0106 | D36: 1-6.피뢰침설치공사 | F36: 식 | G36: 1 | H36: =내역서!I341 -> 0 | I36: =G36*H36 -> 0 | K36: =내역서!L341 -> 0 | L36: =G36*K36 -> 0 | M36: =내역서!N341 -> 0 | N36: =G36*M36 -> 0 | O36: =IF((H36+K36+M36)=0, "", (H36+K36+M36)) | P36: =SUM(I36,L36,N36) -> 0
B37: 0107 | D37: 1-7.CABLE TRAY 설치공사 | F37: 식 | G37: 1 | H37: =내역서!I419 -> 0 | I37: =G37*H37 -> 0 | K37: =내역서!L419 -> 0 | L37: =G37*K37 -> 0 | M37: =내역서!N419 -> 0 | N37: =G37*M37 -> 0 | O37: =IF((H37+K37+M37)=0, "", (H37+K37+M37)) | P37: =SUM(I37,L37,N37) -> 0
B38: 0108 | D38: 1-8.전기철거공사 | F38: 식 | G38: 1 | H38: =내역서!I471 -> 0 | I38: =G38*H38 -> 0 | K38: =내역서!L471 -> 0 | L38: =G38*K38 -> 0 | M38: =내역서!N471 -> 0 | N38: =G38*M38 -> 0 | O38: =IF((H38+K38+M38)=0, "", (H38+K38+M38)) | P38: =SUM(I38,L38,N38) -> 0
B55: 01 | C55: Total | D55: ( 합 계 ) | I55: =TRUNC(SUM(I30:I54)) -> 0 | L55: =TRUNC(SUM(L30:L54)) -> 0 | N55: =TRUNC(SUM(N30:N54)) -> 0 | O55: =IF((H55+K55+M55)=0, "", (H55+K55+M55)) | P55: =TRUNC(SUM(P30:P54)) -> 0

Sheet 내역서
A1: 총줄수-> | B1: 471 | D1: [ 경기도청 옛청사 구관 사무환경개선 전기공사(총괄) ] | W1: 노임 계산 정보 | AA1: 부속재 및 손료
A2: 번호 | B2: 공종코드 | C2: 코드 | D2: 명 칭 | E2: 규 격 | F2: 단위 | G2: 수량 | H2: 재료비 | J2: 노무비 | M2: 경비 | P2: 계 | Q2: 비고 | W2: 노임계 | X2: 전체(%) | Y2: 공종별(%) | Z2: 노임 소수 | AA2: CD배관재 | AB2: 일반배관재 | AC2: 소모재 | AD2: 자재계 | AE2: 노임계
H3: 단가 | I3: 금액 | J3: 수량 | K3: 단가 | L3: 금액 | M3: 단가 | N3: 금액 | O3: 단가
B4: 공종줄 | D4: 1.구관::1-1.전력간선공사
A5: 5975A338004 | B5: 0101 | C5: E59750338004 | D5: 나사없는전선관 | E5: E39 | F5: M | G5: 16 | Q5: 제 58호 | AC5: =J5*H5 -> 0 | AE5: =L5 -> 0
A6: 5975A338006 | B6: 0101 | C6: E59750338006 | D6: 나사없는전선관 | E6: E51 | F6: M | G6: 94 | Q6: 제 59호 | AC6: =J6*H6 -> 0 | AE6: =L6 -> 0
A7: 5975A338007 | B7: 0101 | C7: E59750338007 | D7: 나사없는전선관 | E7: E63 | F7: M | G7: 61 | Q7: 제 60호 | AC7: =J7*H7 -> 0 | AE7: =L7 -> 0
A8: 5975A338008 | B8: 0101 | C8: E59750338008 | D8: 나사없는전선관 | E8: E75 | F8: M | G8: 16 | Q8: 제 61호 | AC8: =J8*H8 -> 0 | AE8: =L8 -> 0
A9: MM318075004 | B9: 0101 | C9: 3913170825309906 | D9: 볼트고정식이음쇠(나사없는) | E9: 커플링 E39 | F9: 개 | G9: 4
A10: MM318075005 | B10: 0101 | C10: 3913170825309907 | D10: 볼트고정식이음쇠(나사없는) | E10: 커플링 E51 | F10: 개 | G10: 26
A11: MM318075006 | B11: 0101 | C11: 3913170825309908 | D11: 볼트고정식이음쇠(나사없는) | E11: 커플링 E63 | F11: 개 | G11: 16
A12: MM318075007 | B12: 0101 | C12: 3913170825309909 | D12: 볼트고정식이음쇠(나사없는) | E12: 커플링 E75 | F12: 개 | G12: 4
A13: MM318075104 | B13: 0101 | C13: 3913170825309899 | D13: 볼트고정식이음쇠(나사없는) | E13: 커넥터 E39 | F13: 개 | G13: 2
A14: MM318075105 | B14: 0101 | C14: 3913170825309900 | D14: 볼트고정식이음쇠(나사없는) | E14: 커넥터 E51 | F14: 개 | G14: 32
A15: MM318075106 | B15: 0101 | C15: 3913170825309901 | D15: 볼트고정식이음쇠(나사없는) | E15: 커넥터 E63 | F15: 개 | G15: 12
A16: MM318075107 | B16: 0101 | C16: 3913170825309902 | D16: 볼트고정식이음쇠(나사없는) | E16: 커넥터 E75 | F16: 개 | G16: 12
A17: 59759027064 | B17: 0101 | C17: 3913170824691057 | D17: 노말밴드(나사없는 전선관용) | E17: E39 | F17: 개 | G17: 2
A18: 59759027065 | B18: 0101 | C18: 3913170824691058 | D18: 노말밴드(나사없는 전선관용) | E18: E51 | F18: 개 | G18: 20
A19: 59759027066 | B19: 0101 | C19: 3913170824691060 | D19: 노말밴드(나사없는 전선관용) | E19: E63 | F19: 개 | G19: 9
A20: 59759017054 | B20: 0101 | C20: 3913170810036337 | D20: 강재전선관용 부품 | E20: 파이프크램프, 36 C | F20: 개 | G20: 2
... A23: 59759017057 | B23: 0101 | C23: 3913170810036340 | D23: 강재전선관용 부품 | E23: 파이프크램프, 70 C | F23: 개 | G23: 12
A24: 5975D857031 | B24: 0101 | C24: E59753857031 | D24: 풀박스 | E24: 150×150×100 | F24: 개 | G24: 22 | Q24: 제 76호 | AE24: =L24 -> 0
A25: 5975D857101 | B25: 0101 | C25: E59753857101 | D25: 풀박스 | E25: 250×250×200 | F25: 개 | G25: 6 | Q25: 제 77호 | AE25: =L25 -> 0
A26: E145A927203 | B26: 0101 | C26: EE1450927203 | D26: 접지용비닐절연전선(F-GV) | E26: 6㎟ | F26: M | G26: 18 | Q26: 제 110호 | AC26: =J26*H26 -> 0 | AE26: =L26 -> 0
A27: E145A927204 | B27: 0101 | C27: EE1450927204 | D27: 접지용비닐절연전선(F-GV) | E27: 10㎟ | F27: M | G27: 82 | Q27: 제 111호 | AC27: =J27*H27 -> 0 | AE27: =L27 -> 0
A28: E145A927205 | B28: 0101 | C28: EE1450927205 | D28: 접지용비닐절연전선(F-GV) | E28: 16㎟ | F28: M | G28: 100 | Q28: 제 112호 | AC28: =J28*H28 -> 0 | AE28: =L28 -> 0
A29: E145A927206 | B29: 0101 | C29: EE1450927206 | D29: 접지용비닐절연전선(F-GV) | E29: 25㎟ | F29: M | G29: 15 | Q29: 제 113호 | AC29: =J29*H29 -> 0 | AE29: =L29 -> 0
A30: E145A927209 | B30: 0101 | C30: EE1450927209 | D30: 접지용비닐절연전선(F-GV) | E30: 50㎟ | F30: M | G30: 7 | Q30: 제 114호 | AC30: =J30*H30 -> 0 | AE30: =L30 -> 0
A31: E145A287509 | B31: 0101 | C31: EE1450287509 | D31: 폴리에틸렌 난연케이블(4열동시) | E31: 0.6/1kv F-CV 1C×50㎟ | F31: M | G31: 1260 | Q31: 제 116호 | AC31: =J31*H31 -> 0 | AE31: =L31 -> 0
A32: E145A287512 | B32: 0101 | C32: EE1450287512 | D32: 폴리에틸렌 난연케이블(4열동시) | E32: 0.6/1kv F-CV 1C×95㎟ | F32: M | G32: 630 | Q32: 제 117호 | AC32: =J32*H32 -> 0 | AE32: =L32 -> 0
A33: E145A287525 | B33: 0101 | C33: EE1450287525 | D33: 폴리에틸렌 난연케이블 | E33: 0.6/1kv F-CV 2C×16㎟ | F33: M | G33: 10 | Q33: 제 120호 | AC33: =J33*H33 -> 0 | AE33: =L33 -> 0
A34: E145A287563 | B34: 0101 | C34: EE1450287563 | D34: 폴리에틸렌 난연케이블 | E34: 0.6/1kv F-CV 4C×6㎟ | F34: M | G34: 18 | Q34: 제 121호 | AC34: =J34*H34 -> 0 | AE34: =L34 -> 0
A35: E145A287564 | B35: 0101 | C35: EE1450287564 | D35: 폴리에틸렌 난연케이블 | E35: 0.6/1kv F-CV 4C×10㎟ | F35: M | G35: 461 | Q35: 제 122호 | AC35: =J35*H35 -> 0 | AE35: =L35 -> 0
A36: E145A287565 | B36: 0101 | C36: EE1450287565 | D36: 폴리에틸렌 난연케이블 | E36: 0.6/1kv F-CV 4C×16㎟ | F36: M | G36: 140 | Q36: 제 123호 | AC36: =J36*H36 -> 0 | AE36: =L36 -> 0
A37: E145A287566 | B37: 0101 | C37: EE1450287566 | D37: 폴리에틸렌 난연케이블 | E37: 0.6/1kv F-CV 4C×25㎟ | F37: M | G37: 242 | Q37: 제 124호 | AC37: =J37*H37 -> 0 | AE37: =L37 -> 0
A38: E145A287568 | B38: 0101 | C38: EE1450287568 | D38: 폴리에틸렌 난연케이블 | E38: 0.6/1kv F-CV 4C×35㎟ | F38: M | G38: 101 | Q38: 제 125호 | AC38: =J38*H38 -> 0 | AE38: =L38 -> 0
A39: 56959001931 | B39: 0101 | C39: E56959001931 | D39: 배선용차단기 | E39: 4P 250AF 225AT | F39: EA | G39: 3 | Q39: 제 150호 | AE39: =L39 -> 0
A40: E940A177025 | B40: 0101 | C40: EE9400177025 | D40: 러그단자 | E40: 동관단자 2 HOLE 50 ㎟ | F40: 개 | G40: 32 | Q40: 제 151호 | AE40: =L40 -> 0
A41: E940A177027 | B41: 0101 | C41: EE9400177027 | D41: 러그단자 | E41: 동관단자 2 HOLE 95 ㎟ | F41: 개 | G41: 16 | Q41: 제 152호 | AE41: =L41 -> 0
A42: E940A267006 | B42: 0101 | C42: EE9400267006 | D42: 압착단자 | E42: R형동선 나압착 16 ㎟ | F42: 개 | G42: 40 | Q42: 제 153호 | AE42: =L42 -> 0
A43: E940A267007 | B43: 0101 | C43: EE9400267007 | D43: 압착단자 | E43: R형동선 나압착 25 ㎟ | F43: 개 | G43: 32 | Q43: 제 154호 | AE43: =L43 -> 0
A44: E940A267008 | B44: 0101 | C44: EE9400267008 | D44: 압착단자 | E44: R형동선 나압착 35 ㎟ | F44: 개 | G44: 16 | Q44: 제 155호 | AE44: =L44 -> 0
A45: 5940A267041 | B45: 0101 | C45: E59400267041 | D45: 압착단자(접지) | E45: R형동선 나압착 16 ㎟ | F45: 개 | G45: 11 | Q45: 제 156호 | AE45: =L45 -> 0
A46: 5940A267042 | B46: 0101 | C46: E59400267042 | D46: 압착단자(접지) | E46: R형동선 나압착 25 ㎟ | F46: 개 | G46: 4 | Q46: 제 157호 | AE46: =L46 -> 0
A47: 5940A267044 | B47: 0101 | C47: E59400267044 | D47: 압착단자(접지) | E47: R형동선 나압착 50 ㎟ | F47: 개 | G47: 2 | Q47: 제 158호 | AE47: =L47 -> 0
A48: 5935A287066 | B48: 0101 | C48: E59350287066 | D48: 압착슬리이브 | E48: 동압착슬리브-C형 120㎟ | F48: 개 | G48: 41 | Q48: 제 159호 | AE48: =L48 -> 0
A49: 56950121036 | B49: 0101 | C49: EAA110140010 | D49: 파이프행거 | E49: 36 C | F49: 개소 | G49: 6 | Q49: 제 9호 | AE49: =L49 -> 0
A50: 56950121042 | B50: 0101 | C50: EAA110150010 | D50: 파이프행거 | E50: 42 C | F50: 개소 | G50: 31 | Q50: 제 10호 | AE50: =L50 -> 0
... A90: 56959001961 | B90: 0101 | C90: E56959001961 | D90: PANEL BOARD | E90: G-4-RL-B | F90: 면 | G90: 1 | Q90: 제 192호 | AE90: =L90 -> 0
AE91: =TRUNC(SUM(AE4:AE90)) -> 0
B107: 합계줄 | D107: ( 합 계 ) | I107: =TRUNC(SUM(I4:I106)) -> 0 | L107: =TRUNC(SUM(L4:L106)) -> 0 | N107: =TRUNC(SUM(N4:N106)) -> 0 | O107: =IF((H107+K107+M107)=0, "", (H107+K107+M107)) | P107: =TRUNC(SUM(P4:P106)) -> 0
B108: 공종줄 | D108: 1.구관::1-2.동력설비공사
A109: 5975A338001 | B109: 0102 | C109: E59750338001 | D109: 나사없는전선관 | E109: E19 | F109: M | G109: 67 | Q109: 제 55호 | AC109: =J109*H109 -> 0 | AE109: =L109 -> 0
A110: 5975A338004 | B110: 0102 | C110: E59750338004 | D110: 나사없는전선관 | E110: E39 | F110: M | G110: 25 | Q110: 제 58호 | AC110: =J110*H110 -> 0 | AE110: =L110 -> 0
A111: 56959001920 | B111: 0102 | C111: E56959001920 | D111: 1종금속제가요전선관 | E111: 16 mm 고장력-비방수 | F111: M | G111: 11 | Q111: 제 66호 | AC111: =J111*H111 -> 0 | AE111: =L111 -> 0
A112: 59753017043 | B112: 0102 | C112: 3913170620174434 | D112: 1종금속제가요전선관 | E112: 커넥터, 16 mm 일반-비방수 | F112: 개 | G112: 22
A113: MM318075001 | B113: 0102 | C113: 3913170825309903 | D113: 볼트고정식이음쇠(나사없는) | E113: 커플링 E19 | F113: 개 | G113: 18
A114: MM318075004 | B114: 0102 | C114: 3913170825309906 | D114: 볼트고정식이음쇠(나사없는) | E114: 커플링 E39 | F114: 개 | G114: 7
A115: MM318075101 | B115: 0102 | C115: 3913170825309896 | D115: 볼트고정식이음쇠(나사없는) | E115: 커넥터 E19 | F115: 개 | G115: 8
A116: MM318075104 | B116: 0102 | C116: 3913170825309899 | D116: 볼트고정식이음쇠(나사없는) | E116: 커넥터 E39 | F116: 개 | G116: 14
A117: 59759027064 | B117: 0102 | C117: 3913170824691057 | D117: 노말밴드(나사없는 전선관용) | E117: E39 | F117: 개 | G117: 1
A118: 59759017051 | B118: 0102 | C118: 3913170810036334 | D118: 강재전선관용 부품 | E118: 파이프크램프, 16 C | F118: 개 | G118: 2
A119: 5975D857021 | B119: 0102 | C119: E59753857021 | D119: 풀박스 | E119: 100×100×100 | F119: 개 | G119: 11 | Q119: 제 75호 | AE119: =L119 -> 0
A120: 56959001923 | B120: 0102 | C120: E56959001923 | D120: 450/750V 내열비닐절연전선 | E120: HFIX 1.78mm(2.5㎟) | F120: M | G120: 234 | Q120: 제 106호 | AC120: =J120*H120 -> 0 | AE120: =L120 -> 0
A121: E145A927201 | B121: 0102 | C121: EE1450927201 | D121: 접지용비닐절연전선(F-GV) | E121: 2.5㎟ | F121: M | G121: 165 | Q121: 제 108호 | AC121: =J121*H121 -> 0 | AE121: =L121 -> 0
A122: E145A137201 | B122: 0102 | C122: EE1450137201 | D122: 소방용내화전선(F-FR-8) | E122: 2C×2.5㎟ | F122: M | G122: 165 | Q122: 제 126호 | AC122: =J122*H122 -> 0 | AE122: =L122 -> 0
A123: 56950121016 | B123: 0102 | C123: EAA110110010 | D123: 파이프행거 | E123: 16 C | F123: 개소 | G123: 33 | Q123: 제 6호 | AE123: =L123 -> 0
A124: 56950121036 | B124: 0102 | C124: EAA110140010 | D124: 파이프행거 | E124: 36 C | F124: 개소 | G124: 12 | Q124: 제 9호 | AE124: =L124 -> 0
AE125: =TRUNC(SUM(AE108:AE124)) -> 0
B133: 합계줄 | D133: ( 합 계 ) | I133: =TRUNC(SUM(I108:I132)) -> 0 | L133: =TRUNC(SUM(L108:L132)) -> 0 | N133: =TRUNC(SUM(N108:N132)) -> 0 | O133: =IF((H133+K133+M133)=0, "", (H133+K133+M133)) | P133: =TRUNC(SUM(P108:P132)) -> 0
B134: 공종줄 | D134: 1.구관::1-3.전등설비공사
A135: 5975A338001 | B135: 0103 | C135: E59750338001 | D135: 나사없는전선관 | E135: E19 | F135: M | G135: 262 | Q135: 제 55호 | AC135: =J135*H135 -> 0 | AE135: =L135 -> 0
A136: 5975A338003 | B136: 0103 | C136: E59750338003 | D136: 나사없는전선관 | E136: E31 | F136: M | G136: 24 | Q136: 제 57호 | AC136: =J136*H136 -> 0 | AE136: =L136 -> 0
A137: 5975D097002 | B137: 0103 | C137: E59753097002 | D137: 합성수지제 가요전선관 | E137: CD-난연성 16㎜ | F137: M | G137: 57 | Q137: 제 63호 | AA137: =J137*H137 -> 0 | AC137: =J137*H137 -> 0 | AE137: =L137 -> 0
A138: 5975D097003 | B138: 0103 | C138: E59753097003 | D138: 합성수지제 가요전선관 | E138: CD-난연성 22㎜ | F138: M | G138: 20 | Q138: 제 64호 | AA138: =J138*H138 -> 0 | AC138: =J138*H138 -> 0 | AE138: =L138 -> 0
A139: 5975D178001 | B139: 0103 | C139: E59753178001 | D139: 파상형 폴리에틸렌 전선관 | E139: 30㎜ | F139: M | G139: 21 | Q139: 제 65호 | AB139: =J139*H139 -> 0 | AC139: =J139*H139 -> 0 | AE139: =L139 -> 0
A140: 56959001924 | B140: 0103 | C140: E56959001924 | D140: 가요성 알루미늄피 케이블 | E140: 2.5sq(단선)/2c | F140: M | G140: 95 | Q140: 제 127호 | AB140: =J140*H140 -> 0 | AC140: =J140*H140 -> 0 | AE140: =L140 -> 0
A141: 56959001925 | B141: 0103 | C141: E56959001925 | D141: 가요성 알루미늄피 케이블 | E141: 2.5sq(단선)/3c | F141: M | G141: 2246 | Q141: 제 128호 | AB141: =J141*H141 -> 0 | AC141: =J141*H141 -> 0 | AE141: =L141 -> 0
A142: 56959001926 | B142: 0103 | C142: E56959001926 | D142: 가요성 알루미늄피 케이블 | E142: 2.5sq(단선)/4c | F142: M | G142: 476 | Q142: 제 129호 | AB142: =J142*H142 -> 0 | AC142: =J142*H142 -> 0 | AE142: =L142 -> 0
A143: 56959001927 | B143: 0103 | C143: E56959001927 | D143: 가요성 알루미늄피 케이블 | E143: 2.5sq(단선)/5c | F143: M | G143: 192 | Q143: 제 130호 | AB143: =J143*H143 -> 0 | AC143: =J143*H143 -> 0 | AE143: =L143 -> 0
A144: 56959001928 | B144: 0103 | C144: E56959001928 | D144: 가요성 알루미늄피 케이블 | E144: 2.5sq(단선)/6c | F144: M | G144: 55 | Q144: 제 131호 | AB144: =J144*H144 -> 0 | AC144: =J144*H144 -> 0 | AE144: =L144 -> 0
A145: 56959001929 | B145: 0103 | C145: E56959001929 | D145: 가요성 알루미늄피 케이블 | E145: 2.5sq(단선)/7c | F145: M | G145: 32 | Q145: 제 132호 | AB145: =J145*H145 -> 0 | AC145: =J145*H145 -> 0 | AE145: =L145 -> 0
A146: 56959001930 | B146: 0103 | C146: E56959001930 | D146: 가요성 알루미늄피 케이블 | E146: 2.5sq(단선)/8c | F146: M | G146: 364 | Q146: 제 133호 | AB146: =J146*H146 -> 0 | AC146: =J146*H146 -> 0 | AE146: =L146 -> 0
A147: MM318075001 | B147: 0103 | C147: 3913170825309903 | D147: 볼트고정식이음쇠(나사없는) | E147: 커플링 E19 | F147: 개 | G147: 73
A148: MM318075003 | B148: 0103 | C148: 3913170825309905 | D148: 볼트고정식이음쇠(나사없는) | E148: 커플링 E31 | F148: 개 | G148: 6
A149: MM318075101 | B149: 0103 | C149: 3913170825309896 | D149: 볼트고정식이음쇠(나사없는) | E149: 커넥터 E19 | F149: 개 | G149: 110
A150: MM318075103 | B150: 0103 | C150: 3913170825309898 | D150: 볼트고정식이음쇠(나사없는) | E150: 커넥터 E31 | F150: 개 | G150: 2
A151: 59759027063 | B151: 0103 | C151: 3913170824691056 | D151: 노말밴드(나사없는 전선관용) | E151: E31 | F151: 개 | G151: 3
A152: 59759017053 | B152: 0103 | C152: 3913170810036336 | D152: 강재전선관용 부품 | E152: 파이프크램프, 28 C | F152: 개 | G152: 2
A153: MM300001801 | B153: 0103 | C153: 3913170810037051 | D153: 강재전선관용 부품 | E153: 새들 (KS) 16c | F153: EA | G153: 32
A154: 56959001976 | B154: 0103 | C154: E56959001976 | D154: 접지부 배선박스 | E154: 알루미늄 | F154: 개 | G154: 1022 | Q154: 제 70호 | AE154: =L154 -> 0
A155: 5975D767011 | B155: 0103 | C155: E59753767011 | D155: 아우트렛박스 | E155: 8각 54㎜ | F155: 개 | G155: 27 | Q155: 제 71호 | AE155: =L155 -> 0
A156: 5975D777102 | B156: 0103 | C156: E59753777102 | D156: 스위치박스 | E156: 1 개용 54 mm | F156: 개 | G156: 103 | Q156: 제 72호 | AE156: =L156 -> 0
A157: 5975D777111 | B157: 0103 | C157: E59753777111 | D157: 스위치박스 | E157: 2 개용 54 mm | F157: 개 | G157: 17 | Q157: 제 73호 | AE157: =L157 -> 0
A158: 59753767201 | B158: 0103 | C158: 3912130820174710 | D158: 아우트렛박스 커버 | E158: 커버, 8각, 평형 | F158: 개 | G158: 27
A159: 59753767261 | B159: 0103 | C159: 3912130820174716 | D159: 아우트렛박스 커버 | E159: 커버, 4각,1개용S/W (오목) | F159: 개 | G159: 103
A160: 59753767281 | B160: 0103 | C160: 3912130820174718 | D160: 아우트렛박스 커버 | E160: 커버, 4각,2개용S/W (오목) | F160: 개 | G160: 17
A161: 6145F137894 | B161: 0103 | C161: E61455137894 | D161: 정션 박스 | E161: 100*100*50 | F161: EA | G161: 65 | Q161: 제 74호 | AE161: =L161 -> 0
A162: 56959001923 | B162: 0103 | C162: E56959001923 | D162: 450/750V 내열비닐절연전선 | E162: HFIX 1.78mm(2.5㎟) | F162: M | G162: 1173 | Q162: 제 106호 | AC162: =J162*H162 -> 0 | AE162: =L162 -> 0
A163: E145A927202 | B163: 0103 | C163: EE1450927202 | D163: 접지용비닐절연전선(F-GV) | E163: 4㎟ | F163: M | G163: 45 | Q163: 제 109호 | AC163: =J163*H163 -> 0 | AE163: =L163 -> 0
...

Sheet 총괄표(관급)
A1: 총줄수-> | B1: 107 | D1: [ 경기도청 옛청사 구관 사무환경개선 전기공사(총괄) ] | AA1: 연속견적가로형식
A2: 번호 | B2: 공종코드 | C2: … | D2: 공 종 명 | E2: 규격 | F2: 단위 | G2: 수량 | H2: 재료비 | J2: 노무비 | M2: 경비 | P2: 계 | Q2: 비고
H3: 단가 | I3: 금액 | J3: 수량 | K3: 단가 | L3: 금액 | M3: 단가 | N3: 금액 | O3: 단가
B4: 공종줄 | D4: 경기도청 옛청사 구관 사무환경개선사업
B5: 01 | D5: 1.도급관관급 | F5: 식 | G5: 1 | H5: ='총괄표(관급)'!I55 -> 0 | I5: =G5*H5 -> 0 | K5: ='총괄표(관급)'!L55 -> 0 | L5: =G5*K5 -> 0 | M5: ='총괄표(관급)'!N55 -> 0 | N5: =G5*M5 -> 0 | O5: =IF((H5+K5+M5)=0, "", (H5+K5+M5)) | P5: =SUM(I5,L5,N5) -> 0
C29: Total | D29: ( 합 계 ) | I29: =TRUNC(SUM(I4:I28)) -> 0 | L29: =TRUNC(SUM(L4:L28)) -> 0 | N29: =TRUNC(SUM(N4:N28)) -> 0 | O29: =IF((H29+K29+M29)=0, "", (H29+K29+M29)) | P29: =TRUNC(SUM(P4:P28)) -> 0
B30: 공종줄 | D30: 1.도급관관급
B31: 0101 | D31: 1-1.분전반(부가세포함) | F31: 식 | G31: 1 | H31: ='총괄표(관급)'!I81 -> 0 | I31: =G31*H31 -> 0 | K31: ='총괄표(관급)'!L81 -> 0 | L31: =G31*K31 -> 0 | M31: ='총괄표(관급)'!N81 -> 0 | N31: =G31*M31 -> 0 | O31: =IF((H31+K31+M31)=0, "", (H31+K31+M31)) | P31: =SUM(I31,L31,N31) -> 0
B32: 0102 | D32: 1-2.조명기구(부가세포함) | F32: 식 | G32: 1 | H32: ='총괄표(관급)'!I107 -> 0 | I32: =G32*H32 -> 0 | K32: ='총괄표(관급)'!L107 -> 0 | L32: =G32*K32 -> 0 | M32: ='총괄표(관급)'!N107 -> 0 | N32: =G32*M32 -> 0 | O32: =IF((H32+K32+M32)=0, "", (H32+K32+M32)) | P32: =SUM(I32,L32,N32) -> 0
B55: 01 | C55: Total | D55: ( 합 계 ) | I55: =TRUNC(SUM(I30:I54)) -> 0 | L55: =TRUNC(SUM(L30:L54)) -> 0 | N55: =TRUNC(SUM(N30:N54)) -> 0 | O55: =IF((H55+K55+M55)=0, "", (H55+K55+M55)) | P55: =TRUNC(SUM(P30:P54)) -> 0
B56: 공종줄 | D56: 1.도급관관급::1-1.분전반(부가세포함)
B57: 010101 | D57: 1-1-1.구관 | F57: 식 | G57: 1 | H57: ='내역서(관급)'!I55 -> 0 | I57: =G57*H57 -> 0 | K57: ='내역서(관급)'!L55 -> 0 | L57: =G57*K57 -> 0 | M57: ='내역서(관급)'!N55 -> 0 | N57: =G57*M57 -> 0 | O57: =IF((H57+K57+M57)=0, "", (H57+K57+M57)) | P57: =SUM(I57,L57,N57) -> 0
B81: 0101 | C81: Total | D81: ( 합 계 ) | I81: =TRUNC(SUM(I56:I80)) -> 0 | L81: =TRUNC(SUM(L56:L80)) -> 0 | N81: =TRUNC(SUM(N56:N80)) -> 0 | O81: =IF((H81+K81+M81)=0, "", (H81+K81+M81)) | P81: =TRUNC(SUM(P56:P80)) -> 0
B82: 공종줄 | D82: 1.도급관관급::1-2.조명기구(부가세포함)
B83: 010201 | D83: 1-2-1.구관 | F83: 식 | G83: 1 | H83: ='내역서(관급)'!I81 -> 0 | I83: =G83*H83 -> 0 | K83: ='내역서(관급)'!L81 -> 0 | L83: =G83*K83 -> 0 | M83: ='내역서(관급)'!N81 -> 0 | N83: =G83*M83 -> 0 | O83: =IF((H83+K83+M83)=0, "", (H83+K83+M83)) | P83: =SUM(I83,L83,N83) -> 0
B107: 0102 | C107: Total | D107: ( 합 계 ) | I107: =TRUNC(SUM(I82:I106)) -> 0 | L107: =TRUNC(SUM(L82:L106)) -> 0 | N107: =TRUNC(SUM(N82:N106)) -> 0 | O107: =IF((H107+K107+M107)=0, "", (H107+K107+M107)) | P107: =TRUNC(SUM(P82:P106)) -> 0

Sheet 내역서(관급)
A1: 총줄수-> | B1: 133 | D1: [ 경기도청 옛청사 구관 사무환경개선 전기공사(총괄) ] | W1: 노임 계산 정보 | AA1: 부속재 및 손료
A2: 번호 | B2: 공종코드 | C2: 코드 | D2: 명 칭 | E2: 규 격 | F2: 단위 | G2: 수량 | H2: 재료비 | J2: 노무비 | M2: 경비 | P2: 계 | Q2: 비고 | W2: 노임계 | X2: 전체(%) | Y2: 공종별(%) | Z2: 노임 소수 | AA2: CD배관재 | AB2: 일반배관재 | AC2: 소모재 | AD2: 자재계 | AE2: 노임계
H3: 단가 | I3: 금액 | J3: 수량 | K3: 단가 | L3: 금액 | M3: 단가 | N3: 금액 | O3: 단가
B4: 공종줄 | D4: 1.도급관관급::1-1.분전반(부가세포함)::1-1-1.구관
A5: MM034393030 | B5: 010101 | C5: 391115ZZ701Z0001 | D5: PANEL BOARD | E5: G-1-M1-2 | F5: 면 | G5: 1
A6: MM034393035 | B6: 010101 | C6: 391115ZZ701Z0003 | D6: PANEL BOARD | E6: G-1-RL-A | F6: 면 | G6: 1
A7: MM034393044 | B7: 010101 | C7: 391115ZZ701Z0002 | D7: PANEL BOARD | E7: G-1-RL-A-1 | F7: 면 | G7: 1
A8: MM034393031 | B8: 010101 | C8: 391115ZZ701Z0005 | D8: PANEL BOARD | E8: G-1-RL-B | F8: 면 | G8: 1
A9: MM034393032 | B9: 010101 | C9: 391115ZZ701Z0004 | D9: PANEL BOARD | E9: G-1-RL-B-1 | F9: 면 | G9: 1
A10: MM034393033 | B10: 010101 | C10: 391115ZZ701Z0006 | D10: PANEL BOARD | E10: G-2-M1-2 | F10: 면 | G10: 1
A11: MM034393034 | B11: 010101 | C11: 391115ZZ701Z0010 | D11: PANEL BOARD | E11: G-2-RL-A | F11: 면 | G11: 1
A12: MM034393036 | B12: 010101 | C12: 391115ZZ701Z0007 | D12: PANEL BOARD | E12: G-2-RL-A-1 | F12: 면 | G12: 1
A13: MM034393037 | B13: 010101 | C13: 391115ZZ701Z0008 | D13: PANEL BOARD | E13: G-2-RL-A-2 | F13: 면 | G13: 1
A14: MM034393038 | B14: 010101 | C14: 391115ZZ701Z0009 | D14: PANEL BOARD | E14: G-2-RL-A-3 | F14: 면 | G14: 1
A15: MM034393039 | B15: 010101 | C15: 391115ZZ701Z0014 | D15: PANEL BOARD | E15: G-2-RL-B | F15: 면 | G15: 1
A16: MM034393040 | B16: 010101 | C16: 391115ZZ701Z0011 | D16: PANEL BOARD | E16: G-2-RL-B-1 | F16: 면 | G16: 1
... A31: MM034393056 | B31: 010101 | C31: 391115ZZ701Z0016 | D31: PANEL BOARD | E31: G-3-P-EV | F31: 면 | G31: 1
B55: 합계줄 | D55: ( 합 계 )
B56: 공종줄 | D56: 1.도급관관급::1-2.조명기구(부가세포함)::1-2-1.구관
A57: MM033239264 | B57: 010201 | C57: 391115ZZ701Z0041 | D57: 조명기구 | E57: A- LED 40W | F57: SET | G57: 638
A58: MM033239265 | B58: 010201 | C58: 391115ZZ701Z0042 | D58: 조명기구 | E58: B- LED 40W | F58: SET | G58: 19
A59: MM033239266 | B59: 010201 | C59: 391115ZZ701Z0043 | D59: 조명기구 | E59: C- LED 12W | F59: SET | G59: 182
A60: MM033410900 | B60: 010201 | C60: 391115ZZ701Z0044 | D60: 조명기구 | E60: E- LED 10W | F60: SET | G60: 6
A61: MM960656254 | B61: 010201 | C61: 391115ZZ701Z0045 | D61: 조명기구 | E61: F- LED 40W | F61: SET | G61: 190
A62: MM960662978 | B62: 010201 | C62: 391115ZZ701Z0046 | D62: 조명기구 | E62: G- LED 40W | F62: SET | G62: 8
B81: 합계줄 | D81: ( 합 계 ) | I81: =TRUNC(SUM(I56:I80)) -> 0 | L81: =TRUNC(SUM(L56:L80)) -> 0 | N81: =TRUNC(SUM(N56:N80)) -> 0 | O81: =IF((H81+K81+M81)=0, "", (H81+K81+M81)) | P81: =TRUNC(SUM(P56:P80)) -> 0

Sheet 합산자재
B1: 289 | C1: [ 경기도청 옛청사 신관 및 구관 사무환경개선사 ] - 합산자재목록
A2: 번호 | B2: … | C2: 코드 | D2: 명 칭 | E2: 규 격 | F2: 단위 | G2: 수량 | H2: 재료비 | I2: 노무비 | J2: 경비 | K2: 지급비 | L2: 계 | M2: 비고
B4: 59750338001 | C4: 3913170624691047 | D4: 나사없는전선관 | E4: E19 | F4: M | G4: 5362.5 | H4: =ROUNDDOWN(#REF!*옵션!$D$11, 0) -> #REF! | L4: =SUM(H4,I4,J4) -> #REF!
B5: 59750338002 | C5: 3913170624691048 | D5: 나사없는전선관 | E5: E25 | F5: M | G5: 205.7 | H5: =ROUNDDOWN(#REF!*옵션!$D$11, 0) -> #REF! | L5: =SUM(H5,I5,J5) -> #REF!
B6: 59750338003 | C6: 3913170624691049 | D6: 나사없는전선관 | E6: E31 | F6: M | G6: 105.6 | H6: =ROUNDDOWN(#REF!*옵션!$D$11, 0) -> #REF! | L6: =SUM(H6,I6,J6) -> #REF!
B7: 59750338004 | C7: 3913170624691050 | D7: 나사없는전선관 | E7: E39 | F7: M | G7: 45.1 | H7: =ROUNDDOWN(#REF!*옵션!$D$11, 0) -> #REF! | L7: =SUM(H7,I7,J7) -> #REF!
B8: 59750338006 | C8: 3913170624691051 | D8: 나사없는전선관 | E8: E51 | F8: M | G8: 103.4 | H8: =ROUNDDOWN(#REF!*옵션!$D$11, 0) -> #REF! | L8: =SUM(H8,I8,J8) -> #REF!
B9: 59750338007 | C9: 3913170624691052 | D9: 나사없는전선관 | E9: E63 | F9: M | G9: 67.1 | H9: =ROUNDDOWN(#REF!*옵션!$D$11, 0) -> #REF! | L9: =SUM(H9,I9,J9) -> #REF!
B10: 59750338008 | C10: 3913170624691053 | D10: 나사없는전선관 | E10: E75 | F10: M | G10: 17.6 | H10: =ROUNDDOWN(#REF!*옵션!$D$11, 0) -> #REF! | L10: =SUM(H10,I10,J10) -> #REF!
B11: 59751467014 | C11: 3913170610034967 | D11: 경질비닐전선관 | E11: HI 28 mm | F11: M | G11: 29.7 | H11: =ROUNDDOWN(#REF!*옵션!$D$11, 0) -> #REF! | L11: =SUM(H11,I11,J11) -> #REF!
B12: 59753097002 | C12: 3913170610035664 | D12: 합성수지제 가요전선관 | E12: CD-난연성 16㎜ | F12: M | G12: 189.2 | H12: =ROUNDDOWN(#REF!*옵션!$D$11, 0) -> #REF! | L12: =SUM(H12,I12,J12) -> #REF!
B13: 59753097003 | C13: 3913170610035665 | D13: 합성수지제 가요전선관 | E13: CD-난연성 22㎜ | F13: M | G13: 22 | H13: =ROUNDDOWN(#REF!*옵션!$D$11, 0) -> #REF! | L13: =SUM(H13,I13,J13) -> #REF!
B14: 59753178001 | C14: 3913170610045631 | D14: 파상형 폴리에틸렌 전선관 | E14: 30㎜ | F14: M | G14: 21.63 | H14: =ROUNDDOWN(#REF!*옵션!$D$11, 0) -> #REF! | L14: =SUM(H14,I14,J14) -> #REF!
B15: 59753017043 | C15: 3913170620174434 | D15: 1종금속제가요전선관 | E15: 커넥터, 16 mm 일반-비방수 | F15: 개 | G15: 1406 | H15: =ROUNDDOWN(#REF!*옵션!$D$11, 0) -> #REF! | L15: =SUM(H15,I15,J15) -> #REF!
... B155: MM320620300 | C155: 3912157320172059 | D155: 전자접촉기(표준형)MC-9 | E155: 220V(2.2kw)/440v(2.7kw) | F155: SET | G155: 2 | H155: =ROUNDDOWN(#REF!*옵션!$D$11, 0) -> #REF! | L155: =SUM(H155,I155,J155) -> #REF!
B156: 59300537101 | C156: 3912152320169992 | D156: 타이머 | F156: 개 | G156: 2 | H156: =ROUNDDOWN(#REF!*옵션!$D$11, 0) -> #REF! | L156: =SUM(H156,I156,J156) -> #REF!
B157: E9400177025 | C157: 3912143210033799 | D157: 러그단자 | E157: 동관단자 2 HOLE 50 ㎟ | F157: 개 | G157: 32 | H157: =ROUNDDOWN(#REF!*옵션!$D$11, 0) -> #REF! | L157: =SUM(H157,I157,J157) -> #REF!
B158: E9400177027 | C158: 3912143210033800 | D158: 러그단자 | E158: 동관단자 2 HOLE 95 ㎟ | F158: 개 | G158: 16 | H158: =ROUNDDOWN(#REF!*옵션!$D$11, 0) -> #REF! | L158: =SUM(H158,I158,J158) -> #REF!
B159: E9400267006 | C159: 3912143221650911 | D159: 압착단자 | E159: R형동선 나압착 16 ㎟ | F159: 개 | G159: 40 | H159: =ROUNDDOWN(#REF!*옵션!$D$11, 0) -> #REF! | L159: =SUM(H159,I159,J159) -> #REF!
B160: E9400267007 | C160: 3912143221650912 | D160: 압착단자 | E160: R형동선 나압착 25 ㎟ | F160: 개 | G160: 32 | H160: =ROUNDDOWN(#REF!*옵션!$D$11, 0) -> #REF! | L160: =SUM(H160,I160,J160) -> #REF!
B161: E9400267008 | C161: 3912143221650913 | D161: 압착단자 | E161: R형동선 나압착 35 ㎟ | F161: 개 | G161: 16 | H161: =ROUNDDOWN(#REF!*옵션!$D$11, 0) -> #REF! | L161: =SUM(H161,I161,J161) -> #REF!
B162: 59400267041 | C162: 3912143220171357 | D162: 압착단자(접지) | E162: R형동선 나압착 16 ㎟ | F162: 개 | G162: 11 | H162: =ROUNDDOWN(#REF!*옵션!$D$11, 0) -> #REF! | L162: =SUM(H162,I162,J162) -> #REF!
B163: 59400267042 | C163: 3912143220171358 | D163: 압착단자(접지) | E163: R형동선 나압착 25 ㎟ | F163: 개 | G163: 4 | H163: =ROUNDDOWN(#REF!*옵션!$D$11, 0) -> #REF! | L163: =SUM(H163,I163,J163) -> #REF!
B164: 59400267044 | C164: 3912143220171360 | D164: 압착단자(접지) | E164: R형동선 나압착 50 ㎟ | F164: 개 | G164: 5 | H164: =ROUNDDOWN(#REF!*옵션!$D$11, 0) -> #REF! | L164: =SUM(H164,I164,J164) -> #REF!
B165: 59350287066 | C165: 3912140420170801 | D165: 압착슬리이브 | E165: 동압착슬리브-C형 120㎟ | F165: 개 | G165: 41 | H165: =ROUNDDOWN(#REF!*옵션!$D$11, 0) -> #REF! | L165: =SUM(H165,I165,J165) -> #REF!
B166: 59750027803 | C166: 3912218920173439 | D166: 지선밴드 | E166: 1방3호 200-227 | F166: 개 | G166: 1 | H166: =ROUNDDOWN(#REF!*옵션!$D$11, 0) -> #REF! | L166: =SUM(H166,I166,J166) -> #REF!
B167: 59755057153 | C167: 3912219520175620 | D167: 지중선용 가선철물 | E167: 케이블표지시트, 0.23x400 | F167: M | G167: 20 | H167: =ROUNDDOWN(#REF!*옵션!$D$11, 0) -> #REF! | L167: =SUM(H167,I167,J167) -> #REF!
B168: MM300041489 | C168: 4014210120114472 | D168: 배관용 백관 40￠ | F168: M | G168: 1.7 | H168: =ROUNDDOWN(#REF!*옵션!$D$11, 0) -> #REF! | L168: =SUM(H168,I168,J168) -> #REF!
B169: MM566585312 | C169: 4014210120114473 | D169: 배관용 백관 50￠ | F169: M | G169: 3.3 | H169: =ROUNDDOWN(#REF!*옵션!$D$11, 0) -> #REF! | L169: =SUM(H169,I169,J169) -> #REF!
B170: MM300041593 | C170: 3121159120277519 | D170: 산소 | F170: 병 | G170: 0.1681 | H170: =ROUNDDOWN(#REF!*옵션!$D$11, 0) -> #REF! | L170: =SUM(H170,I170,J170) -> #REF!
B171: MM300041597 | C171: 2327181220083114 | D171: 연마석 | F171: 개 | G171: 0.4862 | H171: =ROUNDDOWN(#REF!*옵션!$D$11, 0) -> #REF! | L171: =SUM(H171,I171,J171) -> #REF!
B172: MM300041599 | C172: 2327181220083116 | D172: 용접봉 3.2￠ | F172: ㎏ | G172: 3.2088 | H172: =ROUNDDOWN(#REF!*옵션!$D$11, 0) -> #REF! | L172: =SUM(H172,I172,J172) -> #REF!
B173: MM300041600 | C173: 2327181220083117 | D173: 아세칠렌 | F173: ㎏ | G173: 0.4813 | H173: =ROUNDDOWN(#REF!*옵션!$D$11, 0) -> #REF! | L173: =SUM(H173,I173,J173) -> #REF!
B174: 95150557101 | C174: 3010220420289161 | D174: 베이스프레이트 | E174: 250x250x6T | F174: EA | G174: 1 | H174: =ROUNDDOWN(#REF!*옵션!$D$11, 0) -> #REF! | L174: =SUM(H174,I174,J174) -> #REF!
B175: 53100028501 | C175: 3116172710023970 | D175: 6각너트 | E175: 3/8,M10 | F175: EA | G175: 6746 | H175: =ROUNDDOWN(#REF!*옵션!$D$11, 0) -> #REF! | L175: =SUM(H175,I175,J175) -> #REF!
B176: 53100028601 | C176: 3116172710023978 | D176: 6각너트 | E176: M16 | F176: 개 | G176: 4 | H176: =ROUNDDOWN(#REF!*옵션!$D$11, 0) -> #REF! | L176: =SUM(H176,I176,J176) -> #REF!
B177: 53100327062 | C177: 3116180710025050 | D177: 와샤 | E177: M15 | F177: EA | G177: 4 | H177: =ROUNDDOWN(#REF!*옵션!$D$11, 0) -> #REF! | L177: =SUM(H177,I177,J177) -> #REF!
B178: 52100327001 | C178: 3116181120136195 | D178: 스프링와샤 | E178: D10 | F178: EA | G178: 6746 | H178: =ROUNDDOWN(#REF!*옵션!$D$11, 0) -> #REF! | L178: =SUM(H178,I178,J178) -> #REF!
B179: 53150047131 | C179: 3116200220137128 | D179: 철못 | E179: 일반 못 N 50 | F179: KG | G179: 0.1203 | H179: =ROUNDDOWN(#REF!*옵션!$D$11, 0) -> #REF! | L179: =SUM(H179,I179,J179) -> #REF!
B180: 95050017001 | C180: 3116200220137136 | D180: 아연도강연선 | E180: 2.6mmx7 | F180: kg | G180: 5 | H180: =ROUNDDOWN(#REF!*옵션!$D$11, 0) -> #REF! | L180: =SUM(H180,I180,J180) -> #REF!
B181: 53401307101 | C181: 3116200220137137 | D181: 턴버클 | E181: 용융아연도, 비단조, 16D | F181: 개 | G181: 3 | H181: =ROUNDDOWN(#REF!*옵션!$D$11, 0) -> #REF! | L181: =SUM(H181,I181,J181) -> #REF!
B182: 55100027011 | C182: 3010369820141038 | D182: 각재(角材) | E182: 외송(㎥) | F182: ㎥ | G182: 0.0216 | H182: =ROUNDDOWN(#REF!*옵션!$D$11, 0) -> #REF! | L182: =SUM(H182,I182,J182) -> #REF!
B183: 55300057061 | C183: 1112200120142458 | D183: 내수합판 | E183: 1급, 12×1220×2440mm | F183: ㎡ | G183: 0.5871 | H183: =ROUNDDOWN(#REF!*옵션!$D$11, 0) -> #REF! | L183: =SUM(H183,I183,J183) -> #REF!
B184: 56100017002 | C184: 1111170120142525 | D184: 모래 | E184: 서울, 상차도 | F184: ㎥ | G184: 0.0564 | H184: =ROUNDDOWN(#REF!*옵션!$D$11, 0) -> #REF! | L184: =SUM(H184,I184,J184) -> #REF!
B185: 54400677001 | C185: 1218169920140588 | D185: 박리제 | E185: 목재용(수성) | F185: ℓ | G185: 0.1143 | H185: =ROUNDDOWN(#REF!*옵션!$D$11, 0) -> #REF! | L185: =SUM(H185,I185,J185) -> #REF!
... B188: 95050017111 | C188: 3010160420165130 | D188: 철선 | E188: 어니일링, 4.0㎜ | F188: kg | G188: 0.1744 | H188: =ROUNDDOWN(#REF!*옵션!$D$11, 0) -> #REF! | L188: =SUM(H188,I188,J188) -> #REF!
B189: MM034565626 | C189: 391115ZZ701Z0001 | D189: ELB BOX(철거) | F189: 면 | G189: 8 | H189: =ROUNDDOWN(#REF!*옵션!$D$11, 0) -> #REF! | L189: =SUM(H189,I189,J189) -> #REF!
B190: MM034565627 | C190: 391115ZZ701Z0002 | D190: MCCB BOX(철거) | F190: 면 | G190: 9 | H190: =ROUNDDOWN(#REF!*옵션!$D$11, 0) -> #REF! | L190: =SUM(H190,I190,J190) -> #REF!
B191: MM034460517 | C191: 391115ZZ701Z0003 | D191: PANEL BOARD(철거) | F191: 면 | G191: 43 | H191: =ROUNDDOWN(#REF!*옵션!$D$11, 0) -> #REF! | L191: =SUM(H191,I191,J191) -> #REF!
B192: MM034460405 | C192: 391115ZZ701Z0004 | D192: PANEL BOARD | E192: G-1-M1-2 | F192: 면 | G192: 1 | H192: =ROUNDDOWN(#REF!*옵션!$D$11, 0) -> #REF! | L192: =SUM(H192,I192,J192) -> #REF!
B193: MM034460407 | C193: 391115ZZ701Z0005 | D193: PANEL BOARD | E193: G-1-RL-A-1 | F193: 면 | G193: 1 | H193: =ROUNDDOWN(#REF!*옵션!$D$11, 0) -> #REF! | L193: =SUM(H193,I193,J193) -> #REF!
B194: MM034460406 | C194: 391115ZZ701Z0006 | D194: PANEL BOARD | E194: G-1-RL-A | F194: 면 | G194: 1 | H194: =ROUNDDOWN(#REF!*옵션!$D$11, 0) -> #REF! | L194: =SUM(H194,I194,J194) -> #REF!
B195: MM034460409 | C195: 391115ZZ701Z0007 | D195: PANEL BOARD | E195: G-1-RL-B-1 | F195: 면 | G195: 1 | H195: =ROUNDDOWN(#REF!*옵션!$D$11, 0) -> #REF! | L195: =SUM(H195,I195,J195) -> #REF!
B196: MM034460408 | C196: 391115ZZ701Z0008 | D196: PANEL BOARD | E196: G-1-RL-B | F196: 면 | G196: 1 | H196: =ROUNDDOWN(#REF!*옵션!$D$11, 0) -> #REF! | L196: =SUM(H196,I196,J196) -> #REF!
B197: MM034460410 | C197: 391115ZZ701Z0009 | D197: PANEL BOARD | E197: G-2-M1-2 | F197: 면 | G197: 1 | H197: =ROUNDDOWN(#REF!*옵션!$D$11, 0) -> #REF! | L197: =SUM(H197,I197,J197) -> #REF!
B198: MM034460412 | C198: 391115ZZ701Z0010 | D198: PANEL BOARD | E198: G-2-RL-A-1 | F198: 면 | G198: 1 | H198: =ROUNDDOWN(#REF!*옵션!$D$11, 0) -> #REF! | L198: =SUM(H198,I198,J198) -> #REF!
B199: MM034460413 | C199: 391115ZZ701Z0011 | D199: PANEL BOARD | E199: G-2-RL-A-2 | F199: 면 | G199: 1 | H199: =ROUNDDOWN(#REF!*옵션!$D$11, 0) -> #REF! | L199: =SUM(H199,I199,J199) -> #REF!
B200: MM034460414 | C200: 391115ZZ701Z0012 | D200: PANEL BOARD | E200: G-2-RL-A-3 | F200: 면 | G200: 1 | H200: =ROUNDDOWN(#REF!*옵션!$D$11, 0) -> #REF! | L200: =SUM(H200,I200,J200) -> #REF!
B201: MM034460411 | C201: 391115ZZ701Z0013 | D201: PANEL BOARD | E201: G-2-RL-A | F201: 면 | G201: 1 | H201: =ROUNDDOWN(#REF!*옵션!$D$11, 0) -> #REF! | L201: =SUM(H201,I201,J201) -> #REF!
B202: MM034460416 | C202: 391115ZZ701Z0014 | D202: PANEL BOARD | E202: G-2-RL-B-1 | F202: 면 | G202: 1 | H202: =ROUNDDOWN(#REF!*옵션!$D$11, 0) -> #REF! | L202: =SUM(H202,I202,J202) -> #REF!
B203: MM034460417 | C203: 391115ZZ701Z0015 | D203: PANEL BOARD | E203: G-2-RL-B-2 | F203: 면 | G203: 1 | H203: =ROUNDDOWN(#REF!*옵션!$D$11, 0) -> #REF! | L203: =SUM(H203,I203,J203) -> #REF!
... B218: MM034460431 | C218: 391115ZZ701Z0030 | D218: PANEL BOARD | E218: G-4-RL-B | F218: 면 | G218: 1 | H218: =ROUNDDOWN(#REF!*옵션!$D$11, 0) -> #REF! | L218: =SUM(H218,I218,J218) -> #REF!
B219: MM034460525 | C219: 391115ZZ701Z0031 | D219: POST BASE | F219: 개 | G219: 142 | H219: =ROUNDDOWN(#REF!*옵션!$D$11, 0) -> #REF! | L219: =SUM(H219,I219,J219) -> #REF!
B220: MM034460458 | C220: 391115ZZ701Z0032 | D220: 노출스위치(철거) | E220: 250V 1로2구 | F220: 개 | G220: 8 | H220: =ROUNDDOWN(#REF!*옵션!$D$11, 0) -> #REF! | L220: =SUM(H220,I220,J220) -> #REF!
B221: MM034460459 | C221: 391115ZZ701Z0033 | D221: 노출스위치(철거) | E221: 250V 1로3구 | F221: 개 | G221: 1 | H221: =ROUNDDOWN(#REF!*옵션!$D$11, 0) -> #REF! | L221: =SUM(H221,I221,J221) -> #REF!
B222: MM034460460 | C222: 391115ZZ701Z0034 | D222: 노출스위치(철거) | E222: 250V 1로4구 | F222: 개 | G222: 1 | H222: =ROUNDDOWN(#REF!*옵션!$D$11, 0) -> #REF! | L222: =SUM(H222,I222,J222) -> #REF!
B223: MM034460514 | C223: 391115ZZ701Z0035 | D223: 덕트형 케이블트레이(철거) | E223: AL DUCT, W 100 x H 50 | F223: M | G223: 18 | H223: =ROUNDDOWN(#REF!*옵션!$D$11, 0) -> #REF! | L223: =SUM(H223,I223,J223) -> #REF!
B224: MM034460467 | C224: 391115ZZ701Z0036 | D224: 덕트형 케이블트레이(철거) | E224: DUCT, W 200 x H 100 | F224: M | G224: 161 | H224: =ROUNDDOWN(#REF!*옵션!$D$11, 0) -> #REF! | L224: =SUM(H224,I224,J224) -> #REF!
B225: MM034460469 | C225: 391115ZZ701Z0037 | D225: 덕트형 케이블트레이(철거) | E225: DUCT, W 300 x H 100 | F225: M | G225: 34 | H225: =ROUNDDOWN(#REF!*옵션!$D$11, 0) -> #REF! | L225: =SUM(H225,I225,J225) -> #REF!
B226: MM034460468 | C226: 391115ZZ701Z0038 | D226: 덕트형 케이블트레이(철거) | E226: DUCT, W 300 x H 50 | F226: M | G226: 5 | H226: =ROUNDDOWN(#REF!*옵션!$D$11, 0) -> #REF! | L226: =SUM(H226,I226,J226) -> #REF!
B227: MM034460505 | C227: 391115ZZ701Z0039 | D227: 매입스위치(철거) | E227: 250V 1로1구 | F227: 개 | G227: 5 | H227: =ROUNDDOWN(#REF!*옵션!$D$11, 0) -> #REF! | L227: =SUM(H227,I227,J227) -> #REF!
B228: MM034460506 | C228: 391115ZZ701Z0040 | D228: 매입스위치(철거) | E228: 250V 1로2구 | F228: 개 | G228: 2 | H228: =ROUNDDOWN(#REF!*옵션!$D$11, 0) -> #REF! | L228: =SUM(H228,I228,J228) -> #REF!
B229: MM034460507 | C229: 391115ZZ701Z0041 | D229: 매입스위치(철거) | E229: 250V 1로3구 | F229: 개 | G229: 4 | H229: =ROUNDDOWN(#REF!*옵션!$D$11, 0) -> #REF! | L229: =SUM(H229,I229,J229) -> #REF!
B230: MM034460508 | C230: 391115ZZ701Z0042 | D230: 매입스위치(철거) | E230: 250V 1로4구 | F230: 개 | G230: 4 | H230: =ROUNDDOWN(#REF!*옵션!$D$11, 0) -> #REF! | L230: =SUM(H230,I230,J230) -> #REF!
B231: MM970956055 | C231: 391115ZZ701Z0043 | D231: 면진체인걸이 | E231: 5mm | F231: 개 | G231: 104 | H231: =ROUNDDOWN(#REF!*옵션!$D$11, 0) -> #REF! | L231: =SUM(H231,I231,J231) -> #REF!
... B242: MM034460515 | C242: 391115ZZ701Z0054 | D242: 배선용 차단기(철거) | E242: 표준형, 4P 600V 400AF | F242: 대 | G242: 3 | H242: =ROUNDDOWN(#REF!*옵션!$D$11, 0) -> #REF! | L242: =SUM(H242,I242,J242) -> #REF!
B243: MM034460461 | C243: 391115ZZ701Z0055 | D243: 인체감지센서(철거) | F243: 개 | G243: 10 | H243: =ROUNDDOWN(#REF!*옵션!$D$11, 0) -> #REF! | L243: =SUM(H243,I243,J243) -> #REF!
B244: MM045782863 | C244: 391115ZZ701Z0056 | D244: 재실감지센서 | E244: 화장실 | F244: 개 | G244: 12 | H244: =ROUNDDOWN(#REF!*옵션!$D$11, 0) -> #REF! | L244: =SUM(H244,I244,J244) -> #REF!
B245: MM034460495 | C245: 391115ZZ701Z0057 | D245: 접지부 배선박스 | E245: 알루미늄 | F245: 개 | G245: 1162 | H245: =ROUNDDOWN(#REF!*옵션!$D$11, 0) -> #REF! | L245: =SUM(H245,I245,J245) -> #REF!
B246: MM034460470 | C246: 391115ZZ701Z0058 | D246: 조명기구(철거) | E246: FL 천정노출등 2/32W | F246: SET | G246: 6 | H246: =ROUNDDOWN(#REF!*옵션!$D$11, 0) -> #REF! | L246: =SUM(H246,I246,J246) -> #REF!
B247: MM034460471 | C247: 391115ZZ701Z0059 | D247: 조명기구(철거) | E247: LED 천정노출등 20W | F247: SET | G247: 1 | H247: =ROUNDDOWN(#REF!*옵션!$D$11, 0) -> #REF! | L247: =SUM(H247,I247,J247) -> #REF!
B248: MM034460472 | C248: 391115ZZ701Z0060 | D248: 조명기구(철거) | E248: LED 천정직부등 40W | F248: SET | G248: 6 | H248: =ROUNDDOWN(#REF!*옵션!$D$11, 0) -> #REF! | L248: =SUM(H248,I248,J248) -> #REF!
B249: MM034460490 | C249: 391115ZZ701Z0061 | D249: 조명기구 | E249: A- LED 40W | F249: SET | G249: 638 | H249: =ROUNDDOWN(#REF!*옵션!$D$11, 0) -> #REF! | L249: =SUM(H249,I249,J249) -> #REF!
B250: MM034460491 | C250: 391115ZZ701Z0062 | D250: 조명기구 | E250: B- LED 40W | F250: SET | G250: 19 | H250: =ROUNDDOWN(#REF!*옵션!$D$11, 0) -> #REF! | L250: =SUM(H250,I250,J250) -> #REF!
B251: MM034460492 | C251: 391115ZZ701Z0063 | D251: 조명기구 | E251: C- LED 12W | F251: SET | G251: 182 | H251: =ROUNDDOWN(#REF!*옵션!$D$11, 0) -> #REF! | L251: =SUM(H251,I251,J251) -> #REF!
B252: MM034460436 | C252: 391115ZZ701Z0064 | D252: 조명기구 | E252: E- LED 10W | F252: SET | G252: 6 | H252: =ROUNDDOWN(#REF!*옵션!$D$11, 0) -> #REF! | L252: =SUM(H252,I252,J252) -> #REF!
B253: MM034460493 | C253: 391115ZZ701Z0065 | D253: 조명기구 | E253: F- LED 40W | F253: SET | G253: 190 | H253: =ROUNDDOWN(#REF!*옵션!$D$11, 0) -> #REF! | L253: =SUM(H253,I253,J253) -> #REF!
B254: MM034460494 | C254: 391115ZZ701Z0066 | D254: 조명기구 | E254: G- LED 40W | F254: SET | G254: 8 | H254: =ROUNDDOWN(#REF!*옵션!$D$11, 0) -> #REF! | L254: =SUM(H254,I254,J254) -> #REF!
B255: MM034460512 | C255: 391115ZZ701Z0067 | D255: 콘센트(철거) | E255: 노출-접지형, 250V 2구 | F255: 개 | G255: 21 | H255: =ROUNDDOWN(#REF!*옵션!$D$11, 0) -> #REF! | L255: =SUM(H255,I255,J255) -> #REF!
... B271: MM034460501 | C271: 391115ZZ701Z0083 | D271: 폴리에틸렌 난연케이블(철거) | E271: 0.6/1kv F-CV 4C×6㎟ | F271: M | G271: 80 | H271: =ROUNDDOWN(#REF!*옵션!$D$11, 0) -> #REF! | L271: =SUM(H271,I271,J271) -> #REF!
B272: CA565826062 | C272: ECA565826062 | D272: 코어드릴 | E272: 15.24cm | F272: 시간 | G272: 5.41 | H272: =#REF! -> #REF! | I272: =#REF! -> #REF! | J272: =#REF! -> #REF! | L272: =SUM(H272,I272,J272) -> #REF! | M272: 종합적산701
B273: CA565826063 | C273: ECA565826063 | D273: 코어드릴 | E273: 25.40cm | F273: 시간 | G273: 30.64 | H273: =#REF! -> #REF! | I273: =#REF! -> #REF! | J273: =#REF! -> #REF! | L273: =SUM(H273,I273,J273) -> #REF! | M273: 종합적산713
B274: 56900017016 | C274: L001010101000075 | D274: 노 무 비 | E274: 내선전공 | F274: 인 | G274: 1553.7048 | I274: =ROUNDDOWN(#REF!, 0) -> #REF! | L274: =SUM(H274,I274,J274) -> #REF!
B275: 56900017076 | C275: L001010101000078 | D275: 노 무 비 | E275: 저압케이블전공 | F275: 인 | G275: 436.5523 | I275: =ROUNDDOWN(#REF!, 0) -> #REF! | L275: =SUM(H275,I275,J275) -> #REF!
B276: 56900017031 | C276: L001010101000081 | D276: 노 무 비 | E276: 배전전공 | F276: 인 | G276: 0.786 | I276: =ROUNDDOWN(#REF!, 0) -> #REF! | L276: =SUM(H276,I276,J276) -> #REF!
B277: 56900017041 | C277: L001010101000002 | D277: 노 무 비 | E277: 보통인부 | F277: 인 | G277: 24.0545 | I277: =ROUNDDOWN(#REF!, 0) -> #REF! | L277: =SUM(H277,I277,J277) -> #REF!
B278: 56900017030 | C278: L001010101000039 | D278: 노 무 비 | E278: 배관공 | F278: 인 | G278: 1.033 | I278: =ROUNDDOWN(#REF!, 0) -> #REF! | L278: =SUM(H278,I278,J278) -> #REF!
B279: 56900017056 | C279: L001010101000012 | D279: 노 무 비 | E279: 용접공 | F279: 인 | G279: 0.875 | I279: =ROUNDDOWN(#REF!, 0) -> #REF! | L279: =SUM(H279,I279,J279) -> #REF!
B280: 56900017137 | C280: L001010101000007 | D280: 노 무 비 | E280: 형틀목공 | F280: 인 | G280: 0.18 | I280: =ROUNDDOWN(#REF!, 0) -> #REF! | L280: =SUM(H280,I280,J280) -> #REF!
B281: 56900017029 | C281: L001010101000026 | D281: 노 무 비 | E281: 방수공 | F281: 인 | G281: 5.5627 | I281: =ROUNDDOWN(#REF!, 0) -> #REF! | L281: =SUM(H281,I281,J281) -> #REF!
...

Sheet 고자재
A1: [ 경기도청 옛청사 구관 사무환경개선 전기공사(총괄) ]
A2: 품 명 | B2: 규격 | C2: 수량 | D2: 가닥 | E2: 중량 | F2: 중량계
A3: 구관
A4: 폴리에틸렌 난연케이블 | B4: 0.6/1kv F-CV 1C×50㎟ | C4: 160 | D4: 1 | E4: 0.448 | F4: 71.68
A5: 폴리에틸렌 난연케이블 | B5: 0.6/1kv F-CV 1C×95㎟ | C5: 280 | D5: 1 | E5: 0.8512 | F5: 238.336
A6: 폴리에틸렌 난연케이블 | B6: 0.6/1kv F-CV 1C×120㎟ | C6: 417 | D6: 1 | E6: 1.0752 | F6: 448.3584
A7: 폴리에틸렌 난연케이블 | B7: 0.6/1kv F-CV 1C×150㎟ | C7: 160 | D7: 1 | E7: 1.344 | F7: 215.04
A8: 폴리에틸렌 난연케이블 | B8: 0.6/1kv F-CV 1C×200㎟ | C8: 252 | D8: 1 | E8: 1.792 | F8: 451.584
A9: 폴리에틸렌 난연케이블 | B9: 0.6/1kv F-CV 2C×4㎟ | C9: 80 | D9: 2 | E9: 0.03584 | F9: 5.7344
A10: 폴리에틸렌 난연케이블 | B10: 0.6/1kv F-CV 2C×6㎟ | C10: 40 | D10: 2 | E10: 0.05376 | F10: 4.3008
A11: 폴리에틸렌 난연케이블 | B11: 0.6/1kv F-CV 2C×16㎟ | C11: 40 | D11: 2 | E11: 0.14336 | F11: 11.4688
A12: 폴리에틸렌 난연케이블 | B12: 0.6/1kv F-CV 3C×25㎟ | C12: 40 | D12: 3 | E12: 0.224 | F12: 26.88
A13: 폴리에틸렌 난연케이블 | B13: 0.6/1kv F-CV 3C×35㎟ | C13: 160 | D13: 3 | E13: 0.3136 | F13: 150.528
A14: 폴리에틸렌 난연케이블 | B14: 0.6/1kv F-CV 4C×6㎟ | C14: 80 | D14: 4 | E14: 0.05376 | F14: 17.2032
A15: 폴리에틸렌 난연케이블 | B15: 0.6/1kv F-CV 4C×10㎟ | C15: 200 | D15: 4 | E15: 0.0896 | F15: 71.68
... A17: 폴리에틸렌 난연케이블 | B17: 0.6/1kv F-CV 4C×35㎟ | C17: 640 | D17: 4 | E17: 0.3136 | F17: 802.816
A18: PANEL BOARD | C18: 43 | D18: 1 | E18: 2 | F18: 86
A26: [ 합 계 ] | F26: =SUM(F4:F25) -> 2744.9696
C27: 수량 | D27: 단가 | E27: 금 액
A28: 고동 | C28: =F26 -> 2744.9696

Sheet 옵션
B1: 재료비 | C1: 노무비 | D1: 경비 | F1: 계
A2: 총 급 액 | B2: =총괄표!I29 -> 0 | C2: =총괄표!L29 -> 0 | D2: =총괄표!N29 -> 0 | F2: =SUM(B2,C2,D2) -> 0
A3: 관급 자재비 | F3: =SUM(B3,C3,D3) -> 0 | H3: 금액조정이 안되나요?
H6: 이지테크에서 변환할 때 2번 옵션을 지정하여 다시 해보세요
H9: 시트를 삭제할 때 에러가 뜨면 1번 옵션으로 하면 됩니다.
B10: 적용율(%) | C10: 끝자리 | D10: 적용율(%)/100 | E10: 일위대가소수
A11: 전체자재 적용율(%)(공종/일위대가) | B11: 100 | C11: 1000 | D11: =$B$11/100 -> 1
A12: 전체노임 적용율(%)(공종) | B12: 100 | C12: 1000 | D12: =$B$12/100 -> 1 | E12: 2 | H12: 2번 옵션으로 변환했을 때에는 결과값이 다를 수 있습니다.
A13: 전체노임 적용율(%)(일위대가) | B13: 100 | C13: 1 | D13: =$B$13/100 -> 1 | E13: 5
A20: *(그룹별 자재 단가 추가 할증)* | B20: 적용율(%) | D20: 적용율(%)/100
A21: Cable(CAB) 할증(%) | B21: =B11 -> 100 | D21: =$B$21/100 -> 1
A22: Wire (WIR) 할증(%) | B22: =B11 -> 100 | D22: =$B$22/100 -> 1
A23: Pipe (PIP) 할증(%) | B23: =B11 -> 100 | D23: =$B$23/100 -> 1
A24: 제 4그룹 할증(%) | B24: =B11 -> 100 | D24: =$B$24/100 -> 1
A25: 제 5그룹 할증(%) | B25: =B11 -> 100 | D25: =$B$25/100 -> 1
A30: *(그룹별 노임 추가 할증)* | B30: 적용율(%) | C30: 자동부속재(전기) | D30: 자동부속재(통신)
A31: 배관부속재(%) | B31: 15 | C31: 15 | D31: 20
A32: CD관부속재(%) | B32: 40 | C32: 40 | D32: 40
A33: 소모잡자재(%) | B33: 2 | H33: 본 파일은 이지테크에서 2번 옵션으로 만들었습니다.
A34: 방폭할증(%)
A35: 고소할증(%) | B35: 2
A36: 공구손료(%) | B36: 3
A40: *(공종별 노임 적용율(%))* | B40: 적용율(%) | C40: 소수자릿수
A41: 1-1.전력간선공사 | B41: 100 | C41: 0
A42: 1-2.동력설비공사 | B42: 100 | C42: 0
A43: 1-3.전등설비공사 | B43: 100 | C43: 0
A44: 1-4.전열설비공사 | B44: 100 | C44: 0
A45: 1-5.냉난방 및 전열교환기설비공사 | B45: 100 | C45: 0
A46: 1-6.피뢰침설치공사 | B46: 100 | C46: 0
A47: 1-7.CABLE TRAY 설치공사 | B47: 100 | C47: 0
A48: 1-8.전기철거공사 | B48: 100 | C48: 0

Sheet 사용설명
B1: ** 반드시 다음 사항을 숙지하신 다음 수정 작업을 하십시오 **
A2: 1. | B2: 속성이 숫자인 셀을 삭제할 때는 반드시 'Delete' 키를 사용하십시오.
B3: **주의:'Space Bar' 로 지웠을 때는 '#Value' Error가 발생됩니다.
A4: 2. | B4: 일위대가(을지)는 소수점 처리 때문에 셀 속성을 '일반'으로 하였습니다.(소수점 능동 처리)
B5: **참고: (수량*단가)의 결과는 소수 한자리, 금액을 취합한 소계는 1원 이하 절사입니다.
A6: 3. | B6: 내역서에서는 수량에만 셀 속성을 '일반'으로 하였습니다.(소수점 능동 처리)
A7: 4. | B7: 단가수정은 '단가조사서'시트 에서 하십시오.
B8: a)표지와 원가 -> 총괄표 -> 내역서 ->일위대가와 합산자재 ->단가조사서 를 참조하고
B9: 있으므로 단가조사서의 결정단가를 수정하면 전체 금액이 갱신됩니다.
B10: **주의: 금액란은 공식이 걸려있으므로 조심하여 수정하십시오.
B11: b)전체 자재를 일정 요율(%)로 변경할 때는 옵션시트의 자재 적용율을 조정하면 됩니다.
A12: 5. | B12: 노임 단가는 '단가조사서'시트에서 품셈은 '노임근거'시트에서 수정하십시오.
B13: a)전체 노임을 일정 요율(%)로 변경할 때는 '옵션시트'의 전체노임 적용율을 조정하면 됩니다.
B14: b)공종별로 노임을 수정하려면 '옵션시트'의 공종별 노임 적용율을 조정하면 됩니다.
B15: c)케이블 및 전선 자재 단가를 추가로 조정하려면 그룹별 자재 적용율을 조정하면 됩니다.
B16: 그룹은 견적 프로그램에서 엑셀파일이 만들어질때 지정됩니다.
A17: 6. | B17: 겉표지의 모든 정보는 표지를 참조하였습니다.(정보 수정은 표지에서만 하시면 됩니다.)
A18: 7. | B18: 필수 :본 프로그램의 총 금액을 확인한 후 사용하십시오.
A19: 8. | B19: 본 파일의 내용을 인쇄할 경우, 미리보기를 통하여 페이지 절선을 확인 후 인쇄하십시오.
A20: 9. | B20: 관급자재 Sheet가 해당이 없을 경우엔 삭제하십시오.
A21: 10. | B21: 페이지 절선이 맞지 않으면 다음을 참고하십시오.
B33: a. 해당시트의 셀 전체를 선택합니다.
B34: b. 행높이를 적절히 가감하면 페이지 절선을 맞출 수 있습니다.
