Workbook
Name _: #N/A
Name _\D: #REF!
Name _\X: #REF!
Name _01: #REF!
Name _02: #REF!
Name _03: #REF!
Name _1: #REF!
Name _11G_0E: #REF!
Name _12: #N/A
Name _12G_0Extr: #REF!
Name _13: #REF!
Name _1공장: #REF!
Name _2: #REF!
Name _2공장: #REF!
Name _3: #REF!
Name _3_3_0Cr: #REF!
Name _3공장: #REF!
Name _4: #REF!
Name _4_3_0Crite: #REF!
Name _5: #REF!
Name _6: #REF!
Name _7: #REF!
Name _8: #REF!
Name _9: #REF!
Name _A: #REF!
Name _A01: #REF!
Name _A02: #REF!
Name _A03: #REF!
Name _A04: #REF!
Name _A05: #REF!
Name _B02: #REF!
Name _b03: #REF!
Name _b05: #REF!
Name _b06: #REF!
Name _b07: #REF!
Name _b08: #REF!
Name _B10: #REF!
Name _B11: #REF!
Name _b12: #REF!
Name _b13: #REF!
Name _B14: #REF!
Name _b15: #REF!
Name _b17: #REF!
Name _b18: #REF!
Name _b19: #REF!
Name _B20: #REF!
Name _B21: #REF!
Name _B23: #REF!
Name _B24: #REF!
Name _B25: #REF!
Name _B37: #REF!
Name _B38: #REF!
Name _C01: #REF!
Name _c02: #REF!
Name _D01: #REF!
Name _D02: #REF!
Name _E01: #REF!
Name _F01: #REF!
Name _F02: #REF!
Name _F03: #REF!

Sheet 표지ㅣ
F4: 2024년 5월
E8: 2030 대전 공원녹지기본계획 재정비 전략환경영향평가용역
E14: 1. 사업개요
E16: - 위 치 : | R16: 대전광역시 전역
E18: - 면 적 : | R18: 539.9㎢
E20: 2. 금 액 | R20: =내역표지!P17 -> 금영원(금원), 부가세포함
E27: 대전광역시

Sheet 갑지
A1: 담당자 | C1: 검토자 | F1: 담당팀장 | I1: 과장 | K1: 설 계 년월일
M2: 2024년 05월 일 설계
A5: 2024년도
B7: =표지ㅣ!E8 -> 2030 대전 공원녹지기본계획 재정비 전략환경영향평가용역
C9: ○ 사업개요
D10: - 위 치 : | G10: =표지ㅣ!R16 -> 대전광역시 전역
D11: - 용 역 개 요 : | G11: =표지ㅣ!R18 -> 539.9㎢
C14: ○ 용 역 비
D15: - 총 용 역 비 : | G15: ="금 "&NUMBERSTRING(J15,1)&"원정" -> 금 영원정 | J15: =내역표지!AO26 -> 0
D16: - 공 급 가 액 : | G16: ="금 "&NUMBERSTRING(J16,1)&"원정" -> 금 영원정 | J16: =내역표지!AO27 -> 0
D17: - 부가가치세 : | G17: ="금 "&NUMBERSTRING(J17,1)&"원정" -> 금 영원정 | J17: =내역표지!AO28 -> 0

Sheet 내역표지
C5: =표지ㅣ!E8 -> 2030 대전 공원녹지기본계획 재정비 전략환경영향평가용역
W9: 설계내역서
W13: =표지ㅣ!F4 -> 2024년 5월
C17: 총용역비 | P17: ="금"&NUMBERSTRING(AO28,1)&"원(금"&TEXT(내역표지!AO28,"#,###원)")&", 부가세포함 " -> 금영원(금원), 부가세포함
C20: 품명 | T20: 규격 | Y20: 수량 | AD20: 단가 | AO20: 공급가액 | AZ20: 1차분 | BK20: 2차분 | BV20: 비고
C21: 직접인건비 | Y21: 1 | AD21: =총괄!I4 -> 0 | AO21: =AD21 -> 0 | AZ21: 20580713 | BK21: 28309287
C22: 직접경비 | Y22: 1 | AD22: =총괄!I6 -> 0 | AO22: =AD22 -> 0 | AZ22: 0 | BK22: 4980000
C23: 제경비 | Y23: 1 | AD23: =총괄!I10 -> 0 | AO23: =AD23 -> 0 | AZ23: =ROUNDDOWN(INT(AZ21*1.1),-3) -> 22638000 | BK23: =ROUNDDOWN(INT(BK21*1.1),-4) -> 31140000 | BV23: 직접인건비의 110%
C24: 기술료 | Y24: 1 | AD24: =총괄!I13 -> 0 | AO24: =AD24 -> 0 | AZ24: =ROUNDDOWN((AZ21+AZ23)*0.2,-3) -> 8643000 | BK24: =ROUNDDOWN((BK21+BK23)*0.2,-4) -> 11880000 | BV24: (직접인건비+제경비)의 20%
C25: 손 해 배 상 보 험 료 | Y25: 1 | AD25: =총괄!I15 -> 0 | AO25: =AD25 -> 0 | AZ25: 0 | BK25: 1050000
C26: 소계 | AO26: =SUM(AO21:AY25) -> 0 | AZ26: =SUM(AZ21:BJ25) -> 51861713 | BK26: =SUM(BK21:BU25) -> 77359287 | BV26: 만원미만 절사
C27: 부가가치세 | Y27: 1 | AO27: =AO26*0.1 -> 0 | AZ27: =AZ26*0.1 -> 5186171.3 | BK27: =BK26*0.1 -> 7735928.7
C28: 合計 | AO28: =ROUNDDOWN((AO26+AO27),-5) -> 0 | AZ28: =ROUNDDOWN((AZ26+AZ27),-5) -> 57000000 | BK28: =ROUNDDOWN((BK26+BK27),-5) -> 85000000

Sheet 총괄
A1: 종 별 | D1: 규격 | E1: 수량 | G1: 단위 | H1: 합 계 | J1: 노 무 비 | L1: 재 료 비 | N1: 경 비 | P1: 비 고
H2: 단 가 | I2: 금 액 | J2: 단 가 | K2: 금 액 | L2: 단 가 | M2: 금 액 | N2: 단 가 | O2: 금 액
A3: 제8차 경기권 관광개발계획 전략환경영향평가서(정책계획)
B4: ■ | C4: 직접인건비 | E4: 1 | G4: 식
B6: ■ | C6: 직접경비 | E6: 1 | G6: 식
C7: 1. 여비(출장비) | E7: 1 | G7: 식
C8: 2. 인쇄비 | E8: 1 | G8: 식
B10: ■ | C10: 제경비 | E10: 1 | G10: 식
B13: ■ | C13: 기술료 | E13: 1 | G13: 식
B15: ■ | C15: 손해배상보험료 | E15: 1 | G15: 식
B17: ■ | C17: 소 계 | E17: 1 | G17: 식
B19: ■ | C19: 부가가치세 | E19: 1 | G19: 식
B21: ■ | C21: 합 계 | E21: 1 | G21: 식

Sheet 총괄 (2)
A1: 종 별 | D1: 규격 | E1: 수량 | G1: 단위 | H1: 합 계 | J1: 노 무 비 | L1: 재 료 비 | N1: 경 비 | P1: 비 고
H2: 단 가 | I2: 금 액 | J2: 단 가 | K2: 금 액 | L2: 단 가 | M2: 금 액 | N2: 단 가 | O2: 금 액
A3: 1 | B3: 직접인건비 | H3: =J3+L3+N3 -> #REF! | I3: =K3+M3+O3 -> #REF! | J3: =J4+J5+J6+J7+J8+J9+J10+J11+J37+J38+J39+J40+J41+J42 -> #REF! | K3: =K4+K5+K6+K7+K8+K9+K10+K11+K37+K38+K39+K40+K41+K42 -> #REF!
C4: 가. 요약문 | H4: =J4+L4+N4 -> #REF! | I4: =K4+M4+O4 -> #REF! | J4: =#REF! -> #REF! | K4: =#REF! -> #REF! | P4: 1
C5: 나. 사업의 개요 | H5: =J5+L5+N5 -> #REF! | I5: =K5+M5+O5 -> #REF! | J5: =#REF! -> #REF! | K5: =#REF! -> #REF! | P5: 2
C6: 다. 환경영향평가대상 지역의 설정 | H6: =J6+L6+N6 -> #REF! | I6: =K6+M6+O6 -> #REF! | J6: =#REF! -> #REF! | K6: =#REF! -> #REF! | P6: 3
C7: 라. 지역개황 | H7: =J7+L7+N7 -> #REF! | I7: =K7+M7+O7 -> #REF! | J7: =#REF! -> #REF! | K7: =#REF! -> #REF! | P7: 4
C8: 마. 평가항목의 설정 | H8: =J8+L8+N8 -> #REF! | I8: =K8+M8+O8 -> #REF! | J8: =#REF! -> #REF! | K8: =#REF! -> #REF! | P8: 5
C9: 바. 평가항목·범위 획정 | H9: =J9+L9+N9 -> #REF! | I9: =K9+M9+O9 -> #REF! | J9: =#REF! -> #REF! | K9: =#REF! -> #REF! | P9: 6
C10: 사. 주민의견수렴 | H10: =J10+L10+N10 -> #REF! | I10: =K10+M10+O10 -> #REF! | J10: =#REF! -> #REF! | K10: =#REF! -> #REF! | P10: 7
C11: 아. 환경현황조사, 예측·평가, 저감방안 및 사후환경영향조사 | H11: =J11+L11+N11 -> #REF! | I11: =K11+M11+O11 -> #REF! | J11: =J12+J17+J21+J25+J29+J33 -> #REF! | K11: =K12+K17+K21+K25+K29+K33 -> #REF!
C12: (1) 대기환경분야 | H12: =J12+L12+N12 -> #REF! | I12: =K12+M12+O12 -> #REF! | J12: =J13+J14+J15+J16 -> #REF! | K12: =K13+K14+K15+K16 -> #REF!
C13: (가) 기상 | H13: =J13+L13+N13 -> #REF! | I13: =K13+M13+O13 -> #REF! | J13: =#REF! -> #REF! | K13: =#REF! -> #REF! | P13: 8
C14: (나) 대기질 | H14: =J14+L14+N14 -> #REF! | I14: =K14+M14+O14 -> #REF! | J14: =#REF! -> #REF! | K14: =#REF! -> #REF! | P14: 9
C15: (다) 악취 | H15: =J15 -> #REF! | I15: =K15 -> #REF! | J15: =#REF! -> #REF! | K15: =#REF! -> #REF! | P15: 10
C16: (다) 온실가스 | H16: =J16 -> #REF! | I16: =K16 -> #REF! | J16: =#REF! -> #REF! | K16: =#REF! -> #REF! | P16: 10
C17: (2) 수환경분야 | H17: =J17+L17+N17 -> #REF! | I17: =K17+M17+O17 -> #REF! | J17: =J18+J20+J19 -> #REF! | K17: =K18+K20+K19 -> #REF!
C18: (가) 수질(해양) | H18: =J18+L18+N18 -> #REF! | I18: =K18+M18+O18 -> #REF! | J18: =#REF! -> #REF! | K18: =#REF! -> #REF! | P18: 11
C19: (나) 수리·수문 | H19: =J19+L19+N19 -> #REF! | I19: =K19+M19+O19 -> #REF! | J19: =#REF! -> #REF! | K19: =#REF! -> #REF! | P19: 12
C20: (나) 해양환경 | H20: =J20+L20+N20 -> #REF! | I20: =K20+M20+O20 -> #REF! | J20: =#REF! -> #REF! | K20: =#REF! -> #REF! | P20: 13
C21: (3) 토지환경분야 | H21: =J21+L21+N21 -> #REF! | I21: =K21+M21+O21 -> #REF! | J21: =J22+J24+J23 -> #REF! | K21: =K22+K24 -> #REF!
C22: (가) 토지이용 | H22: =J22+L22+N22 -> #REF! | I22: =K22+M22+O22 -> #REF! | J22: =#REF! -> #REF! | K22: =#REF! -> #REF! | P22: 14
C23: (나)토양 | H23: =J23+L23+N23 -> 0 | I23: =K23+M23+O23 -> #REF! | J23: 0 | K23: =#REF! -> #REF! | P23: 15
C24: (나) 지형·지질 | H24: =J24+L24+N24 -> #REF! | I24: =K24+M24+O24 -> #REF! | J24: =#REF! -> #REF! | K24: =#REF! -> #REF! | P24: 15
C25: (4) 자연생태환경분야 | H25: =J25+L25+N25 -> #REF! | I25: =K25+M25+O25 -> #REF! | J25: =J26+J28+J27 -> #REF! | K25: =K26+K28+K27 -> #REF!
C26: (가) 육상동·식물상 | H26: =J26+L26+N26 -> #REF! | I26: =K26+M26+O26 -> #REF! | J26: =#REF! -> #REF! | K26: =#REF! -> #REF! | P26: 18
C27: (가) 해양동·식물상 | H27: =J27+L27+N27 -> #REF! | I27: =K27+M27+O27 -> #REF! | J27: =#REF! -> #REF! | K27: =#REF! -> #REF! | P27: 16
C28: (나) 자연환경자산 | H28: =J28+L28+N28 -> #REF! | I28: =K28+M28+O28 -> #REF! | J28: =#REF! -> #REF! | K28: =#REF! -> #REF! | P28: 17
C29: (5) 생활환경분야 | H29: =J29+L29+N29 -> #REF! | I29: =K29+M29+O29 -> #REF! | J29: =SUM(J30:J32) -> #REF! | K29: =SUM(K30:K32) -> #REF!
C30: (가) 친환경적 자원순환 | H30: =J30+L30+N30 -> #REF! | I30: =K30+M30+O30 -> #REF! | J30: =#REF! -> #REF! | K30: =#REF! -> #REF! | P30: 18
C31: (나) 소음 | H31: =J31+L31+N31 -> #REF! | I31: =K31+M31+O31 -> #REF! | J31: =#REF! -> #REF! | K31: =#REF! -> #REF! | P31: 19
C32: (다) 위락·경관 | H32: =J32+L32+N32 -> #REF! | I32: =K32+M32+O32 -> #REF! | J32: =#REF! -> #REF! | K32: =#REF! -> #REF! | P32: 20
C33: (6) 사회·경제환경분야 | H33: =J33+L33+N33 -> #REF! | I33: =K33+M33+O33 -> #REF! | J33: =J36+J34+J35 -> #REF! | K33: =K36+K34+K35 -> #REF!
C34: (가) 인구 | H34: =J34+L34+N34 -> #REF! | I34: =K34+M34+O34 -> #REF! | J34: =#REF! -> #REF! | K34: =#REF! -> #REF! | P34: 21
C35: (나) 주거 | H35: =J35+L35+N35 -> #REF! | I35: =K35+M35+O35 -> #REF! | J35: =#REF! -> #REF! | K35: =#REF! -> #REF! | P35: 22
C36: (다) 산업 | H36: =J36+L36+N36 -> #REF! | I36: =K36+M36+O36 -> #REF! | J36: =#REF! -> #REF! | K36: =#REF! -> #REF! | P36: 23
C37: 자. 환경영향에 미치는 영향의 저감방안(총괄) | H37: =J37+L37+N37 -> #REF! | I37: =K37+M37+O37 -> #REF! | J37: =#REF! -> #REF! | K37: =#REF! -> #REF! | P37: 24
C38: 차. 불가피한 환경영향 | H38: =J38+L38+N38 -> #REF! | I38: =K38+M38+O38 -> #REF! | J38: =#REF! -> #REF! | K38: =#REF! -> #REF! | P38: 25
C39: 카. 사후환경영향조사 계획 | H39: =J39+L39+N39 -> #REF! | I39: =K39+M39+O39 -> #REF! | J39: =#REF! -> #REF! | K39: =#REF! -> #REF! | P39: 26
C40: 타. 대안설정 및 평가 | H40: =J40+L40+N40 -> #REF! | I40: =K40+M40+O40 -> #REF! | J40: =#REF! -> #REF! | K40: =#REF! -> #REF! | P40: 27
...
