Workbook
Name _\D: [1]조건표!$P$4
Name _\X: [1]조건표!$P$4:$U$4
Name A: [2]DATE!$E$24:$E$85
Name AAA: [3]입찰안!$P$3:$U$3
Name AAAA: [4]DATE!$E$24:$E$85
Name csm: [5]노임단가!$I$21
Name ctb: [5]노임단가!$I$17
Name cth: [5]노임단가!$I$13
Name ctm: [5]노임단가!$I$15
Name ctp: [5]노임단가!$I$9
Name cts: [5]노임단가!$I$11
Name D: [2]DATE!$C$24:$C$85
Name DD: [3]입찰안!$P$3
Name DDD: [4]DATE!$C$24:$C$85
Name DDDD: [3]입찰안!$P$3
Name KA: '[6]조도계산서 (도서)'!$B$61:$E$68
Name musu: '[7]수안보-MBR1'!$AN$247
Name M당무게: [2]DATE!$E$24:$E$85
Name M당무게1: [8]DATE!$E$24:$E$85
Name M당무게2: [8]DATE!$E$24:$E$85
Name Print_Area\C: [1]조건표!$P$4
Name qqq: [9]노임!$C$21
Name S: [2]DATE!$I$24:$I$85
Name UJI: [4]DATE!$I$24:$I$85
Name XX: [3]입찰안!$P$3
Name XXX: [3]입찰안!$P$3
Name XXXX: [3]입찰안!$P$3
Name 각재: [10]자재단가!$D$16
Name 간접노무비: 14%
Name 곡관수량: [11]DATE!$C$24:$C$85
Name 곱: [2]DATE!$I$24:$I$85
Name 곱2: [8]DATE!$I$24:$I$85
Name 곱곱: [2]DATE!$I$24:$I$85
Name 권: [12]DATE!$I$24:$I$85
Name 규격: [2]DATE!$C$24:$C$85
Name 기경339: [13]중기사용료!$F$704
Name 기경339.1: [13]중기사용료!$F$703
Name 기경346: [13]중기사용료!$F$718
Name 기경346.1: [13]중기사용료!$F$717
Name 기경57: [13]중기사용료!$F$134
Name 기노339: [13]중기사용료!$R$704
Name 기노339.1: [13]중기사용료!$R$703
Name 기노57: [13]중기사용료!$R$134
Name 기재339: [13]중기사용료!$K$704
Name 기재339.1: [13]중기사용료!$K$703
Name 기재57: [13]중기사용료!$K$134
Name 기존관보호공집계: [14]우배수!$E$24:$E$85
Name 기타경비: 5.3%
Name 내역집계표: {"'용역비'!$A$4:$C$8"}
Name 노112: [13]적용노임!$C$117
Name 노112_1: [13]적용노임!$D$117
Name 노4: [13]적용노임!$C$7
Name 노4_1: [13]적용노임!$D$7
Name 노40: [13]적용노임!$C$45
Name 노40_1: [13]적용노임!$D$45
Name 노84: [13]적용노임!$C$89
Name 노84_1: [13]적용노임!$D$89
Name 단관M: [2]DATE!$H$24:$H$85
Name 더하기: [2]DATE!$J$24:$J$85
Name 더하기4: [8]DATE!$J$24:$J$85

Sheet 표지
A4: 지방도 387호선(남양주 수동면 외방리) 선형개량공사 실시설계 용역
B6: ○ 과 업 위 치: | D6: 경기도 남양주시 수동면 외방리 579-1 ~ 남양주시 수동면 외방리 590-3
B7: ○ 과 업 개 요: | D7: L=0.2km, B=6.8m
B8: ○ 과 업 내 용: | D8: 실시설계 1식
B9: ○ 과 업 기 간: | D9: 착수일로부터 180일 (6개월)
B10: ○ 용 역 비: | D10: ='항목별 명세서'!F15 -> #REF! | E10: =ROUND(D10,-3) -> #REF!
A12: 경기도건설본부 북부도로과

Sheet 항목별 명세서
A1: =표지!A4 -> 지방도 387호선(남양주 수동면 외방리) 선형개량공사 실시설계 용역 | P1: 1 | R1: 발주금액 | S1: 도급금액
A2: ITEM | B2: 명 칭 | C2: 규 격 | D2: 수 량 | E2: 단위 | G2: 노 무 비 | I2: 재 료 비 | K2: 경 비 | M2: 비 고 | P2: 기술자인건비 | R2: 279983000 | S2: 243840000
A3: NO. | F3: 금 액 | G3: 단 가 | H3: 금 액 | I3: 단 가 | J3: 금 액 | K3: 단 가 | L3: 금 액 | P3: ='1.조사측량'!I15-#REF!-#REF!-#REF!-#REF!-#REF!-#REF!-#REF! -> #REF!
A4: 1. | B4: 조사 측량 | D4: 1 | E4: 식 | F4: =H4+J4+L4 -> #REF! | H4: ='1.조사측량'!I15 -> #REF! | J4: ='1.조사측량'!K15 -> #REF! | L4: ='1.조사측량'!M15 -> 0 | P4: =H5 -> #REF!
A5: 2 | B5: 도로구역결정비 | D5: 1 | E5: 식 | F5: =H5 -> #REF! | H5: ='2.도로구역 결정(변경)'!I4 -> #REF! | P5: ='3.토질조사 및 시험'!G51-'3.토질조사 및 시험'!G24-'3.토질조사 및 시험'!G31 -> 0
A6: 3 | B6: 토질조사비 | D6: 1 | E6: 식 | F6: =H6+J6+L6 -> 0 | H6: ='3.토질조사 및 시험'!G51 -> 0 | J6: ='3.토질조사 및 시험'!I51 -> 0 | L6: ='3.토질조사 및 시험'!K51 -> 0
A7: 4 | B7: 실시설계비 | D7: 1 | E7: 식 | F7: =L7 -> #REF! | L7: =#REF! -> #REF! | P7: =SUM(P3:P5) -> #REF!
A8: 5 | B8: 용역손해보험료 | D8: 1 | E8: 식 | F8: =H8+J8+L8 -> #REF! | L8: =#REF! -> #REF!
B9: 소 계 | F9: =F4+F5+F6+F7+F8 -> #REF! | H9: =H4+H5+H6+H7+H8 -> #REF! | J9: =J4+J5+J6+J7+J8 -> #REF! | L9: =L4+L5+L6+L7+L8 -> #REF!
A10: 6 | B10: 제 경 비 | C10: 직접인건비 110% | D10: 1 | E10: 식 | F10: =ROUNDDOWN(P7*110%,-2) -> #REF!
A11: 7 | B11: 기 술 료 | C11: 인건비+제경비 20% | D11: 1 | E11: 식 | F11: =ROUNDDOWN((F10+P7)*20%,-2) -> #REF!
B13: 공급가액 | F13: =F9+F10+F11 -> #REF!
A14: 8 | B14: 부가가치세 | C14: (합계x10%) | D14: 10 | E14: % | F14: =TRUNC(F13*0.1) -> #REF!
B15: 도급예정액 | F15: =ROUND(F13+F14,-4) -> #REF!

Sheet 조사간지
A3: 조 사 측 량

Sheet 1.조사측량
A1: 1. 조사측량 내역서
A3: ITEM | B3: 명 칭 | C3: 규 격 | D3: 수 량 | E3: 단위 | F3: 총 액 | H3: 노 무 비 | J3: 재 료 비 | L3: 경 비 | N3: 비 고
A4: NO. | F4: 단 가 | G4: 금 액 | H4: 단 가 | I4: 금 액 | J4: 단 가 | K4: 금 액 | L4: 단 가 | M4: 금 액
A5: 1 | B5: 노선측량 | G5: =G16 -> 0 | I5: =I16 -> 0 | K5: =K16 -> 0
B6: 노선측량 | C6: (농지, 구릉지)
B7: 노선선정 | D7: ='1-3 측량대상'!G4 -> 0.2 | E7: km | F7: =H7+J7+L7 -> #REF! | G7: =I7+K7+M7 -> #REF! | H7: =#REF! -> #REF! | I7: =ROUNDDOWN(D7*H7,-0.1) -> #REF!
B8: 노선선점 | D8: =D7 -> 0.2 | E8: km | F8: =H8+J8+L8 -> #REF! | G8: =I8+K8+M8 -> #REF! | H8: =#REF! -> #REF! | I8: =ROUNDDOWN(D8*H8,-0.1) -> #REF!
B9: 중신선측량 | D9: =D8 -> 0.2 | E9: km | F9: =H9+J9+L9 -> #REF! | G9: =I9+K9+M9 -> #REF! | H9: =#REF! -> #REF! | I9: =ROUNDDOWN(D9*H9,-0.1) -> #REF!
B10: 종단측량 | D10: =D9 -> 0.2 | E10: km | F10: =H10+J10+L10 -> #REF! | G10: =I10+K10+M10 -> #REF! | H10: =#REF! -> #REF! | I10: =ROUNDDOWN(D10*H10,-0.1) -> #REF!
B11: 횡단측량 | D11: =D10 -> 0.2 | E11: km | F11: =H11+J11+L11 -> #REF! | G11: =I11+K11+M11 -> #REF! | H11: =#REF! -> #REF! | I11: =ROUNDDOWN(D11*H11,-0.1) -> #REF!
B12: 평판측량 | D12: =D11 -> 0.2 | E12: km | F12: =H12+J12+L12 -> #REF! | G12: =I12+K12+M12 -> #REF! | H12: =#REF! -> #REF! | I12: =ROUNDDOWN(D12*H12,-0.1) -> #REF!
B13: 용지경계말뚝설치 | D13: =D12 -> 0.2 | E13: km | F13: =H13+J13+L13 -> #REF! | G13: =I13+K13+M13 -> #REF! | H13: =#REF! -> #REF! | I13: =ROUNDDOWN(D13*H13,-0.1) -> #REF! | J13: =#REF! -> #REF! | K13: =D13*J13 -> #REF!
B14: 용지측량 | D14: =D13 -> 0.2 | E14: km | F14: =H14+J14+L14 -> #REF! | G14: =I14+K14+M14 -> #REF! | H14: =#REF! -> #REF! | I14: =ROUNDDOWN(D14*H14,-0.1) -> #REF!
B15: 합 계 | G15: =SUM(G7:G14) -> #REF! | I15: =SUM(I7:I14) -> #REF! | K15: =SUM(K7:K14) -> #REF!

Sheet 1-3 측량대상
A1: 1-3. 측량조사 물량
G2: (단위 : km)
A3: 구 분 | B3: 사 업 명 | C3: 공 종 | D3: 시점 | E3: 종점 | F3: 총사업량 | G3: 측량대상 | H3: 비고
A4: 계 | F4: =SUM(F5:F5) -> 0.2 | G4: =SUM(G5:G5) -> 0.2
A5: 선형개량공사 | B5: 지방도 387호선(외방리) | C5: 선형개량 등 구조개선사업 (일부구간 배수길어깨 및 배수시설 추가) | D5: 남양주시 수동면 외방리 579-1 | E5: 남양주시 수동면 외방리 590-3 | F5: 0.2 | G5: =F5 -> 0.2

Sheet 2.도로구역결정
A1: 2. 도로구역변경결정고시 인허가 내역서
A3: 구 분 | B3: 규격 | C3: 단위 | D3: 수량 | E3: 단 가 | F3: 금 액 | G3: 노 무 비 | I3: 재 료 비 | K3: 경 비 | M3: 비 고
G4: 단 가 | H4: 금 액 | I4: 단 가 | J4: 금 액 | K4: 단 가 | L4: 금 액
A5: 인허가
A6: 1. 토지등기부, 지적도, 소유권조사 | B6: 면적보정계수( c ) | D6: =#REF! -> #REF! | E6: =G6+I6+K6 -> #REF! | F6: =H6+J6+L6 -> #REF! | G6: ='2-1일위대가표'!G4 -> #REF! | H6: =$D$6*G6 -> #REF!
A7: 2. 도면작성 | C7: 매 | D7: 5 | E7: =G7+I7+K7 -> #REF! | F7: =H7+J7+L7 -> #REF! | G7: ='2-1일위대가표'!G9 -> #REF! | H7: =$D$7*G7 -> #REF!
A8: 3. 편입면적측정 | C8: 필지 | D8: ='4-2개략공사비'!E4 -> 0 | E8: =G8+I8+K8 -> #REF! | F8: =H8+J8+L8 -> #REF! | G8: ='2-1일위대가표'!G14 -> #REF! | H8: =$D$8*G8 -> #REF!
A9: 4. 조서작성 | C9: 매 | D9: =D7 -> 5 | E9: =G9+I9+K9 -> #REF! | F9: =H9+J9+L9 -> #REF! | G9: ='2-1일위대가표'!G16 -> #REF! | H9: =$D$9*G9 -> #REF!
A11: 합 계 | F11: =F9+F8+F7+F6 -> #REF! | H11: =H9+H8+H7+H6 -> #REF! | J11: =SUM(J6:J10) -> 0 | L11: =SUM(L6:L10) -> 0
A12: ※ 낙찰관련요율적용 : | D12: 1 | F12: =+H12 -> #REF! | H12: =INT(+H11*D12) -> #REF!

Sheet 도로구역간지 (2)
A3: 도로구역 결정비

Sheet 도로구역간지
A3: 도로구역결정비 대가산정

Sheet 2.도로구역 결정(변경)
A1: 구분 | B1: 명 칭 | C1: 규 격 | D1: 수 량 | E1: 단위 | F1: 총 액 | H1: 노 무 비 | J1: 재 료 비 | L1: 경 비 | N1: 비고
F2: 단 가 | G2: 금 액 | H2: 단 가 | I2: 금 액 | J2: 단 가 | K2: 금 액 | L2: 단 가 | M2: 금 액
A3: 3. | B3: 도로구역결정(변경)
A4: 가. | B4: 직접인건비 (변경) | G4: =I4 -> #REF! | H4: =H5 -> #REF! | I4: =I5 -> #REF!
A5: (1) | B5: 도로구역결정변경도서작성 | G5: =G6+G7+G8+G18 -> #REF! | H5: =H6+H7+H8+H18 -> #REF! | I5: =I6+I7+I8+I18 -> #REF!
A6: a | B6: 도시계획시설(변경)결정 조서 및 지형도면 고시 작성
A7: b | B7: 농지, 임야, 초지 관련서류 작성
A8: c | B8: 도로구역결정(변경) 구비서류 및 의제협의 | D8: 1 | E8: 식 | F8: =H8 -> #REF! | G8: =I8 -> #REF! | H8: =H9+H10+H11+H12+H13+H14+H15+H16+H17 -> #REF! | I8: =ROUND((H8*D8),0) -> #REF!
A9: c-1 | B9: 도로구역(변경)결정 협의 | D9: 1 | E9: 식 | F9: =H9 -> #REF! | G9: =I9 -> #REF! | H9: =#REF! -> #REF! | I9: =ROUND((H9*D9),0) -> #REF!
A10: c-2 | B10: 실시계획인가 | D10: 1 | E10: 식 | F10: =H10 -> #REF! | G10: =I10 -> #REF! | H10: =#REF! -> #REF! | I10: =ROUNDDOWN((H10*D10),0) -> #REF!
A11: c-3 | B11: 주민의견청취자료작성 및 조치계획 | D11: 1 | E11: 식 | F11: =H11 -> #REF! | G11: =I11 -> #REF! | H11: =#REF! -> #REF! | I11: =ROUNDDOWN((H11*D11),0) -> #REF!
A12: c-4 | B12: 소하천점용허가 협의 | E12: 식 | F12: =H12 -> 0 | G12: =I12 -> 0 | H12: 0 | I12: =ROUNDDOWN((H12*D12),0) -> 0
A13: c-5 | B13: 농지전용협의 | D13: 1 | E13: 식 | F13: =H13 -> #REF! | G13: =I13 -> #REF! | H13: =#REF! -> #REF! | I13: =ROUNDDOWN((H13*D13),0) -> #REF!
A14: c-6 | B14: 산지전용협의 | D14: 1 | E14: 식 | F14: =H14 -> #REF! | G14: =I14 -> #REF! | H14: =#REF! -> #REF! | I14: =ROUNDDOWN((H14*D14),0) -> #REF!
A15: c-7 | B15: 군사시설협의 | E15: 식 | F15: =H15 -> 0 | G15: =I15 -> 0 | H15: 0 | I15: =ROUNDDOWN((H15*D15),0) -> 0
A16: c-8 | B16: 기타의제협의 | D16: 1 | E16: 식 | F16: =H16 -> #REF! | G16: =I16 -> #REF! | H16: =#REF! -> #REF! | I16: =ROUNDDOWN((H16*D16),0) -> #REF!
A17: c-9 | B17: 국유지무상귀속협의 | D17: 1 | E17: 식 | F17: =H17 -> #REF! | G17: =I17 -> #REF! | H17: =#REF! -> #REF! | I17: =ROUNDDOWN((H17*D17),0) -> #REF!
A18: d | B18: 용지 및 지장물 | D18: 1 | E18: 식 | G18: =G19+G20 -> #REF! | H18: =H19+H20 -> #REF! | I18: =I19+I20 -> #REF!
A19: d-1 | B19: 용지도및용지조서 | D19: 1 | E19: 식 | F19: =H19 -> #REF! | G19: =I19 -> #REF! | H19: =#REF! -> #REF! | I19: =ROUND((H19*D19),0) -> #REF!
A20: d-2 | B20: 지장물도및지장물조서 | D20: 1 | E20: 식 | F20: =H20 -> #REF! | G20: =I20 -> #REF! | H20: =#REF! -> #REF! | I20: =ROUND((H20*D20),0) -> #REF!
B21: 합 계 | F21: =G4 -> #REF!
A30: 구분 | B30: 명 칭 | C30: 규 격 | D30: 수 량 | E30: 단위 | F30: 총 액 | H30: 노 무 비 | J30: 재 료 비 | L30: 경 비 | N30: 비고
F31: 단 가 | G31: 금 액 | H31: 단 가 | I31: 금 액 | J31: 단 가 | K31: 금 액 | L31: 단 가 | M31: 금 액
A32: 3. | B32: 도로구역결정(변경)-변경
A33: 가. | B33: 직접인건비 | G33: =I33 -> #REF! | H33: =H34 -> #REF! | I33: =I34 -> #REF!
A34: 1) | B34: 도로구역결정(변경) 구비서류 및 의제협의 | G34: =I34 -> #REF! | H34: =SUM(H35:H36) -> #REF! | I34: =SUM(I35:I36) -> #REF!
A35: ① | B35: 용지 및 지장물 | D35: 1 | F35: =H35 -> 0 | G35: =I35 -> 0 | I35: =ROUND((H35*D35),0) -> 0
A36: ② | B36: 도로구역결정 협의 | D36: 1 | F36: =H36 -> #REF! | G36: =I36 -> #REF! | H36: =#REF! -> #REF! | I36: =ROUND((H36*D36),0) -> #REF!
A37: 나. | B37: 제 경 비(직접인건비의 110~120%) | D37: 110 | E37: % | F37: =H37+J37+L37 -> 0 | G37: =I37+K37+M37 -> 0 | L37: 0 | M37: =ROUNDDOWN((L37*D37/100),0) -> 0
A38: 다. | B38: 기 술 료 ((직·인+제경비)의20~40%) | D38: 20 | E38: % | F38: =H38+J38+L38 -> 0 | G38: =I38+K38+M38 -> 0 | L38: =L37+G37 -> 0 | M38: =ROUNDDOWN((L38*D38/100),0) -> 0
B39: 합 계 | C39: 가 + 나 + 다 | F39: =ROUND(G33+G37+G38,0) -> #REF!

Sheet 2-1일위대가표
A1: 2-1. 일위대가표
A2: 종별 | B2: 규 격 | C2: 수량 | D2: 단위 | E2: 총 액 | F2: 노 무 비 | H2: 재 료 비 | J2: 경 비 | L2: 비고
F3: 단 가 | G3: 금 액 | H3: 단 가 | I3: 금 액 | J3: 단 가 | K3: 금 액
A4: 1. 토지등기부, 지적도, 소유권조사 면적보정계수( c ) | E4: =+(G4+I4+K4) -> #REF! | G4: =SUM(G5:G7) -> #REF! | I4: =SUM(I5:I18) -> 0 | K4: =SUM(K5:K18) -> 0
A5: 고급기술자 | C5: 1 | D5: 인 | E5: =(G5+I5+K5) -> #REF! | F5: =#REF! -> #REF! | G5: =TRUNC(C5*F5) -> #REF!
A6: 중급기술자 | C6: 3 | D6: 인 | E6: =(G6+I6+K6) -> #REF! | F6: =#REF! -> #REF! | G6: =TRUNC(C6*F6) -> #REF!
A7: 초급기술자 | C7: 6 | D7: 인 | E7: =(G7+I7+K7) -> #REF! | F7: =#REF! -> #REF! | G7: =TRUNC(C7*F7) -> #REF!
E8: =(G8+I8+K8) -> 0 | G8: =TRUNC(C8*F8) -> 0
A9: 2. 도면작성 | B9: 매 | E9: =+(G9+I9+K9) -> #REF! | G9: =SUM(G10:G11) -> #REF!
A10: 지적기사 | B10: 중급기술자 | C10: 0.13 | D10: 인 | E10: =(G10+I10+K10) -> #REF! | F10: =#REF! -> #REF! | G10: =TRUNC(C10*F10) -> #REF! | I10: =TRUNC(C10*H10) -> 0
A11: 지적기능사 | B11: 초급기술자 | C11: 0.19 | D11: 인 | E11: =(G11+I11+K11) -> #REF! | F11: =#REF! -> #REF! | G11: =TRUNC(C11*F11) -> #REF! | I11: =TRUNC(C11*H11) -> 0
A13: 3. 편입면적측정 | B13: 필지
A14: 지적기능사 | B14: 초급기술자 | C14: =0.049 -> 0.049 | D14: 인 | E14: =(G14+I14+K14) -> #REF! | F14: =#REF! -> #REF! | G14: =TRUNC(C14*F14) -> #REF!
A16: 4. 조서작성 | B16: 매 | E16: =+(G16+I16+K16) -> #REF! | G16: =SUM(G17:G18) -> #REF!
A17: 지적산업기사 | B17: 초급기술자 | C17: 0.13 | D17: 인 | E17: =(G17+I17+K17) -> #REF! | F17: =#REF! -> #REF! | G17: =TRUNC(C17*F17) -> #REF!
A18: 지적기능사 | B18: 초급기술자 | C18: 0.19 | D18: 인 | E18: =(G18+I18+K18) -> #REF! | F18: =#REF! -> #REF! | G18: =TRUNC(C18*F18) -> #REF!
I19: =SUM(I5:I18) -> 0 | K19: =SUM(K5:K18) -> 0

Sheet 토질간지
A3: 토 질 조 사 비

Sheet 3.토질조사 및 시험
A2: 토질조사 및 시험
F5: 면 적: | G5: 연장 : 0.45kM | H5: ㎡ | I5: =ROUNDUP(G5*0.3025,-2) -> #VALUE! | K5: 평)
G7: 시추공 : NX | H7: =#REF! -> #REF! | I7: 공
G8: 시험굴조사 | H8: 3 | I8: 개소
G9: 현장시험 | H9: 1 | I9: 식
G10: 실내시험 | H10: 1 | I10: 식
B17: 설계금액 : | C17: #REF! | G17: (￦ | H17: =#REF! -> #REF! | K17: )
A19: 3. 토지조사 및 시험
A20: 공 종 | B20: 규격 | C20: 수량 | D20: 단위 | E20: 총 액 | F20: 노 무 비 | H20: 재 료 비 | J20: 경 비 | L20: 비 고
F21: 단 가 | G21: 금 액 | H21: 단 가 | I21: 금 액 | J21: 단 가 | K21: 금 액
A23: 가. 현장조사비
A24: 1. 시추조사
A25: 1) 도로(NX, 육상) | C25: 2 | D25: 개소
A26: 점 토 | B26: 1M | C26: 2 | D26: m | L26: 제1호표
A27: 모 래 | B27: 1M | C27: 4 | D27: m | L27: 제2호표
A28: 자 갈 | B28: 1M | C28: 4 | D28: m | L28: 제3호표
A29: 풍 화 암 | B29: 1M | C29: 6 | D29: m | L29: 제4호표
A30: 연 암 | B30: 1M | C30: 4 | D30: m | L30: 제5호표
A31: 2. 원위치 시험
A32: 표준관입시험 | C32: 24 | D32: 회 | L32: 제6호표
A33: 3. 부대공
A34: 1)기계기구설치 | C34: 2 | D34: 회 | L34: 제7호표
A35: 2)급수비 | C35: 2 | D35: 회 | L35: 제8호표
A36: 3)폐공비 | C36: 2 | D36: 회 | L36: 제9호표
A37: 4. 시험비
A38: 1) 함수량시험 | C38: 2 | D38: 회 | L38: 제10호표
A39: 2) 입도시험 | C39: 2 | D39: 회 | L39: 〃
A40: 3) 밀도시험 | C40: 2 | D40: 회 | L40: 〃
A41: 4) 액성한계 | C41: 2 | D41: 회 | L41: 〃
A42: 5) 소성한계 | C42: 2 | D42: 회 | L42: 〃
A43: 6) CBR | C43: 2 | D43: 회 | L43: 〃
A44: 7) 실내다짐 | C44: 2 | D44: 회 | L44: 〃
A45: 소 계
A46: 나.기술업무비
A47: 1.계획준비비 | C47: 1 | D47: 회 | L47: 제12호표
A48: 2.보고서 작성비 | C48: 1 | D48: 식 | L48: 제13호표
A49: 3.보고서 인쇄 및 제본비 | C49: 5 | D49: 부 | L49: 제14호표
A50: 소 계
A51: 계 | M51: 78.1306
M52: -11
A60: 일위대가표
A61: 제1호표 점토층(NX) | B61: 육상, m당
A62: 중급기술자 | C62: 0.18 | D62: 인
A63: 보링공 | C63: 0.35 | D63: 인
A64: 특별인부 | C64: 0.25 | D64: 인
A65: 보통인부 | C65: 0.35 | D65: 인
A66: 싱글코어바렐 | B66: NX × 1.0m | C66: 0.01 | D66: 개
A67: 메탈크라운비트 | B67: NX | C67: 0.025 | D67: 개
A68: 드라이브파이프헤드 | B68: NX | C68: 0.01 | D68: 개
A69: 드라이브파이프슈 | B69: NX | C69: 0.01 | D69: 개
A70: 드라이브파이프 | B70: NX × 1.5m | C70: 0.01 | D70: 개
A71: 경유 | C71: 7.7 | D71: ℓ
A72: 잡재료 | B72: 주연료의 | C72: 16 | D72: %
A73: 자주식 유압시추기손료 | B73: 54HP(40kW) | C73: 1.33 | D73: HR
A79: 제2호표 모래층(NX) | B79: 육상, m당
A80: 중급기술자 | C80: 0.21 | D80: 인
A81: 보링공 | C81: 0.4 | D81: 인
A82: 특별인부 | C82: 0.29 | D82: 인
A83: 보통인부 | C83: 0.4 | D83: 인
A84: 싱글코어바렐 | B84: NX × 1.0m | C84: 0.025 | D84: 개
A85: 메탈크라운비트 | B85: NX | C85: 0.05 | D85: 개
A86: 드라이브파이프헤드 | B86: NX | C86: 0.025 | D86: 개
A87: 드라이브파이프슈 | B87: NX | C87: 0.025 | D87: 개
A88: 드라이브파이프 | B88: NX × 1.5m | C88: 0.025 | D88: 개
A89: 경유 | C89: 9.6 | D89: ℓ
A90: 잡재료 | B90: 주연료의 | C90: 16 | D90: %
A91: 자주식 유압시추기손료 | B91: 54HP(40kW) | C91: 1.66 | D91: HR
A98: 제3호표 자갈층(NX) | B98: 육상, m당
A99: 중급기술자 | C99: 0.45 | D99: 인
A100: 보링공 | C100: 0.72 | D100: 인
A101: 특별인부 | C101: 0.63 | D101: 인
A102: 보통인부 | C102: 0.72 | D102: 인
A103: 싱글코어바렐 | B103: NX × 1.0m | C103: 0.05 | D103: 개
A104: 메탈크라운비트 | B104: NX | C104: 0.5 | D104: 개
A105: 드라이브파이프헤드 | B105: NX | C105: 0.05 | D105: 개
A106: 드라이브파이프슈 | B106: NX | C106: 0.05 | D106: 개
A107: 드라이브파이프 | B107: NX × 1.5m | C107: 0.05 | D107: 개
A108: 경유 | C108: 16.5 | D108: ℓ
A109: 잡재료 | B109: 주연료의 | C109: 16 | D109: %
A110: 자주식 유압시추기손료 | B110: 54HP(40kW) | C110: 2.85 | D110: HR
A117: 제4호표 풍화암층(NX) | B117: 육상, m당
A118: 중급기술자 | C118: 0.19 | D118: 인
A119: 보링공 | C119: 0.35 | D119: 인
A120: 특별인부 | C120: 0.26 | D120: 인
A121: 보통인부 | C121: 0.35 | D121: 인
A122: 더블코어바렐 | B122: NX 1.5m | C122: 0.02 | D122: 개
A123: 메탈크라운비트 | B123: NX | C123: 0.8 | D123: 개
A124: 메탈리밍쉘 | B124: NX | C124: 0.02 | D124: 개
A125: 코아리프터 | B125: NX | C125: 0.1 | D125: 개
A126: 경유 | C126: 8.4 | D126: ℓ
A127: 잡재료 | B127: 주연료의 | C127: 16 | D127: %
A128: 자주식 유압시추기손료 | B128: 54HP(40kW) | C128: 1.45 | D128: HR
A136: 제5호표 연암층(NX) | B136: 육상, m당
A137: 중급기술자 | C137: 0.21 | D137: 인
A138: 보링공 | C138: 0.37 | D138: 인
A139: 특별인부 | C139: 0.28 | D139: 인
A140: 보통인부 | C140: 0.37 | D140: 인
A141: 더블코어바렐 | B141: NX 1.5m | C141: 0.025 | D141: 개
A142: 메탈크라운비트 | B142: NX | C142: 1 | D142: 개
A143: 메탈리밍쉘 | B143: NX | C143: 0.025 | D143: 개
...

Sheet 설계간지
A3: 실 시 설 계 비

Sheet 4-2개략공사비
A1: 4-2. 선형개량공사 추정 사업비
F2: (단위 : 원)
A3: 사 업 명 | B3: 총 사업비 | C3: 추정 공사비 | D3: 추정 보상비 | E3: 편입토지수 | F3: 비고
A4: 계 | B4: =SUM(B5:B5) -> 1265000000 | C4: =SUM(C5:C5) -> 1179000000 | D4: =SUM(D5:D5) -> 86000000 | E4: =SUM(E5:E5) -> 0
A5: 지방도 375호선 수동면 외방리 | B5: 1265000000 | C5: 1179000000 | D5: =B5-C5 -> 86000000 | E5: 0 | F5: 도로개량:실시설계

Sheet 7.용역기간
A1: 용 역 기 간 산 출 근 거
B2: 1. 설 계 준 비 기 간 | G2: 5
B3: 2. 도상 검토 및 심의 기준 | G3: 5
B4: 3. 현 장 답 사 기 간 | G4: 5
B5: 4. 방 침 결 정 기 간 | G5: 10
B6: 5. 현 지 조 사 및 측 량
B7: 가. 노 선 선 정 | G7: 2
B8: 나. 노선 및 설계기준 협의 | G8: 10
B9: 다. 중심 선 측량 | G9: 10
B10: 라. 종 단 측 량 | G10: 5
B11: 마. 횡 단 측 량 | G11: 5
B12: 바. 현 황 측 량 | G12: 5
B13: 6.실 시 설 계
B14: 가. 실 시 설 계 및 도 면 작 성 | G14: 45
B15: 나. 보고서 및 설계도서 작성 | G15: 20
B16: 다. 심의 및 지적사항 보완 | G16: 8
B17: 라. 분할 측량 자료 작성 및 용지도 작성 | G17: 15
C18: 계 | G18: =SUM(G2:G17) -> 150

Sheet xxx한종작성xxx
B2: 구분 | C2: 공급가액 | D2: 부가세 | E2: 합계 | F2: 비율
B3: 한종 | C3: 106402909 | D3: 10640291 | E3: 117043200 | F3: 0.48
B4: 쏘일 | C4: 28817454 | D4: 2881746 | E4: 31699200 | F4: 0.13
B5: 성원 | C5: 86452364 | D5: 8645236 | E5: 95097600 | F5: 0.39
B6: 합계 | C6: 221672727 | D6: 22167273 | E6: 243840000 | F6: 1
B7: 구분 | C7: 공급가액 | D7: 부가세 | E7: 합계
B8: 0.7 | C8: =C3*0.7 -> 74482036 | D8: =D3*0.7 -> 7448203.7 | E8: =C8+D8 -> 81930240
B9: 0.75 | C9: =C3*0.75 -> 79802182 | D9: =D3*0.75 -> 7980218.2 | E9: =C9+D9 -> 87782400
B10: 0.8 | C10: =C3*0.8 -> 85122327 | D10: =D3*0.8 -> 8512232.8 | E10: =C10+D10 -> 93634560
