Workbook

Sheet 개요
B2: 구분 | C2: 2025년 자체 투자재원 | H2: 2026년 자체 투자재원
C3: 개소수 | D3: 배관망 건설계획 | E3: 정압기 | F3: 공급가구 | G3: 공사비 | H3: 개소수 | I3: 배관망 건설계획 | J3: 정압기 | K3: 공급가구 | L3: 공사비
B4: 합계 | C4: =SUM(C5:C10) -> 212 | D4: =SUM(D5:D10) -> 126438 | E4: =SUM(E5:E10) -> 10 | F4: =SUM(F5:F10) -> 202201 | G4: =SUM(G5:G10) -> 79146045 | H4: =SUM(H5:H10) -> 183 | I4: =SUM(I5:I10) -> 168961.44 | J4: =SUM(J5:J10) -> 10 | ... L4: =SUM(L5:L10) -> 1.0423867e+08
B5: 삼천리 | C5: =COUNTIFS('2025년 공사계획'!A:A,개요!$B5) -> 143 | D5: =SUMIFS('2025년 공사계획'!F:F,'2025년 공사계획'!$A:$A,개요!$B5) -> 62453 | E5: =SUMIFS('2025년 공사계획'!G:G,'2025년 공사계획'!$A:$A,개요!$B5) -> 5 | F5: =SUMIFS('2025년 공사계획'!H:H,'2025년 공사계획'!$A:$A,개요!$B5) -> 185610 | G5: =SUMIFS('2025년 공사계획'!I:I,'2025년 공사계획'!$A:$A,개요!$B5) -> 48164215 | H5: =COUNTIFS('2026년 공사계획'!A:A,개요!$B5) -> 111 | I5: =SUMIFS('2026년 공사계획'!F:F,'2026년 공사계획'!$A:$A,개요!$B5) -> 50172.444 | J5: =SUMIFS('2026년 공사계획'!G:G,'2026년 공사계획'!$A:$A,개요!$B5) -> 1 | K5: =SUMIFS('2026년 공사계획'!H:H,'2026년 공사계획'!$A:$A,개요!$B5) -> 45769.872 | L5: =SUMIFS('2026년 공사계획'!I:I,'2026년 공사계획'!$A:$A,개요!$B5) -> 47064468
B6: 코원 | C6: =COUNTIFS('2025년 공사계획'!A:A,개요!$B6) -> 17 | D6: =SUMIFS('2025년 공사계획'!F:F,'2025년 공사계획'!$A:$A,개요!$B6) -> 10713 | E6: =SUMIFS('2025년 공사계획'!G:G,'2025년 공사계획'!$A:$A,개요!$B6) -> 0 | F6: =SUMIFS('2025년 공사계획'!H:H,'2025년 공사계획'!$A:$A,개요!$B6) -> 3120 | G6: =SUMIFS('2025년 공사계획'!I:I,'2025년 공사계획'!$A:$A,개요!$B6) -> 4495672.9 | H6: =COUNTIFS('2026년 공사계획'!A:A,개요!$B6) -> 17 | I6: =SUMIFS('2026년 공사계획'!F:F,'2026년 공사계획'!$A:$A,개요!$B6) -> 23877 | J6: =SUMIFS('2026년 공사계획'!G:G,'2026년 공사계획'!$A:$A,개요!$B6) -> 0 | K6: =SUMIFS('2026년 공사계획'!H:H,'2026년 공사계획'!$A:$A,개요!$B6) -> 16023 | L6: =SUMIFS('2026년 공사계획'!I:I,'2026년 공사계획'!$A:$A,개요!$B6) -> 11674364
B7: 서울 | C7: =COUNTIFS('2025년 공사계획'!A:A,개요!$B7) -> 5 | D7: =SUMIFS('2025년 공사계획'!F:F,'2025년 공사계획'!$A:$A,개요!$B7) -> 7432 | E7: =SUMIFS('2025년 공사계획'!G:G,'2025년 공사계획'!$A:$A,개요!$B7) -> 1 | F7: =SUMIFS('2025년 공사계획'!H:H,'2025년 공사계획'!$A:$A,개요!$B7) -> 3967 | G7: =SUMIFS('2025년 공사계획'!I:I,'2025년 공사계획'!$A:$A,개요!$B7) -> 3799300 | H7: =COUNTIFS('2026년 공사계획'!A:A,개요!$B7) -> 9 | I7: =SUMIFS('2026년 공사계획'!F:F,'2026년 공사계획'!$A:$A,개요!$B7) -> 12589 | J7: =SUMIFS('2026년 공사계획'!G:G,'2026년 공사계획'!$A:$A,개요!$B7) -> 2 | K7: =SUMIFS('2026년 공사계획'!H:H,'2026년 공사계획'!$A:$A,개요!$B7) -> 9706 | L7: =SUMIFS('2026년 공사계획'!I:I,'2026년 공사계획'!$A:$A,개요!$B7) -> 5076971
B8: 대륜 | C8: =COUNTIFS('2025년 공사계획'!A:A,개요!$B8) -> 9 | D8: =SUMIFS('2025년 공사계획'!F:F,'2025년 공사계획'!$A:$A,개요!$B8) -> 7850 | E8: =SUMIFS('2025년 공사계획'!G:G,'2025년 공사계획'!$A:$A,개요!$B8) -> 1 | F8: =SUMIFS('2025년 공사계획'!H:H,'2025년 공사계획'!$A:$A,개요!$B8) -> 5148 | G8: =SUMIFS('2025년 공사계획'!I:I,'2025년 공사계획'!$A:$A,개요!$B8) -> 3259307 | H8: =COUNTIFS('2026년 공사계획'!A:A,개요!$B8) -> 17 | I8: =SUMIFS('2026년 공사계획'!F:F,'2026년 공사계획'!$A:$A,개요!$B8) -> 20875 | J8: =SUMIFS('2026년 공사계획'!G:G,'2026년 공사계획'!$A:$A,개요!$B8) -> 1 | K8: =SUMIFS('2026년 공사계획'!H:H,'2026년 공사계획'!$A:$A,개요!$B8) -> 8211.3333 | L8: =SUMIFS('2026년 공사계획'!I:I,'2026년 공사계획'!$A:$A,개요!$B8) -> 13778766
B9: 예스코 | C9: =COUNTIFS('2025년 공사계획'!A:A,개요!$B9) -> 33 | D9: =SUMIFS('2025년 공사계획'!F:F,'2025년 공사계획'!$A:$A,개요!$B9) -> 35502 | E9: =SUMIFS('2025년 공사계획'!G:G,'2025년 공사계획'!$A:$A,개요!$B9) -> 3 | F9: =SUMIFS('2025년 공사계획'!H:H,'2025년 공사계획'!$A:$A,개요!$B9) -> 4203 | G9: =SUMIFS('2025년 공사계획'!I:I,'2025년 공사계획'!$A:$A,개요!$B9) -> 17720550 | H9: =COUNTIFS('2026년 공사계획'!A:A,개요!$B9) -> 27 | I9: =SUMIFS('2026년 공사계획'!F:F,'2026년 공사계획'!$A:$A,개요!$B9) -> 60720 | J9: =SUMIFS('2026년 공사계획'!G:G,'2026년 공사계획'!$A:$A,개요!$B9) -> 6 | K9: =SUMIFS('2026년 공사계획'!H:H,'2026년 공사계획'!$A:$A,개요!$B9) -> 4774 | L9: =SUMIFS('2026년 공사계획'!I:I,'2026년 공사계획'!$A:$A,개요!$B9) -> 26144103
B10: 인천 | C10: =COUNTIFS('2025년 공사계획'!A:A,개요!$B10) -> 5 | D10: =SUMIFS('2025년 공사계획'!F:F,'2025년 공사계획'!$A:$A,개요!$B10) -> 2488 | E10: =SUMIFS('2025년 공사계획'!G:G,'2025년 공사계획'!$A:$A,개요!$B10) -> 0 | F10: =SUMIFS('2025년 공사계획'!H:H,'2025년 공사계획'!$A:$A,개요!$B10) -> 153 | G10: =SUMIFS('2025년 공사계획'!I:I,'2025년 공사계획'!$A:$A,개요!$B10) -> 1707000 | H10: =COUNTIFS('2026년 공사계획'!A:A,개요!$B10) -> 2 | I10: =SUMIFS('2026년 공사계획'!F:F,'2026년 공사계획'!$A:$A,개요!$B10) -> 728 | J10: =SUMIFS('2026년 공사계획'!G:G,'2026년 공사계획'!$A:$A,개요!$B10) -> 0 | K10: =SUMIFS('2026년 공사계획'!H:H,'2026년 공사계획'!$A:$A,개요!$B10) -> 454 | L10: =SUMIFS('2026년 공사계획'!I:I,'2026년 공사계획'!$A:$A,개요!$B10) -> 500000
B13: 구분 | C13: 2025년 의무투자재원
C14: 개소수 | D14: 배관망 건설계획 | E14: 정압기 | F14: 공급가구 | G14: 공사비
B15: 합계 | C15: =SUM(C16:C21) -> 79 | D15: =SUM(D16:D21) -> 83456 | E15: =SUM(E16:E21) -> 4 | F15: =SUM(F16:F21) -> 3349 | G15: =SUM(G16:G21) -> 35173770
B16: 삼천리 | C16: =COUNTIFS('2025년 공사계획(의무)'!A:A,개요!$B16) -> 40 | D16: =SUMIFS('2025년 공사계획(의무)'!F:F,'2025년 공사계획(의무)'!$A:$A,개요!$B16) -> 33430 | E16: =SUMIFS('2025년 공사계획(의무)'!G:G,'2025년 공사계획(의무)'!$A:$A,개요!$B16) -> 2 | F16: =SUMIFS('2025년 공사계획(의무)'!H:H,'2025년 공사계획(의무)'!$A:$A,개요!$B16) -> 909 | G16: =SUMIFS('2025년 공사계획(의무)'!I:I,'2025년 공사계획(의무)'!$A:$A,개요!$B16) -> 14748258
B17: 코원 | C17: =COUNTIFS('2025년 공사계획(의무)'!A:A,개요!$B17) -> 12 | D17: =SUMIFS('2025년 공사계획(의무)'!F:F,'2025년 공사계획(의무)'!$A:$A,개요!$B17) -> 13573 | E17: =SUMIFS('2025년 공사계획(의무)'!G:G,'2025년 공사계획(의무)'!$A:$A,개요!$B17) -> 1 | F17: =SUMIFS('2025년 공사계획(의무)'!H:H,'2025년 공사계획(의무)'!$A:$A,개요!$B17) -> 517 | G17: =SUMIFS('2025년 공사계획(의무)'!I:I,'2025년 공사계획(의무)'!$A:$A,개요!$B17) -> 6800000
B18: 서울 | C18: =COUNTIFS('2025년 공사계획(의무)'!A:A,개요!$B18) -> 7 | D18: =SUMIFS('2025년 공사계획(의무)'!F:F,'2025년 공사계획(의무)'!$A:$A,개요!$B18) -> 12565 | E18: =SUMIFS('2025년 공사계획(의무)'!G:G,'2025년 공사계획(의무)'!$A:$A,개요!$B18) -> 1 | F18: =SUMIFS('2025년 공사계획(의무)'!H:H,'2025년 공사계획(의무)'!$A:$A,개요!$B18) -> 386 | G18: =SUMIFS('2025년 공사계획(의무)'!I:I,'2025년 공사계획(의무)'!$A:$A,개요!$B18) -> 3862854
B19: 대륜 | C19: =COUNTIFS('2025년 공사계획(의무)'!A:A,개요!$B19) -> 11 | D19: =SUMIFS('2025년 공사계획(의무)'!F:F,'2025년 공사계획(의무)'!$A:$A,개요!$B19) -> 10410 | E19: =SUMIFS('2025년 공사계획(의무)'!G:G,'2025년 공사계획(의무)'!$A:$A,개요!$B19) -> 0 | F19: =SUMIFS('2025년 공사계획(의무)'!H:H,'2025년 공사계획(의무)'!$A:$A,개요!$B19) -> 590 | G19: =SUMIFS('2025년 공사계획(의무)'!I:I,'2025년 공사계획(의무)'!$A:$A,개요!$B19) -> 4599738
B20: 예스코 | C20: =COUNTIFS('2025년 공사계획(의무)'!A:A,개요!$B20) -> 8 | D20: =SUMIFS('2025년 공사계획(의무)'!F:F,'2025년 공사계획(의무)'!$A:$A,개요!$B20) -> 13410 | E20: =SUMIFS('2025년 공사계획(의무)'!G:G,'2025년 공사계획(의무)'!$A:$A,개요!$B20) -> 0 | F20: =SUMIFS('2025년 공사계획(의무)'!H:H,'2025년 공사계획(의무)'!$A:$A,개요!$B20) -> 947 | G20: =SUMIFS('2025년 공사계획(의무)'!I:I,'2025년 공사계획(의무)'!$A:$A,개요!$B20) -> 5074179
B21: 인천 | C21: =COUNTIFS('2025년 공사계획(의무)'!A:A,개요!$B21) -> 1 | D21: =SUMIFS('2025년 공사계획(의무)'!F:F,'2025년 공사계획(의무)'!$A:$A,개요!$B21) -> 68 | E21: =SUMIFS('2025년 공사계획(의무)'!G:G,'2025년 공사계획(의무)'!$A:$A,개요!$B21) -> 0 | F21: =SUMIFS('2025년 공사계획(의무)'!H:H,'2025년 공사계획(의무)'!$A:$A,개요!$B21) -> 0 | G21: =SUMIFS('2025년 공사계획(의무)'!I:I,'2025년 공사계획(의무)'!$A:$A,개요!$B21) -> 88741
B23: 배관건설 | C23: 합계 | D23: 자체 | E23: 의무
B24: 합계 | C24: =SUM(C25:C26) -> 378855.44 | D24: =SUM(D25:D26) -> 295399.44 | E24: =SUM(E25:E26) -> 83456
B25: 25년 | C25: =SUM(D25:E25) -> 209894 | D25: =D4 -> 126438 | E25: =D15 -> 83456
B26: 26년 | C26: =SUM(D26:E26) -> 168961.44 | D26: =I4 -> 168961.44
B28: 개소수 | C28: 합계 | D28: 자체 | E28: 의무
B29: 합계 | C29: =SUM(C30:C31) -> 474 | D29: =SUM(D30:D31) -> 395 | E29: =SUM(E30:E31) -> 79
B30: 25년 | C30: =SUM(D30:E30) -> 291 | D30: =C4 -> 212 | E30: =C15 -> 79
B31: 26년 | C31: =SUM(D31:E31) -> 183 | D31: =H4 -> 183
B33: 공사금액 | C33: 합계 | D33: 자체 | E33: 의무
B34: 합계 | C34: =SUM(C35:C36) -> 2.1855849e+08 | D34: =SUM(D35:D36) -> 1.8338472e+08 | E34: =SUM(E35:E36) -> 35173770
B35: 25년 | C35: =SUM(D35:E35) -> 1.1431982e+08 | D35: =G4 -> 79146045 | E35: =G15 -> 35173770
B36: 26년 | C36: =SUM(D36:E36) -> 1.0423867e+08 | D36: =L4 -> 1.0423867e+08

Sheet 2026년 공사계획
B1: 2026년 도시가스 공급시설 공사계획(도시가스사업자 자체 투자재원)
B2: 시군명 | C2: 공 사 명 | D2: 공 사 구 간 | F2: 배관망 건설 계획 (m) | G2: 정압기 (개소) | H2: 공급가구 (가구) | I2: 공사비 (천원) | J2: 비 고
D3: 시 점 | E3: 종 점
B4: 경기도 | F4: =SUM(F5,F130,F154,F167,F190,F223) -> 168961.44 | G4: =SUM(G5,G130,G154,G167,G190,G223) -> 10 | H4: =SUM(H5,H130,H154,H167,H190,H223) -> 84938.205 | I4: =SUM(I5,I130,I154,I167,I190,I223) -> 1.0423867e+08
B5: 소계 | C5: 삼천리 | F5: =SUM(F6,F16,F36,F26,F47,F62,F55,F73,F83,F93,F103,F109,F118) -> 50172.444 | G5: =SUM(G6,G16,G36,G26,G47,G62,G55,G73,G83,G93,G103,G109,G118) -> 1 | H5: =SUM(H6,H16,H36,H26,H47,H62,H55,H73,H83,H93,H103,H109,H118) -> 45769.872 | I5: =SUM(I6,I16,I36,I26,I47,I62,I55,I73,I83,I93,I103,I109,I118) -> 47064468
B6: 소계 | C6: 수원시 | F6: =SUM(F7:F15) -> 1201.25 | G6: =SUM(G7:G15) -> 0 | H6: =SUM(H7:H15) -> 3507.2557 | I6: =SUM(I7:I15) -> 3130082.8
A7: 삼천리 | B7: =C6 -> 수원시 | C7: 신축아파트 공급관 | D7: 수원시 일원 | E7: 수원시 일원 | F7: 68 | H7: 250 | I7: 77137.5
A8: 삼천리 | B8: =B7 -> 수원시 | C8: 수원 당수1지구 | D8: 수원시 일원 | E8: 수원시 일원 | F8: 206.25 | H8: 415 | I8: 77812.5
A9: 삼천리 | B9: =B8 -> 수원시 | C9: 요식업소 단구간 투자 | D9: 수원시 일원 | E9: 수원시 일원 | F9: 204 | H9: 10 | I9: 168300
A10: 삼천리 | B10: =B9 -> 수원시 | C10: 호매실지역 업무시설 | D10: 수원시 일원 | E10: 수원시 일원 | F10: 27 | H10: 1000 | I10: 33660
A11: 삼천리 | B11: =B10 -> 수원시 | C11: 공공기관, 사무용 신축건물 | D11: 수원시 일원 | E11: 수원시 일원 | F11: 136 | H11: 1 | I11: 112200
A12: 삼천리 | B12: =B11 -> 수원시 | C12: 사우나 및 스포츠센타 | D12: 수원시 일원 | E12: 수원시 일원 | F12: 68 | H12: 10 | I12: 56100
A13: 삼천리 | B13: =B12 -> 수원시 | C13: 기타투자 | D13: 수원시 일원 | E13: 수원시 일원 | F13: 492 | H13: 1821.2557 | I13: 63737.5
A14: 삼천리 | B14: =B13 -> 수원시 | C14: 인입관투자 | D14: 수원시 일원 | E14: 수원시 일원 | I14: 1893075.4
A15: 삼천리 | B15: =B14 -> 수원시 | C15: 안전투자 | D15: 수원시 일원 | E15: 수원시 일원 | I15: 648059.96
B16: 소계 | C16: 용인시 | F16: =SUM(F17:F25) -> 4695.25 | G16: =SUM(G17:G25) -> 0 | H16: =SUM(H17:H25) -> 1677.644 | I16: =SUM(I17:I25) -> 4129679.5
A17: 삼천리 | B17: =C16 -> 용인시 | C17: 역삼지구 | D17: 용인시 일원 | E17: 용인시 일원 | F17: 412.5 | H17: 594 | I17: 129375
A18: 삼천리 | B18: =B17 -> 용인시 | C18: 고림지구 | D18: 용인시 일원 | E18: 용인시 일원 | F18: 619.5 | H18: 0 | I18: 257812.5
A19: 삼천리 | B19: =B18 -> 용인시 | C19: 모현왕산지구 | D19: 용인시 일원 | E19: 용인시 일원 | F19: 206.25 | H19: 0 | I19: 105000
A20: 삼천리 | B20: =B19 -> 용인시 | C20: 용인시 업무상업시설 | D20: 용인시 일원 | E20: 용인시 일원 | F20: 1142 | H20: 194 | I20: 632808
A21: 삼천리 | B21: =B20 -> 용인시 | C21: 반도체클러스터 2단계 | D21: 독성리 일원 | E21: 독성리 일원 | F21: 1500 | H21: 2 | I21: 710000
A22: 삼천리 | B22: =B21 -> 용인시 | C22: 기흥힉스 산단 | D22: 영덕동 일원 | E22: 영덕동 일원 | F22: 375 | H22: 2 | I22: 187500
A23: 삼천리 | B23: =B22 -> 용인시 | C23: 기타투자 | D23: 용인시 일원 | E23: 용인시 일원 | F23: 440 | H23: 885.64396 | I23: 190000
A24: 삼천리 | B24: =B23 -> 용인시 | C24: 인입관투자 | D24: 용인시 일원 | E24: 용인시 일원 | I24: 1198947.7
A25: 삼천리 | B25: =B24 -> 용인시 | C25: 안전투자 | D25: 용인시 일원 | E25: 용인시 일원 | I25: 718236.24
B26: 소계 | C26: 화성시 | F26: =SUM(F27:F35) -> 2052 | G26: =SUM(G27:G35) -> 1 | H26: =SUM(H27:H35) -> 348.0544 | I26: =SUM(I27:I35) -> 4781473.9
A27: 삼천리 | B27: =C26 -> 화성시 | C27: 화성 동탄2신도시 | D27: 화성시 일원 | E27: 화성시 일원 | F27: 210 | H27: 99 | I27: 77812.5
A28: 삼천리 | B28: =B27 -> 화성시 | C28: 태형분체 | D28: 화산리 731-1 | E28: 기아자동차로 467-7 | F28: 200 | H28: 1 | I28: 175000
A29: 삼천리 | B29: =B28 -> 화성시 | C29: 가온식품 | D29: 화산리 850-5 | E29: 화산리 850-5 | F29: 20 | H29: 1 | I29: 50000
A30: 삼천리 | B30: =B29 -> 화성시 | C30: 단구간 투자 및 연료전환 | D30: 화성시 일원 | E30: 화성시 일원 | F30: 680 | H30: 100 | I30: 420750
A31: 삼천리 | B31: =B30 -> 화성시 | C31: 기타투자 | D31: 화성시 일원 | E31: 화성시 일원 | F31: 304 | H31: 147.0544 | I31: 124000
A32: 삼천리 | B32: =B31 -> 화성시 | C32: 공급안정투자 | D32: 향남읍 제암리 | E32: 향남읍 발안리 | F32: 400 | G32: 1 | I32: 1700000
A33: 삼천리 | B33: =B32 -> 화성시 | C33: 인입관투자 | D33: 화성시 일원 | E33: 화성시 일원 | I33: 1198947.7
A34: 삼천리 | B34: =B33 -> 화성시 | C34: 안전투자 | D34: 화성시 일원 | E34: 화성시 일원 | I34: 810963.71
A35: 삼천리 | B35: =B34 -> 화성시 | C35: 배관이설보수공사 | D35: 화성시 일원 | E35: 화성시 일원 | F35: 238 | I35: 224000
B36: 소계 | C36: 부천시 | F36: =SUM(F37:F46) -> 6672 | G36: =SUM(G37:G46) -> 0 | H36: =SUM(H37:H46) -> 2788 | I36: =SUM(I37:I46) -> 3954803.5
A37: 삼천리 | B37: =C36 -> 부천시 | C37: 소사본1-구역 | D37: 소사본동 일원 | E37: 소사본동 일원 | F37: 68 | H37: 1706 | I37: 63112.5
A38: 삼천리 | B38: =B37 -> 부천시 | C38: 재건축지역 | D38: 부천시 일원 | E38: 부천시 일원 | F38: 54.4 | H38: 850 | I38: 67320
A39: 삼천리 | B39: =B38 -> 부천시 | C39: 재건축(신축)지역 | D39: 부천시 일원 | E39: 부천시 일원 | F39: 68 | H39: 85 | I39: 93967.5
A40: 삼천리 | B40: =B39 -> 부천시 | C40: 대장지구 | D40: 부천시 일원 | E40: 부천시 일원 | F40: 3900 | H40: 0 | I40: 1084875
A41: 삼천리 | B41: =B40 -> 부천시 | C41: 역곡지구 | D41: 부천시 일원 | E41: 부천시 일원 | F41: 2500 | H41: 0 | I41: 1753125
A42: 삼천리 | B42: =B41 -> 부천시 | C42: 신축 냉난방 건물 | D42: 부천시 일원 | E42: 부천시 일원 | F42: 34 | H42: 10 | I42: 35062.5
A43: 삼천리 | B43: =B42 -> 부천시 | C43: 신축 업무용 상가 | D43: 부천시 일원 | E43: 부천시 일원 | F43: 34 | H43: 127 | I43: 39270
A44: 삼천리 | B44: =B43 -> 부천시 | C44: 신축 사우나 | D44: 부천시 일원 | E44: 부천시 일원 | F44: 13.6 | H44: 10 | I44: 15427.5
A45: 삼천리 | B45: =B44 -> 부천시 | C45: 안전투자 | D45: 부천시 일원 | E45: 부천시 일원 | I45: 437232.98
A46: 삼천리 | B46: =B45 -> 부천시 | C46: 인입관투자 | D46: 부천시 일원 | E46: 부천시 일원 | I46: 365410.5
B47: 소계 | C47: 안산시 | F47: =SUM(F48:F54) -> 6281.6 | G47: =SUM(G48:G54) -> 0 | H47: =SUM(H48:H54) -> 21 | I47: =SUM(I48:I54) -> 5843522.3
A48: 삼천리 | B48: =C47 -> 안산시 | C48: 장상지구 | D48: 안산시 일원 | E48: 안산시 일원 | F48: 3600 | H48: 0 | I48: 2524500
A49: 삼천리 | B49: =B48 -> 안산시 | C49: 신길2지구 | D49: 안산시 일원 | E49: 안산시 일원 | F49: 2600 | H49: 0 | I49: 1823250
A50: 삼천리 | B50: =B49 -> 안산시 | C50: 신축 영업용상가 | D50: 안산시 일원 | E50: 안산시 일원 | F50: 34 | H50: 10 | I50: 35062.5
A51: 삼천리 | B51: =B50 -> 안산시 | C51: 신축 업무용상가 | D51: 안산시 일원 | E51: 안산시 일원 | F51: 34 | H51: 10 | I51: 35062.5
A52: 삼천리 | B52: =B51 -> 안산시 | C52: 신축 사우나 | D52: 안산시 일원 | E52: 안산시 일원 | F52: 13.6 | H52: 1 | I52: 14025
A53: 삼천리 | B53: =B52 -> 안산시 | C53: 안전투자 | D53: 안산시 일원 | E53: 안산시 일원 | I53: 874465.95
A54: 삼천리 | B54: =B53 -> 안산시 | C54: 인입관투자 | D54: 안산시 일원 | E54: 안산시 일원 | I54: 537156.35
B55: 소계 | C55: 평택시 | F55: =SUM(F56:F61) -> 5728.7436 | G55: =SUM(G56:G61) -> 0 | H55: =SUM(H56:H61) -> 7995 | I55: =SUM(I56:I61) -> 3512985.1
A56: 삼천리 | B56: =C55 -> 평택시 | C56: 평택 고덕국제화지구 | D56: 평택시 일원 | E56: 평택시 일원 | F56: 2167.2436 | H56: 7000 | I56: 555000
A57: 삼천리 | B57: =B56 -> 평택시 | C57: 택지지구내 단독지역(남부) | D57: 평택시 일원 | E57: 평택시 일원 | F57: 802.5 | H57: 432 | I57: 201562.5
A58: 삼천리 | B58: =B57 -> 평택시 | C58: 평택 브레인시티 2단계 | D58: 평택시 일원 | E58: 평택시 일원 | F58: 1755 | H58: 5 | I58: 725000
A59: 삼천리 | B59: =B58 -> 평택시 | C59: 신축 업무상업시설 | D59: 평택시 일원 | E59: 평택시 일원 | F59: 1004 | H59: 558 | I59: 371200
A60: 삼천리 | B60: =B59 -> 평택시 | C60: 인입관투자 | D60: 평택시 일원 | E60: 평택시 일원 | I60: 1198947.7
A61: 삼천리 | B61: =B60 -> 평택시 | C61: 안전투자 | D61: 평택시 일원 | E61: 평택시 일원 | I61: 461274.86
B62: 소계 | C62: 안양시 | F62: =SUM(F63:F72) -> 1024 | G62: =SUM(G63:G72) -> 0 | H62: =SUM(H63:H72) -> 6419 | I62: =SUM(I63:I72) -> 1388284.8
A63: 삼천리 | B63: =C62 -> 안양시 | C63: 안양역세권지구 | D63: 안양시 일원 | E63: 안양시 일원 | F63: 40 | H63: 853 | I63: 82500
A64: 삼천리 | B64: =B63 -> 안양시 | C64: 뉴타운맨션삼호아파트지구 | D64: 안양시 일원 | E64: 안양시 일원 | F64: 40 | H64: 2618 | I64: 82500
A65: 삼천리 | B65: =B64 -> 안양시 | C65: 상록지구 | D65: 안양시 일원 | E65: 안양시 일원 | F65: 40 | H65: 1713 | I65: 82500
A66: 삼천리 | B66: =B65 -> 안양시 | C66: 매곡공공주택지구 | D66: 안양시 일원 | E66: 안양시 일원 | F66: 700 | H66: 1143 | I66: 577500
A67: 삼천리 | B67: =B66 -> 안양시 | C67: 신축 영업용상가 | D67: 안양시 일원 | E67: 안양시 일원 | F67: 68 | H67: 70 | I67: 70125
A68: 삼천리 | B68: =B66 -> 안양시 | C68: 공공기관, 사무용 신축건물 | D68: 안양시 일원 | E68: 안양시 일원 | F68: 34 | H68: 10 | I68: 35062.5
A69: 삼천리 | B69: =B67 -> 안양시 | C69: 신축 업무용상가 | D69: 안양시 일원 | E69: 안양시 일원 | F69: 68 | H69: 10 | I69: 51892.5
A70: 삼천리 | B70: =B68 -> 안양시 | C70: 사우나 및 스포츠센타 | D70: 안양시 일원 | E70: 안양시 일원 | F70: 34 | H70: 2 | I70: 35062.5
A71: 삼천리 | B71: =B69 -> 안양시 | C71: 안전투자 | D71: 안양시 일원 | E71: 안양시 일원 | I71: 243862.48
A72: 삼천리 | B72: =B70 -> 안양시 | C72: 인입관투자 | D72: 안양시 일원 | E72: 안양시 일원 | I72: 127279.8
B73: 소계 | C73: 시흥시 | F73: =SUM(F74:F82) -> 3670 | G73: =SUM(G74:G82) -> 0 | H73: =SUM(H74:H82) -> 982 | I73: =SUM(I74:I82) -> 3491831.2
A74: 삼천리 | B74: =C73 -> 시흥시 | C74: 재건축지역 | D74: 시흥시 일원 | E74: 시흥시 일원 | F74: 54.4 | H74: 850 | I74: 63112.5
A75: 삼천리 | B75: =B74 -> 시흥시 | C75: 거모지구 | D75: 시흥시 일원 | E75: 시흥시 일원 | F75: 3100 | H75: 0 | I75: 2173875
A76: 삼천리 | B76: =B75 -> 시흥시 | C76: 광명시흥 일반산업단지 | D76: 광명시흥 일원 | E76: 광명시흥 일원 | F76: 400 | H76: 1 | I76: 371250
A77: 삼천리 | B77: =B76 -> 시흥시 | C77: 신축 냉난방 건물 | D77: 시흥시 일원 | E77: 시흥시 일원 | F77: 34 | H77: 10 | I77: 39270
A78: 삼천리 | B78: =B77 -> 시흥시 | C78: 신축 영업용상가 | D78: 시흥시 일원 | E78: 시흥시 일원 | F78: 34 | H78: 100 | I78: 37867.5
A79: 삼천리 | B79: =B78 -> 시흥시 | C79: 신축 업무용상가 | D79: 시흥시 일원 | E79: 시흥시 일원 | F79: 34 | H79: 20 | I79: 37867.5
A80: 삼천리 | B80: =B79 -> 시흥시 | C80: 신축 사우나 | D80: 시흥시 일원 | E80: 시흥시 일원 | F80: 13.6 | H80: 1 | I80: 11220
A81: 삼천리 | B81: =B80 -> 시흥시 | C81: 안전투자 | D81: 시흥시 일원 | E81: 시흥시 일원 | I81: 437232.98
A82: 삼천리 | B82: =B81 -> 시흥시 | C82: 인입관투자 | D82: 시흥시 일원 | E82: 시흥시 일원 | I82: 320135.75
B83: 소계 | C83: 광명시 | F83: =SUM(F84:F92) -> 6155.6 | G83: =SUM(G84:G92) -> 0 | H83: =SUM(H84:H92) -> 8338 | I83: =SUM(I84:I92) -> 3290934.7
A84: 삼천리 | B84: =C83 -> 광명시 | C84: 광명9R 주택재개발 | D84: 광명시 일원 | E84: 광명시 일원 | F84: 40 | H84: 1498 | I84: 82500
A85: 삼천리 | B85: =B84 -> 광명시 | C85: 학온지구 | D85: 광명시 일원 | E85: 광명시 일원 | F85: 1500 | H85: 2730 | I85: 928125
A86: 삼천리 | B86: =B85 -> 광명시 | C86: 구름산지구 | D86: 광명시 일원 | E86: 광명시 일원 | F86: 4500 | H86: 4039 | I86: 1650000
A87: 삼천리 | B87: =B86 -> 광명시 | C87: 신축 냉난방 건물 | D87: 광명시 일원 | E87: 광명시 일원 | F87: 34 | H87: 10 | I87: 35062.5
A88: 삼천리 | B88: =B87 -> 광명시 | C88: 신축 영업용상가 | D88: 광명시 일원 | E88: 광명시 일원 | F88: 34 | H88: 50 | I88: 35062.5
A89: 삼천리 | B89: =B88 -> 광명시 | C89: 신축 업무용상가 | D89: 광명시 일원 | E89: 광명시 일원 | F89: 34 | H89: 10 | I89: 35062.5
A90: 삼천리 | B90: =B89 -> 광명시 | C90: 신축 사우나 | D90: 광명시 일원 | E90: 광명시 일원 | F90: 13.6 | H90: 1 | I90: 12622.5
A91: 삼천리 | B91: =B90 -> 광명시 | C91: 안전투자 | D91: 광명시 일원 | E91: 광명시 일원 | I91: 203218.73
A92: 삼천리 | B92: =B91 -> 광명시 | C92: 인입관투자 | D92: 광명시 일원 | E92: 광명시 일원 | I92: 309281.01
B93: 소계 | C93: 군포시 | F93: =SUM(F94:F102) -> 4072 | G93: =SUM(G94:G102) -> 0 | H93: =SUM(H94:H102) -> 5295 | I93: =SUM(I94:I102) -> 3261925
A94: 삼천리 | B94: =B100 -> 군포시 | C94: 당동 150-1 지식산업센터 | D94: 당동 679-22 | E94: 당동 150-8 | F94: 320 | H94: 10 | I94: 495000
A95: 삼천리 | B95: =C93 -> 군포시 | C95: 신축 공동주택 공급관 | D95: 군포시 일원 | E95: 군포시 일원 | F95: 34 | H95: 250 | I95: 39187.5
A96: 삼천리 | B96: =B95 -> 군포시 | C96: 대야미지구 | D96: 군포시 일원 | E96: 군포시 일원 | F96: 3400 | H96: 5013 | I96: 2165625
A97: 삼천리 | B97: =B101 -> 군포시 | C97: 제이웰푸드 | D97: 군포시 일원 | E97: 군포시 일원 | F97: 46 | H97: 1 | I97: 13000
A98: 삼천리 | B98: =B96 -> 군포시 | C98: 신축 영업용상가 | D98: 군포시 일원 | E98: 군포시 일원 | F98: 68 | H98: 10 | I98: 70125
A99: 삼천리 | B99: =B98 -> 군포시 | C99: 공공기관, 사무용 신축건물 | D99: 군포시 일원 | E99: 군포시 일원 | F99: 34 | H99: 10 | I99: 35062.5
A100: 삼천리 | B100: =B99 -> 군포시 | C100: 사우나 및 스포츠센타 | D100: 군포시 일원 | E100: 군포시 일원 | F100: 34 | H100: 1 | I100: 35062.5
...

Sheet 2025년 공사계획
B1: 2025년 도시가스 공급시설 공사계획(도시가스사업자 자체 투자재원)
B2: 시군명 | C2: 공 사 명 | D2: 공 사 구 간 | F2: 배관망 건설 계획 (m) | G2: 정압기 (개소) | H2: 공급가구 (가구) | I2: 공사비 (천원) | J2: 비 고
D3: 시 점 | E3: 종 점
B4: 경기도 | F4: =SUM(F5,F162,F186,F195,F210,F248) -> 126438 | G4: =SUM(G5,G162,G186,G195,G210,G248) -> 10 | H4: =SUM(H5,H162,H186,H195,H210,H248) -> 202201 | I4: =SUM(I5,I162,I186,I195,I210,I248) -> 79146045
B5: 소계 | C5: 삼천리 | F5: =SUM(F6,F25,F61,F40,F68,F95,F79,F105,F116,F128,F133,F143,F154) -> 62453 | G5: =SUM(G6,G25,G61,G40,G68,G95,G79,G105,G116,G128,G133,G143,G154) -> 5 | H5: =SUM(H6,H25,H61,H40,H68,H95,H79,H105,H116,H128,H133,H143,H154) -> 185610 | I5: =SUM(I6,I25,I61,I40,I68,I95,I79,I105,I116,I128,I133,I143,I154) -> 48164215
B6: 소계 | C6: 수원시 | F6: =SUM(F7:F24) -> 3070 | G6: =SUM(G7:G24) -> 0 | H6: =SUM(H7:H24) -> 16708 | I6: =SUM(I7:I24) -> 3468046
A7: 삼천리 | B7: =C6 -> 수원시 | C7: 세류동 829-8 매교역팰루시드 | D7: 세류동 832-54 | E7: 세류동 836-2 | F7: 100 | H7: 2178 | I7: 50000
A8: 삼천리 | B8: =B7 -> 수원시 | C8: 오목천동 319-1 오목천역더리브 | D8: 오목천동 923-99 | E8: 오목천동 318-10 | F8: 30 | H8: 201 | I8: 30000
A9: 삼천리 | B9: =B8 -> 수원시 | C9: 지동 354-10 수원성 중흥S클래스 | D9: 지동 316 | E9: 지동 319-3 | F9: 30 | H9: 1154 | I9: 30000
A10: 삼천리 | B10: =B9 -> 수원시 | C10: 천천동 81-1 북수원시티프라디움 더블리스 | D10: 천천동 488 | E10: 천천동 81-1 | F10: 350 | H10: 480 | I10: 140000
A11: 삼천리 | B11: =B10 -> 수원시 | C11: 당수동 당수1지구 | D11: 당수1지구내 | E11: 당수1지구내 | F11: 500 | H11: 7927 | I11: 150000
A12: 삼천리 | B12: =B11 -> 수원시 | C12: 이목동 이목지구 | D12: 이목지구내 | E12: 이목지구내 | F12: 1000 | H12: 4750 | I12: 500000
A13: 삼천리 | B13: =B12 -> 수원시 | C13: 매산로2가 30 우리은행 | D13: 매산로2가 103 | E13: 매산로2가 30 | F13: 30 | H13: 1 | I13: 20000
A14: 삼천리 | B14: =B13 -> 수원시 | C14: 권선동 1001-6 요양원 | D14: 세류동 1192 | E14: 권선동 1001-6 | F14: 120 | H14: 1 | I14: 70000
A15: 삼천리 | B15: =B14 -> 수원시 | C15: 이목동 256-3 FC 실험실 | D15: 이목동 259-1 | E15: 이목동 256-3 | F15: 150 | H15: 1 | I15: 150000
A16: 삼천리 | B16: =B15 -> 수원시 | C16: 호매실동 629-1 글램핑장 | D16: 호매실동 1313-37 | E16: 호매실동 629-1 | F16: 100 | H16: 1 | I16: 30000
A17: 삼천리 | B17: =B16 -> 수원시 | C17: 망포동 584-12 행정복지센터 | D17: 망포동 703 | E17: 망포동 584-12 | F17: 200 | H17: 1 | I17: 90000
A18: 삼천리 | B18: =B17 -> 수원시 | C18: 망포동 19-1 듀얼191 지식산업센터 | D18: 망포동 27-8 | E18: 망포동 19-1 | F18: 50 | H18: 5 | I18: 35000
A19: 삼천리 | B19: =B18 -> 수원시 | C19: 고색2지구 C-1 수원덕산병원 | D19: 고색동 893-24 | E19: 고색동 894-119 | F19: 50 | H19: 1 | I19: 40000
A20: 삼천리 | B20: =B19 -> 수원시 | C20: 영통동 1009-5 근생 | D20: 영통동 1079 | E20: 영통동 1009-5 | F20: 30 | H20: 5 | I20: 20000
A21: 삼천리 | B21: =B20 -> 수원시 | C21: 기타투자 | D21: 수원시 일원 | E21: 수원시 일원 | F21: 40 | H21: 2 | I21: =20000+134000+100000 -> 254000
A22: 삼천리 | B22: =B21 -> 수원시 | C22: 안전투자 | D22: 수원시 일원 | E22: 수원시 일원 | F22: - | H22: - | I22: 563046
A23: 삼천리 | B23: =B22 -> 수원시 | C23: 인입관투자 | D23: 수원시 일원 | E23: 수원시 일원 | I23: 1054000
A24: 삼천리 | B24: =B23 -> 수원시 | C24: 공급안정투자 | D24: 호매실동 | E24: 호매실동 | F24: 290 | I24: 242000
B25: 소계 | C25: 용인시 | F25: =SUM(F26:F39) -> 9575 | G25: =SUM(G26:G39) -> 2 | H25: =SUM(H26:H39) -> 7312 | I25: =SUM(I26:I39) -> 8374733.8
A26: 삼천리 | B26: =C25 -> 용인시 | C26: 처인구 삼가동 뉴스테이 공동주택 | D26: 삼가동 553 | E26: 삼가동 267-22 | F26: 190 | H26: 1953 | I26: 168000
A27: 삼천리 | B27: =B26 -> 용인시 | C27: 처인구 고림동 고림진덕지구 2단계 공급관 | D27: 고림진덕지구내 | E27: 고림진덕지구내 | F27: 1350 | H27: 160 | I27: 485000
A28: 삼천리 | B28: =B27 -> 용인시 | C28: 처인구 남동 은화삼지구 1단계 본관 | D28: 은화삼지구내 | E28: 은화삼지구내 | F28: 900 | G28: 1 | H28: 1681 | I28: 320000
A29: 삼천리 | B29: =B28 -> 용인시 | C29: 처인구 원삼면 반도체크러스터 1단계 | D29: 반도체크러스터내 | E29: 반도체크러스터내 | F29: 600 | H29: 2806 | I29: 280000
A30: 삼천리 | B30: =B29 -> 용인시 | C30: 처인구 남사읍 북리 다성 인입관 | D30: 북리 산 46-7 | E30: 북리 98 | F30: 10 | H30: 1 | I30: 20000
A31: 삼천리 | B31: =B30 -> 용인시 | C31: 처인구 모현읍 능원리 107-1 의료시설 | D31: 능원리 138-7 | E31: 능원리 107-1 | F31: 150 | H31: 1 | I31: 97000
A32: 삼천리 | B32: =B31 -> 용인시 | C32: 처인구 남사읍 북리 151-3 물류센터 | D32: 북리 151-22 | E32: 북리 151-3 | F32: 60 | H32: 1 | I32: 48000
A33: 삼천리 | B33: =B32 -> 용인시 | C33: 처인구 유방동 산118-1 요식업소 | D33: 유방동 608-1 | E33: 유방동 산118-1 | F33: 60 | H33: 1 | I33: 28000
A34: 삼천리 | B34: =B33 -> 용인시 | C34: 처인구 모현읍 갈담리 350-1일원 공급관 | D34: 갈담리 682-8 | E34: 갈담리 350-1일원 | F34: 60 | H34: 2 | I34: 29000
A35: 삼천리 | B35: =B34 -> 용인시 | C35: SK하이닉스 FAB1 본관 | D35: 독성리 555 | E35: 독성리 산 126-1 | F35: 700 | H35: 1 | I35: 900000
A36: 삼천리 | B36: =B35 -> 용인시 | C36: 기흥구 농서동 98-5 천지연 | D36: 석우동 39-2 | E36: 농서동 98-5 | F36: 35 | H36: 2 | I36: 40000
A37: 삼천리 | B37: =B36 -> 용인시 | C37: 기타투자 | D37: 용인시 일원 | E37: 용인시 일원 | F37: 5460 | G37: 1 | H37: 703 | I37: =3924000+100000 -> 4024000
A38: 삼천리 | B38: =B37 -> 용인시 | C38: 안전투자 | D38: 용인시 일원 | E38: 용인시 일원 | I38: 616733.75
A39: 삼천리 | B39: =B38 -> 용인시 | C39: 인입관투자 | D39: 용인시 일원 | E39: 용인시 일원 | I39: 1319000
B40: 소계 | C40: 화성시 | F40: =SUM(F41:F60) -> 13553 | G40: =SUM(G41:G60) -> 0 | H40: =SUM(H41:H60) -> 116997 | I40: =SUM(I41:I60) -> 9973890.2
A41: 삼천리 | B41: =C40 -> 화성시 | C41: 동탄2지구 | D41: 동탄2지구내 | E41: 동탄2지구내 | F41: 1800 | H41: 115758 | I41: 400000
A42: 삼천리 | B42: =B41 -> 화성시 | C42: 동탄1지구 2단계 | D42: 동탄1지구내 | E42: 동탄1지구내 | F42: 1500 | H42: 497 | I42: 346711
A43: 삼천리 | B43: =B42 -> 화성시 | C43: 더빌더 금의리 산단 본관 1단계 | D43: 금의리 462-17 | E43: 금의리609-11 | F43: 400 | H43: 3 | I43: 400000
A44: 삼천리 | B44: =B43 -> 화성시 | C44: 한국스틸웨어 3공장 본관 | D44: 청원리 1374 | E44: 청원리 산 248 | F44: 150 | H44: 1 | I44: 135000
A45: 삼천리 | B45: =B44 -> 화성시 | C45: CG 바이오 인입관 | D45: 하길리 1413 | E45: 하길리 1404-1 | F45: 20 | H45: 1 | I45: 39000
A46: 삼천리 | B46: =B45 -> 화성시 | C46: 성화금속 인입관 | D46: 무송리 산137-12 | E46: 무송리 184-4 | F46: 20 | H46: 1 | I46: 40000
A47: 삼천리 | B47: =B46 -> 화성시 | C47: 윈테크 본관 1단계 | D47: 어은리 46-11 | E47: 금의리 418 | F47: 700 | H47: 3 | I47: 400000
A48: 삼천리 | B48: =B47 -> 화성시 | C48: 동주산업 인입관 | D48: 구문천리 944 | E48: 구문천리 923-2 | F48: 15 | H48: 3 | I48: 25000
A49: 삼천리 | B49: =B48 -> 화성시 | C49: 청명(바이오메탄 혼입) | D49: 무송리 154-3 | E49: 무송리 154-3 | F49: 20 | H49: 1 | I49: 100000
A50: 삼천리 | B50: =B49 -> 화성시 | C50: 향남 연료전지 | D50: 방축리 산 45-1 | E50: 방축리 산 45-1 | F50: 20 | H50: 1 | I50: 21031
A51: 삼천리 | B51: =B50 -> 화성시 | C51: 화성고등학교 | D51: 장짐리 105-6 | E51: 장짐리 161 | F51: 40 | H51: 2 | I51: 35000
A52: 삼천리 | B52: =B51 -> 화성시 | C52: 향남 연료전지 | D52: 향남읍 방축리 473 | E52: 향남읍 방축리 467 | F52: 20 | H52: 1 | I52: 21031
A53: 삼천리 | B53: =B52 -> 화성시 | C53: 국지도82호선우정~향남도로확장배관이설공사 | D53: 장안면 어은리 777-4 | E53: 장안면 수촌리 906-2 | F53: 139 | I53: 83304
A54: 삼천리 | B54: =B53 -> 화성시 | C54: 양감면 양감연료전지 도로확장구간 이설공사 | D54: 향남읍 발안로 422 | E54: 향남읍 수직리 311-2 | F54: 379 | I54: 379298
A55: 삼천리 | B55: =B54 -> 화성시 | C55: 정남면까치매천(소하천)정비사업본관이설공사 | D55: 정남면 계향리 610-2 | E55: 정남면 계향리 646-23 | F55: 11 | I55: 80527
A56: 삼천리 | B56: =B55 -> 화성시 | C56: 매송도시계획도로소로1-7호선공급관이설공사 | D56: 원평리 552-116 | E56: 원평리 552-138 | F56: 56 | I56: 26380
A57: 삼천리 | B57: =B56 -> 화성시 | C57: 매송면 공공하수처리시설 확충사업 이설공사 | D57: 비봉면 삼화리 1915 | E57: 비봉면 삼화리 1915 | F57: 28 | I57: 13884
A58: 삼천리 | B58: =B57 -> 화성시 | C58: 기타투자 | D58: 화성시 일원 | E58: 화성시 일원 | F58: 8235 | H58: 725 | I58: =4258688+100000 -> 4358688
A59: 삼천리 | B59: =B58 -> 화성시 | C59: 안전투자 | D59: 화성시 일원 | E59: 화성시 일원 | I59: 626036.25
A60: 삼천리 | B60: =B59 -> 화성시 | C60: 인입관투자 | D60: 화성시 일원 | E60: 화성시 일원 | I60: 2443000
B61: 소계 | C61: 부천시 | F61: =SUM(F62:F67) -> 45 | G61: =SUM(G62:G67) -> 0 | H61: =SUM(H62:H67) -> 948 | I61: =SUM(I62:I67) -> 917886.18
A62: 삼천리 | B62: =C61 -> 부천시 | C62: 오정구 원종동 131 해모로 아스트로 | D62: 원종동 131 | E62: 원종동 131 | F62: 15 | H62: 168 | I62: 22528.75
A63: 삼천리 | B63: =B62 -> 부천시 | C63: 오정구 원종동 75-1원종지구 B2블럭 | D63: 원종동 75-1 | E63: 원종동 75-1 | F63: 15 | H63: 591 | I63: 37762.5
A64: 삼천리 | B64: =B63 -> 부천시 | C64: 소사구 괴안동 91-1 역곡역 아테움스위첸 | D64: 역곡동 91-1 | E64: 역곡동 91-1 | F64: 15 | H64: 189 | I64: 22528.75
A65: 삼천리 | B65: =B64 -> 부천시 | C65: 기타투자 | D65: 부천시 일원 | E65: 부천시 일원 | I65: =146700+100000 -> 246700
A66: 삼천리 | B66: =B65 -> 부천시 | C66: 안전투자 | D66: 부천시 일원 | E66: 부천시 일원 | I66: 403857.33
A67: 삼천리 | B67: =B66 -> 부천시 | C67: 인입관투자 | D67: 부천시 일원 | E67: 부천시 일원 | I67: 184508.85
B68: 소계 | C68: 안산시 | F68: =SUM(F69:F78) -> 955 | G68: =SUM(G69:G78) -> 0 | H68: =SUM(H69:H78) -> 63 | I68: =SUM(I69:I78) -> 2078436.9
A69: 삼천리 | B69: =C68 -> 안산시 | C69: 대부동동 1074-35번지 일원 | D69: 대부동동산149-1 | E69: 대부동동1074-35 | F69: 110 | H69: 30 | I69: 41417
A70: 삼천리 | B70: =B69 -> 안산시 | C70: 단원구 성곡동 663-10 오앤에스 | D70: 성곡동 663-10 | E70: 성곡동 663-10 | F70: 10 | H70: 1 | I70: 25000
A71: 삼천리 | B71: =B70 -> 안산시 | C71: 단원구 성곡동 672-27 드림열처리 | D71: 성곡동 672-27 | E71: 성곡동 672-27 | F71: 10 | H71: 1 | I71: 25000
A72: 삼천리 | B72: =B71 -> 안산시 | C72: 원시동 아파트형공장 | D72: 원시동 836-1 일원 | E72: 원시동 836-1 일원 | F72: 20 | H72: 12 | I72: 36000
A73: 삼천리 | B73: =B72 -> 안산시 | C73: 초지동상업지구 | D73: 초지동 728 일원 | E73: 초지동 728 일원 | F73: 100 | H73: 15 | I73: 55000
A74: 삼천리 | B74: =B73 -> 안산시 | C74: 반다비체육문화센터 | D74: 고잔동 산56-4 일원 | E74: 고잔동 산56-4 일원 | F74: 100 | H74: 2 | I74: 68429
A75: 삼천리 | B75: =B74 -> 안산시 | C75: 관산체육문화센터 | D75: 원곡동 936 일원 | E75: 원곡동 936 일원 | F75: 355 | H75: 2 | I75: 243697
A76: 삼천리 | B76: =B75 -> 안산시 | C76: 기타투자 | D76: 안산시 일원 | E76: 안산시 일원 | F76: 250 | I76: =175000+100000 -> 275000
A77: 삼천리 | B77: =B76 -> 안산시 | C77: 안전투자 | D77: 안산시 일원 | E77: 안산시 일원 | I77: 542050.17
A78: 삼천리 | B78: =B77 -> 안산시 | C78: 인입관투자 | D78: 안산시 일원 | E78: 안산시 일원 | I78: 766843.71
B79: 소계 | C79: 평택시 | F79: =SUM(F80:F94) -> 19440 | G79: =SUM(G80:G94) -> 1 | H79: =SUM(H80:H94) -> 1529 | I79: =SUM(I80:I94) -> 7529791
A80: 삼천리 | B80: =C79 -> 평택시 | C80: 청북읍 옥길리 1291 일원(단지형) | D80: 옥길리 1300 | E80: 옥길리 1341 | F80: 35 | H80: 70 | I80: 16000
A81: 삼천리 | B81: =B80 -> 평택시 | C81: 포승읍 만호리 678-2(오션센트럴) | D81: 만호리 688 | E81: 만호리 687-2 | F81: 80 | H81: 1 | I81: 30000
A82: 삼천리 | B82: =B81 -> 평택시 | C82: 장당동 산12-5번지 일원 | D82: 장당동 산12-3 | E82: 장당동 산12-7 | F82: 20 | H82: 1296 | I82: 60000
A83: 삼천리 | B83: =B82 -> 평택시 | C83: 평택 화양지구 2단계 | D83: 화양지구내 | E83: 화양지구내 | F83: 10360 | I83: 1500000
A84: 삼천리 | B84: =B83 -> 평택시 | C84: 평택 가재지구 2단계 | D84: 가재지구내 | E84: 가재지구내 | F84: 2000 | G84: 1 | I84: 1000000
A85: 삼천리 | B85: =B84 -> 평택시 | C85: 평택 고덕지구 25단계 | D85: 고덕지구내 | E85: 고덕지구내 | F85: 1700 | I85: 840000
A86: 삼천리 | B86: =B85 -> 평택시 | C86: 평택 브레인시티 7단계 | D86: 브레인시티내 | E86: 브레인시티내 | F86: 1400 | I86: 605000
A87: 삼천리 | B87: =B86 -> 평택시 | C87: 평택 브레인시티 본관 1단계 | D87: 칠괴동 29-13 | E87: 칠괴동 31 | F87: 750 | H87: 3 | I87: 489750
A88: 삼천리 | B88: =B87 -> 평택시 | C88: 이원테크 본관 | D88: 율북리 1118 | E88: 율북리 1125-1 | F88: 85 | H88: 1 | I88: 49300
A89: 삼천리 | B89: =B88 -> 평택시 | C89: 현대글로비스 포승2공장 인입관 | D89: 원정리 1186 | E89: 원정리 1173 | F89: 20 | H89: 1 | I89: 28000
A90: 삼천리 | B90: =B89 -> 평택시 | C90: 삼아알미늄 포승1공장 인입관 | D90: 만호리 604 | E90: 만호리 592 | F90: 30 | H90: 1 | I90: 33000
A91: 삼천리 | B91: =B90 -> 평택시 | C91: 평택고덕 연료전지 | D91: 해창리 1284-3 | E91: 해창리 1278-1 | F91: 150 | H91: 1 | I91: 211534
A92: 삼천리 | B92: =B91 -> 평택시 | C92: 기타투자 | D92: 평택시 일원 | E92: 평택시 일원 | F92: =3010-200 -> 2810 | H92: 155 | I92: =1408868-1175308+100000 -> 333560
A93: 삼천리 | B93: =B92 -> 평택시 | C93: 안전투자 | D93: 평택시 일원 | E93: 평택시 일원 | I93: 283647
A94: 삼천리 | B94: =B93 -> 평택시 | C94: 인입관투자 | D94: 평택시 일원 | E94: 평택시 일원 | I94: 2050000
B95: 소계 | C95: 안양시 | F95: =SUM(F96:F104) -> 680 | G95: =SUM(G96:G104) -> 0 | H95: =SUM(H96:H104) -> 239 | I95: =SUM(I96:I104) -> 1209542.1
A96: 삼천리 | B96: =C95 -> 안양시 | C96: 만안구 안양동 676-6 에비뉴 오피스텔 | D96: 안양동 676-20 | E96: 안양동 676-6 | F96: 60 | H96: 234 | I96: 45000
A97: 삼천리 | B97: =B96 -> 안양시 | C97: 석수체육관 | D97: 석수동 279-38 일원 | E97: 석수동 279-38 일원 | F97: 35 | H97: 3 | I97: 48000
A98: 삼천리 | B98: =B97 -> 안양시 | C98: 제9390부대 | D98: 박달동 177-2 | E98: 박달동 191-2 | F98: 205 | H98: 1 | I98: 141360
A99: 삼천리 | B99: =B98 -> 안양시 | C99: 동안구 비산초교주변지구 | D99: 비산동 281-1 | E99: 비산동 281-1 | I99: 50000
A100: 삼천리 | B100: =B99 -> 안양시 | C100: 안양어반포레자연앤이편한세상 | D100: 안양동 618 일원 | E100: 안양동 618 일원 | I100: 40000
...

Sheet 2025년 공사계획(의무)
B1: 2025년 도시가스 공급시설 공사계획(도시가스사업자 의무 투자재원)
B2: 시군명 | C2: 공 사 명 | D2: 공 사 구 간 | F2: 배관망 건설 계획 (m) | G2: 정압기 (개소) | H2: 공급가구 (가구) | I2: 공사비 (천원) | J2: 비 고
D3: 시 점 | E3: 종 점
B4: 경기도 | F4: =SUM(F5,F57,F75,F86,F103,F116) -> 83456 | G4: =SUM(G5,G57,G75,G86,G103,G116) -> 4 | H4: =SUM(H5,H57,H75,H86,H103,H116) -> 3349 | I4: =SUM(I5,I57,I75,I86,I103,I116) -> 35173770
B5: 소계 | C5: 삼천리 | F5: =SUM(F6,F11,F16,F22,F25,F36,F41,F43,F49,F53,F55) -> 33430 | G5: =SUM(G6,G11,G16,G22,G25,G36,G41,G43,G49,G53,G55) -> 2 | H5: =SUM(H6,H11,H16,H22,H25,H36,H41,H43,H49,H53,H55) -> 909 | I5: =SUM(I6,I11,I16,I22,I25,I36,I41,I43,I49,I53,I55) -> 14748258
B6: 소계 | C6: 수원시 | F6: =SUM(F7:F10) -> 1150 | G6: =SUM(G8:G10) -> 0 | H6: =SUM(H7:H10) -> 25 | I6: =SUM(I7:I10) -> 971000
A7: 삼천리 | B7: =C6 -> 수원시 | C7: 상하광교동 일원 6단계 | D7: 하광교동 61-1 | E7: 하광교동 76-10 | F7: 800 | H7: 7 | I7: 796000
A8: 삼천리 | B8: =B7 -> 수원시 | C8: 매산로3가 98-1 일원 | D8: 매산로3가 86-1 | E8: 매산로3가 98-1 | F8: 50 | H8: 10 | I8: 35000
A9: 삼천리 | B9: =B8 -> 수원시 | C9: 화서동 86-1 일원 | D9: 화서동 184-90 | E9: 화서동 184-91 | F9: 200 | H9: 5 | I9: 80000
A10: 삼천리 | B10: =B9 -> 수원시 | C10: 이목동 282 일원 | D10: 이목동 284-8 | E10: 이목동 282 | F10: 100 | H10: 3 | I10: 60000
B11: 소계 | C11: 용인시 | F11: =SUM(F12:F15) -> 2310 | G11: =SUM(G12:G15) -> 0 | H11: =SUM(H12:H15) -> 110 | I11: =SUM(I12:I15) -> 2275000
A12: 삼천리 | B12: =C11 -> 용인시 | C12: 처인구 양지면 제일리 일원 | D12: 양지리 90-4 | E12: 양지리 90-10 | F12: 300 | H12: 0 | I12: 900000
A13: 삼천리 | B13: =B12 -> 용인시 | C13: 처인구 원삼면 좌항리 322-6 일원 | D13: 좌항리 333-1 | E13: 좌항리 322-75 | F13: 1200 | H13: 60 | I13: 450000
A14: 삼천리 | B14: =B13 -> 용인시 | C14: 처인구 원삼면 사암리 827 일원 | D14: 사암리 140-2 | E14: 사암리 118-2 | F14: 300 | H14: 0 | I14: 545000
A15: 삼천리 | B15: =B14 -> 용인시 | C15: 기흥구 상하동 276-6 일원(2단계) | D15: 상하동 566-9 | E15: 상하동 95-3 | F15: 510 | H15: 50 | I15: 380000
B16: 소계 | C16: 화성시 | F16: =SUM(F17:F21) -> 6230 | G16: =SUM(G17:G21) -> 0 | H16: =SUM(H17:H21) -> 200 | I16: =SUM(I17:I21) -> 2510600
A17: 삼천리 | B17: =C16 -> 화성시 | C17: 서신면 매화리 759-24 일원 | D17: 상안리 878-4 | E17: 상안리 882-12 | F17: 1120 | H17: 70 | I17: 450000
A18: 삼천리 | B18: =B17 -> 화성시 | C18: 팔탄면 기천리 43 일원 | D18: 기천리 43 | E18: 기천리 132-2 | F18: 1650 | H18: 50 | I18: 541000
A19: 삼천리 | B19: =B18 -> 화성시 | C19: 장안면 수촌리 695-1 일원 | D19: 수촌리 695-1 | E19: 수촌리 657-3 | F19: 850 | H19: 20 | I19: 340000
A20: 삼천리 | B20: =B19 -> 화성시 | C20: 우정읍 화산리 1198-8 일원 | D20: 화산리 671-2 | E20: 화산리 1009 | F20: 1260 | H20: 20 | I20: 559600
A21: 삼천리 | B21: =B20 -> 화성시 | C21: 봉담읍 당하리 161-20 일원 | D21: 당하리 161-20 | E21: 당하리 196 | F21: 1350 | H21: 40 | I21: 620000
B22: 소계 | C22: 부천시 | F22: =SUM(F23:F24) -> 170 | G22: =SUM(G23:G24) -> 0 | H22: =SUM(H23:H24) -> 11 | I22: =SUM(I23:I24) -> 100000
A23: 삼천리 | B23: =C22 -> 부천시 | C23: 원미구 심곡동 171-14 일원 | D23: 심곡동 171-12 | E23: 심곡동 171-14 | F23: 70 | H23: 7 | I23: 45000
A24: 삼천리 | B24: =B23 -> 부천시 | C24: 소사구 송내동 400-39 일원 | D24: 송내동 400-10 | E24: 송내동 400-39 | F24: 100 | H24: 4 | I24: 55000
B25: 소계 | C25: 안산시 | F25: =SUM(F26:F35) -> 7350 | G25: =SUM(G26:G35) -> 0 | H25: =SUM(H26:H35) -> 73 | I25: =SUM(I26:I35) -> 1967330
A26: 삼천리 | B26: =C25 -> 안산시 | C26: 장상동 365-5 일원 (동막골) | D26: 장상동389-5 | E26: 장상동365-5 | F26: 850 | H26: 8 | I26: 190000
A27: 삼천리 | B27: =B26 -> 안산시 | C27: 장상동 177-14 일원 (노리울) | D27: 장상동265-20 | E27: 장상동177-14 | F27: 1500 | H27: 10 | I27: 500000
A28: 삼천리 | B28: =B27 -> 안산시 | C28: 대부동동 1통 고유지마을 1551 일원 | D28: 대부동동1544-5 | E28: 대부동동1559-42 | F28: 1500 | H28: 15 | I28: 330000
A29: 삼천리 | B29: =B28 -> 안산시 | C29: 대부동동 6통 영전마을 1090-4 일원 | D29: 대부동동1090-8 | E29: 대부동동399-1 | F29: 250 | H29: 3 | I29: 62330
A30: 삼천리 | B30: =B29 -> 안산시 | C30: 대부북동 7통 상동마을 476-6 일원 | D30: 대부북동470-2 | E30: 대부북동476-9 | F30: 500 | H30: 7 | I30: 140000
A31: 삼천리 | B31: =B30 -> 안산시 | C31: 대부북동 8통 종현동마을 1870-87 일원 | D31: 대부북동1870-149 | E31: 대부북동1870-154 | F31: 400 | H31: 5 | I31: 105000
A32: 삼천리 | B32: =B31 -> 안산시 | C32: 대부북동 10통 방아머리 1855 일원 | D32: 대부북동1855-29 | E32: 대부북동1854-60 | F32: 500 | H32: 8 | I32: 140000
A33: 삼천리 | B33: =B32 -> 안산시 | C33: 대부북동 11통 와곡마을 917-1 일원 | D33: 대부북동1276-3 | E33: 대부북동917-1 | F33: 150 | H33: 2 | I33: 60000
A34: 삼천리 | B34: =B33 -> 안산시 | C34: 대부남동 14통 행낭곡마을 938 일원 | D34: 대부남동924-3 | E34: 대부남동609-28 | F34: 1200 | H34: 10 | I34: 300000
A35: 삼천리 | B35: =B34 -> 안산시 | C35: 대부남동 16통 흥성리마을 1205 일원 | D35: 대부남동1207-7 | E35: 대부남동1195-8 | F35: 500 | H35: 5 | I35: 140000
B36: 소계 | C36: 평택시 | F36: =SUM(F37:F40) -> 1520 | G36: =SUM(G37:G40) -> 1 | H36: =SUM(H37:H40) -> 18 | I36: =SUM(I37:I40) -> 2093308
A37: 삼천리 | B37: =C36 -> 평택시 | C37: 지산동 519-2 일원(지산14통) 4단계 | D37: 지산동 561 | E37: 지산동 541 | F37: 340 | G37: 0 | H37: 0 | I37: 143308
A38: 삼천리 | B38: =B37 -> 평택시 | C38: 진위면 은산리 1291 일원(은산5리)(4단계) | D38: 진목리 949-441 | E38: 은산리 1379 | F38: 400 | G38: 0 | H38: 0 | I38: 1500000
A39: 삼천리 | B39: =B38 -> 평택시 | C39: 포승읍 석정리 1256-34 (석정리)(2단계) | D39: 석정리 산 29 | E39: 석정리 산 271 | F39: 390 | G39: 1 | H39: 8 | I39: 250000
A40: 삼천리 | B40: =B39 -> 평택시 | C40: 죽백, 월곡, 청룡동 일원(6단계) | D40: 죽백동 114-12 | E40: 죽백동 660 | F40: 390 | H40: 10 | I40: 200000
B41: 소계 | C41: 안양시 | F41: =SUM(F42:F42) -> 70 | G41: =SUM(G42:G42) -> 0 | H41: =SUM(H42:H42) -> 3 | I41: =SUM(I42:I42) -> 32000
A42: 삼천리 | B42: =C41 -> 안양시 | C42: 동안구 비산동 293-2 일원 | D42: 비산동 305-15 | E42: 비산동 293-2 | F42: 70 | H42: 3 | I42: 32000
B43: 소계 | C43: 시흥시 | F43: =SUM(F44:F48) -> 3400 | G43: =SUM(G44:G48) -> 0 | H43: =SUM(H44:H48) -> 39 | I43: =SUM(I44:I48) -> 1166490
A44: 삼천리 | B44: =C43 -> 시흥시 | C44: 대야동 7-206 일원 | D44: 대야동 7-203 | E44: 대야동 7-206 | F44: 100 | H44: 5 | I44: 28000
A45: 삼천리 | B45: =B44 -> 시흥시 | C45: 방산동 550 일원 | D45: 방산동 550 | E45: 방산동 755-3 | F45: 300 | H45: 2 | I45: 88000
A46: 삼천리 | B46: =B45 -> 시흥시 | C46: 신천동 434 일원 | D46: 신천동 749-1 | E46: 신천동 434 | F46: 1600 | H46: 20 | I46: 568490
A47: 삼천리 | B47: =B46 -> 시흥시 | C47: 계수동 264 일원 | D47: 계수동 179-26 | E47: 계수동 256-5 | F47: 900 | H47: 9 | I47: 300000
A48: 삼천리 | B48: =B47 -> 시흥시 | C48: 장곡동 689-4 일원 | D48: 장곡동 803-1 | E48: 장곡동 689-4 | F48: 500 | H48: 3 | I48: 182000
B49: 소계 | C49: 오산시 | F49: =SUM(F50:F52) -> 1730 | G49: =SUM(G50:G52) -> 0 | H49: =SUM(H50:H52) -> 37 | I49: =SUM(I50:I52) -> 688200
A50: 삼천리 | B50: =C49 -> 오산시 | C50: 지곶동 140-20일원 | D50: 지곶동 545-6 | E50: 지곡동 559-2 | F50: 1200 | H50: 22 | I50: 470000
A51: 삼천리 | B51: =B50 -> 오산시 | C51: 부산동 610일원 | D51: 오산동 813 | E51: 부산동길 12-5 | F51: 280 | H51: 8 | I51: 130000
A52: 삼천리 | B52: =B51 -> 오산시 | C52: 외삼미동 327-23 일원 | D52: 외삼미동 337-5 | E52: 외삼미동 324-3 | F52: 250 | H52: 7 | I52: 88200
B53: 소계 | C53: 안성시 | F53: =SUM(F54:F54) -> 6000 | G53: =SUM(G54:G54) -> 1 | H53: =SUM(H54:H54) -> 93 | I53: =SUM(I54:I54) -> 1793700
A54: 삼천리 | B54: =C53 -> 안성시 | C54: 공도읍 신두리 302-2번지 일원(소신두마을) | D54: 양기리 산 61-3 | E54: 신두리 78-1 | F54: 6000 | G54: 1 | H54: 93 | I54: 1793700
B55: 소계 | C55: 의왕시 | F55: =SUM(F56:F56) -> 3500 | G55: =SUM(G56:G56) -> 0 | H55: =SUM(H56:H56) -> 300 | I55: =SUM(I56:I56) -> 1150630
A56: 삼천리 | B56: =C55 -> 의왕시 | C56: 학의동 60 일원 학현마을 | D56: 학의동 463 | E56: 학현동 60 | F56: 3500 | H56: 300 | I56: 1150630
B57: 소계 | C57: 코원에너지서비스 | F57: =SUM(F58,F60,F65,F69,F72) -> 13573 | G57: =SUM(G58,G60,G65,G69,G72) -> 1 | H57: =SUM(H58,H60,H65,H69,H72) -> 517 | I57: =SUM(I58,I60,I65,I69,I72) -> 6800000
B58: 소계 | C58: 성남시 | F58: =SUM(F59:F59) -> 300 | G58: =SUM(G59:G59) -> 0 | H58: =SUM(H59:H59) -> 20 | I58: =SUM(I59:I59) -> 120000
A59: 코원 | B59: =C58 -> 성남시 | C59: 수정구 고등동 396-56번지 공급관 | D59: 고등동 396-56 | E59: 시흥동 154-26 | F59: 300 | G59: 0 | H59: 20 | I59: 120000
B60: 소계 | C60: 광주시 | F60: =SUM(F61:F64) -> 5820 | G60: =SUM(G61:G64) -> 0 | H60: =SUM(H61:H64) -> 230 | I60: =SUM(I61:I64) -> 2610000
A61: 코원 | B61: =C60 -> 광주시 | C61: 초월읍 서하리 234 본, 공급관 및 구역조정기 | D61: 서하리 536-6 | E61: 서하리 221-9 | F61: 520 | G61: 0 | H61: 20 | I61: 240000
A62: 코원 | B62: =B61 -> 광주시 | C62: 도척면 유정리 529-12 공급관 | D62: 유정리 212-5 | E62: 유정리 619-1 | F62: 2300 | G62: 0 | H62: 120 | I62: 1050000
A63: 코원 | B63: =B62 -> 광주시 | C63: 곤지암읍 오향리 294-7 본. 공급관 | D63: 오향리 389-2 | E63: 오향리 224-2 | F63: 1500 | G63: 0 | H63: 70 | I63: 760000
A64: 코원 | B64: =B63 -> 광주시 | C64: 남한산성면 하번천리 285-1 공급관 | D64: 하번천리 297-4 | E64: 하번천리 285-1 | F64: 1500 | G64: 0 | H64: 20 | I64: 560000
B65: 소계 | C65: 하남시 | F65: =SUM(F66:F68) -> 2263 | G65: =SUM(G66:G68) -> 0 | H65: =SUM(H66:H68) -> 70 | I65: =SUM(I66:I68) -> 1090000
A66: 코원 | B66: =C65 -> 하남시 | C66: 광암동 247 공급관 | D66: 광암동 258-4 | E66: 광암동 248 | F66: 1265 | G66: 0 | H66: 20 | I66: 625000
A67: 코원 | B67: =B66 -> 하남시 | C67: 감북동 140 공급관(가무나리3차) | D67: 감북동 142-1 | E67: 감북동 138 | F67: 380 | G67: 0 | H67: 28 | I67: 165000
A68: 코원 | B68: =B67 -> 하남시 | C68: 초이동 265-2 공급관(초이3통) | D68: 초이동 251-8 | E68: 초이동 274-3 | F68: 618 | G68: 0 | H68: 22 | I68: 300000
B69: 소계 | C69: 이천시 | F69: =SUM(F70:F71) -> 2350 | G69: =SUM(G70:G71) -> 1 | H69: =SUM(H70:H71) -> 77 | I69: =SUM(I70:I71) -> 1500000
A70: 코원 | B70: =C69 -> 이천시 | C70: 이천시 백사면 현방리1,3리 1단계 본관 | D70: 조읍리 572-1 | E70: 조읍리 591-7 | F70: 479 | G70: 0 | H70: 0 | I70: 400000
A71: 코원 | B71: =B70 -> 이천시 | C71: 이천시 장호원읍 장호원3리 331-8일원 2단계 공급관 | D71: 장호원리 331-8 | E71: 장호원리 269-17 | F71: 1871 | G71: 1 | H71: 77 | I71: 1100000
B72: 소계 | C72: 여주시 | F72: =SUM(F73:F74) -> 2840 | G72: =SUM(G73:G74) -> 0 | H72: =SUM(H73:H74) -> 120 | I72: =SUM(I73:I74) -> 1480000
A73: 코원 | B73: =C72 -> 여주시 | C73: 여주시 세종대왕면 신지3리 공급관 | D73: 신지리 262-1 | E73: 신지리 257-1 | F73: 1440 | G73: 0 | H73: 120 | I73: 680000
A74: 코원 | B74: =B73 -> 여주시 | C74: 여주시 북내면 당우리 1차 본관 | D74: 오학동 392-2 | E74: 신남리 223-2 | F74: 1400 | G74: 0 | H74: 0 | I74: 800000
B75: 소계 | C75: 서울도시가스 | F75: =SUM(F76,F81,F83) -> 12565 | G75: =SUM(G76,G81,G83) -> 1 | H75: =SUM(H76,H81,H83) -> 386 | I75: =SUM(I76,I81,I83) -> 3862854
B76: 소계 | C76: 고양시 | F76: =SUM(F77:F80) -> 2300 | G76: =SUM(G77:G80) -> 0 | H76: =SUM(H77:H80) -> 165 | I76: =SUM(I77:I80) -> 1265137
A77: 서울 | B77: =C76 -> 고양시 | C77: 덕양구 내유동 222번지 인근 공급관 | D77: 내유동 232-13 | E77: 내유동 195-1 | F77: 630 | H77: 24 | I77: 411937
A78: 서울 | B78: =B77 -> 고양시 | C78: 덕양구 내유동 612번지 인근 공급관 | D78: 내유동 632 | E78: 내유동 162 | F78: 970 | H78: 40 | I78: 447800
A79: 서울 | B79: =B78 -> 고양시 | C79: 일산동구 설문동 706번지 인근 공급관 공사 | D79: 설문동 706-31 | E79: 설문동 706-65 | F79: 510 | H79: 85 | I79: 310300
A80: 서울 | B80: =B79 -> 고양시 | C80: 일산동구 설문동 32번지 인근 공급관 공사 | D80: 설문동 30-8 | E80: 설문동 32-1 | F80: 190 | H80: 16 | I80: 95100
B81: 소계 | C81: 파주시 | F81: =SUM(F82:F82) -> 3870 | G81: =SUM(G82:G82) -> 1 | H81: =SUM(H82:H82) -> 69 | I81: =SUM(I82:I82) -> 1500000
A82: 서울 | B82: =C81 -> 파주시 | C82: 광탄면 용미3리 자연취락 공급관공사 | D82: 용미3리 마을회관 | E82: 용미리 545-28 | F82: 3870 | G82: 1 | H82: 69 | I82: 1500000
B83: 소계 | C83: 김포시 | F83: =SUM(F84:F85) -> 6395 | G83: =SUM(G84:G85) -> 0 | H83: =SUM(H84:H85) -> 152 | I83: =SUM(I84:I85) -> 1097717
A84: 서울 | B84: =C83 -> 김포시 | C84: 석모리 910번지 일대 공급관 공사 | D84: 석모리 910번지 | E84: 석모리 910번지 | F84: 1500 | H84: 16 | I84: 737846
A85: 서울 | B85: =B84 -> 김포시 | C85: 하성면 전류리 인근 공급관 | D85: 마곡리 333-5 | E85: 전류리 67-6 | F85: 4895 | H85: 136 | I85: 359871
B86: 소계 | C86: 대륜이엔에스 | F86: =SUM(F87,F93,F95,F99,F101) -> 10410 | H86: =SUM(H87,H93,H95,H99,H101) -> 590 | I86: =SUM(I87,I93,I95,I99,I101) -> 4599738
B87: 소계 | C87: 의정부시 | F87: =SUM(F88:F92) -> 2280 | G87: =SUM(G88:G92) -> 0 | H87: =SUM(H88:H92) -> 54 | I87: =SUM(I88:I92) -> 868544
A88: 대륜 | B88: =C87 -> 의정부시 | C88: 호원동 300-1번지 일원 | D88: 호원동 300-24 | E88: 호원동 300-37 | F88: 500 | H88: 7 | I88: 240000
A89: 대륜 | B89: =B88 -> 의정부시 | C89: 의정부동 240-32번지 일원 | D89: 의정부동 240-1 | E89: 의정부동 240-1 | F89: 180 | H89: 3 | I89: 163784
A90: 대륜 | B90: =B89 -> 의정부시 | C90: 의정부동 1-89번지 일원 | D90: 의정부동 1-21 | E90: 의정부동 1-21 | F90: 100 | H90: 2 | I90: 48000
A91: 대륜 | B91: =B90 -> 의정부시 | C91: 의정부동 125-2번지 일원 | D91: 의정부동 15-7 | E91: 의정부동 15-7 | F91: 100 | H91: 2 | I91: 60000
A92: 대륜 | B92: =B91 -> 의정부시 | C92: 고산동 665-1번지 일원(원머루 인근)(2단계) | D92: 고산동 621-76 | E92: 고산동 659-5 | F92: 1400 | H92: 40 | I92: 356760
B93: 소계 | C93: 양주시 | F93: =SUM(F94:F94) -> 2700 | G93: =SUM(G94:G94) -> 0 | H93: =SUM(H94:H94) -> 30 | I93: =SUM(I94:I94) -> 802902
A94: 대륜 | B94: =C93 -> 양주시 | C94: 남방동 남방1통 | D94: 남방동 200-63 | E94: 남방동 325-5 | F94: 2700 | H94: 30 | I94: 802902
B95: 소계 | C95: 포천시 | F95: =SUM(F96:F98) -> 2130 | G95: =SUM(G96:G98) -> 0 | H95: =SUM(H96:H98) -> 109 | I95: =SUM(I96:I98) -> 970076
A96: 대륜 | B96: =C95 -> 포천시 | C96: 소흘읍 이동교4리 일원(2단계) | D96: 이동교리 782-4 | E96: 이동교리 247-10 | F96: 700 | H96: 36 | I96: 200000
A97: 대륜 | B97: =B96 -> 포천시 | C97: 포천동 신읍4통(호병골 1구간) | D97: 신읍동 696 | E97: 신읍동 263-3 | F97: 730 | H97: 58 | I97: 434076
A98: 대륜 | B98: =B97 -> 포천시 | C98: 신읍동 137-62(구절초로 일원) | D98: 신읍동 50-2 | E98: 신읍동 137-87 | F98: 700 | H98: 15 | I98: 336000
B99: 소계 | C99: 동두천시 | F99: =SUM(F100:F100) -> 2000 | G99: =SUM(G100:G100) -> 0 | H99: =SUM(H100:H100) -> 170 | I99: =SUM(I100:I100) -> 554143
A100: 대륜 | B100: =C99 -> 동두천시 | C100: 송내동 2통 아차노리마을 일원(2단계) | D100: 송내동 226-2 | E100: 송내동 216-6 | F100: 2000 | H100: 170 | I100: 554143
...
