Workbook

Sheet 개요
B2: 구분 | C2: 2025년 자체 투자재원 | H2: 2026년 자체 투자재원
C3: 개소수 | D3: 배관망 건설계획 | E3: 정압기 | F3: 공급가구 | G3: 공사비 | H3: 개소수 | I3: 배관망 건설계획 | J3: 정압기 | K3: 공급가구 | L3: 공사비
B4: 합계 | C4: =SUM(C5:C10) -> 212 | D4: =SUM(D5:D10) -> 126438 | E4: =SUM(E5:E10) -> 10 | F4: =SUM(F5:F10) -> 202201 | G4: =SUM(G5:G10) -> 79146045 | H4: =SUM(H5:H10) -> 183 | I4: =SUM(I5:I10) -> 168961.44 | J4: =SUM(J5:J10) -> 10 | ... L4: =SUM(L5:L10) -> 1.0423867e+08
B5: 삼천리 | C5: =COUNTIFS('2025년 공사계획'!A:A,개요!$B5) -> 143 | D5: =SUMIFS('2025년 공사계획'!F:F,'2025년 공사계획'!$A:$A,개요!$B5) -> 62453 | E5: =SUMIFS('2025년 공사계획'!G:G,'2025년 공사계획'!$A:$A,개요!$B5) -> 5 | F5: =SUMIFS('2025년 공사계획'!H:H,'2025년 공사계획'!$A:$A,개요!$B5) -> 185610 | G5: =SUMIFS('2025년 공사계획'!I:I,'2025년 공사계획'!$A:$A,개요!$B5) -> 48164215 | H5: =COUNTIFS('2026년 공사계획'!A:A,개요!$B5) -> 111 | I5: =SUMIFS('2026년 공사계획'!F:F,'2026년 공사계획'!$A:$A,개요!$B5) -> 50172.444 | J5: =SUMIFS('2026년 공사계획'!G:G,'2026년 공사계획'!$A:$A,개요!$B5) -> 1 | K5: =SUMIFS('2026년 공사계획'!H:H,'2026년 공사계획'!$A:$A,개요!$B5) -> 45769.872 | L5: =SUMIFS('2026년 공사계획'!I:I,'2026년 공사계획'!$A:$A,개요!$B5) -> 47064468
B6: 코원 | C6: =COUNTIFS('2025년 공사계획'!A:A,개요!$B6) -> 17 | D6: =SUMIFS('2025년 공사계획'!F:F,'2025년 공사계획'!$A:$A,개요!$B6) -> 10713 | E6: =SUMIFS('2025년 공사계획'!G:G,'2025년 공사계획'!$A:$A,개요!$B6) -> 0 | F6: =SUMIFS('2025년 공사계획'!H:H,'2025년 공사계획'!$A:$A,개요!$B6) -> 3120 | G6: =SUMIFS('2025년 공사계획'!I:I,'2025년 공사계획'!$A:$A,개요!$B6) -> 4495672.9 | H6: =COUNTIFS('2026년 공사계획'!A:A,개요!$B6) -> 17 | I6: =SUMIFS('2026년 공사계획'!F:F,'2026년 공사계획'!$A:$A,개요!$B6) -> 23877 | J6: =SUMIFS('2026년 공사계획'!G:G,'2026년 공사계획'!$A:$A,개요!$B6) -> 0 | K6: =SUMIFS('2026년 공사계획'!H:H,'2026년 공사계획'!$A:$A,개요!$B6) -> 16023 | L6: =SUMIFS('2026년 공사계획'!I:I,'2026년 공사계획'!$A:$A,개요!$B6) -> 11674364
B7: 서울 | C7: =COUNTIFS('2025년 공사계획'!A:A,개요!$B7) -> 5 | D7: =SUMIFS('2025년 공사계획'!F:F,'2025년 공사계획'!$A:$A,개요!$B7) -> 7432 | E7: =SUMIFS('2025년 공사계획'!G:G,'2025년 공사계획'!$A:$A,개요!$B7) -> 1 | F7: =SUMIFS('2025년 공사계획'!H:H,'2025년 공사계획'!$A:$A,개요!$B7) -> 3967 | G7: =SUMIFS('2025년 공사계획'!I:I,'2025년 공사계획'!$A:$A,개요!$B7) -> 3799300 | H7: =COUNTIFS('2026년 공사계획'!A:A,개요!$B7) -> 9 | I7: =SUMIFS('2026년 공사계획'!F:F,'2026년 공사계획'!$A:$A,개요!$B7) -> 12589 | J7: =SUMIFS('2026년 공사계획'!G:G,'2026년 공사계획'!$A:$A,개요!$B7) -> 2 | K7: =SUMIFS('2026년 공사계획'!H:H,'2026년 공사계획'!$A:$A,개요!$B7) -> 9706 | L7: =SUMIFS('2026년 공사계획'!I:I,'2026년 공사계획'!$A:$A,개요!$B7) -> 5076971
B8: 대륜 | C8: =COUNTIFS('2025년 공사계획'!A:A,개요!$B8) -> 9 | D8: =SUMIFS('2025년 공사계획'!F:F,'2025년 공사계획'!$A:$A,개요!$B8) -> 7850 | E8: =SUMIFS('2025년 공사계획'!G:G,'2025년 공사계획'!$A:$A,개요!$B8) -> 1 | F8: =SUMIFS('2025년 공사계획'!H:H,'2025년 공사계획'!$A:$A,개요!$B8) -> 5148 | G8: =SUMIFS('2025년 공사계획'!I:I,'2025년 공사계획'!$A:$A,개요!$B8) -> 3259307 | H8: =COUNTIFS('2026년 공사계획'!A:A,개요!$B8) -> 17 | I8: =SUMIFS('2026년 공사계획'!F:F,'2026년 공사계획'!$A:$A,개요!$B8) -> 20875 | J8: =SUMIFS('2026년 공사계획'!G:G,'2026년 공사계획'!$A:$A,개요!$B8) -> 1 | K8: =SUMIFS('2026년 공사계획'!H:H,'2026년 공사계획'!$A:$A,개요!$B8) -> 8211.3333 | L8: =SUMIFS('2026년 공사계획'!I:I,'2026년 공사계획'!$A:$A,개요!$B8) -> 13778766
B9: 예스코 | C9: =COUNTIFS('2025년 공사계획'!A:A,개요!$B9) -> 33 | D9: =SUMIFS('2025년 공사계획'!F:F,'2025년 공사계획'!$A:$A,개요!$B9) -> 35502 | E9: =SUMIFS('2025년 공사계획'!G:G,'2025년 공사계획'!$A:$A,개요!$B9) -> 3 | F9: =SUMIFS('2025년 공사계획'!H:H,'2025년 공사계획'!$A:$A,개요!$B9) -> 4203 | G9: =SUMIFS('2025년 공사계획'!I:I,'2025년 공사계획'!$A:$A,개요!$B9) -> 17720550 | H9: =COUNTIFS('2026년 공사계획'!A:A,개요!$B9) -> 27 | I9: =SUMIFS('2026년 공사계획'!F:F,'2026년 공사계획'!$A:$A,개요!$B9) -> 60720 | J9: =SUMIFS('2026년 공사계획'!G:G,'2026년 공사계획'!$A:$A,개요!$B9) -> 6 | K9: =SUMIFS('2026년 공사계획'!H:H,'2026년 공사계획'!$A:$A,개요!$B9) -> 4774 | L9: =SUMIFS('2026년 공사계획'!I:I,'2026년 공사계획'!$A:$A,개요!$B9) -> 26144103
B10: 인천 | C10: =COUNTIFS('2025년 공사계획'!A:A,개요!$B10) -> 5 | D10: =SUMIFS('2025년 공사계획'!F:F,'2025년 공사계획'!$A:$A,개요!$B10) -> 2488 | E10: =SUMIFS('2025년 공사계획'!G:G,'2025년 공사계획'!$A:$A,개요!$B10) -> 0 | F10: =SUMIFS('2025년 공사계획'!H:H,'2025년 공사계획'!$A:$A,개요!$B10) -> 153 | G10: =SUMIFS('2025년 공사계획'!I:I,'2025년 공사계획'!$A:$A,개요!$B10) -> 1707000 | H10: =COUNTIFS('2026년 공사계획'!A:A,개요!$B10) -> 2 | I10: =SUMIFS('2026년 공사계획'!F:F,'2026년 공사계획'!$A:$A,개요!$B10) -> 728 | J10: =SUMIFS('2026년 공사계획'!G:G,'2026년 공사계획'!$A:$A,개요!$B10) -> 0 | K10: =SUMIFS('2026년 공사계획'!H:H,'2026년 공사계획'!$A:$A,개요!$B10) -> 454 | L10: =SUMIFS('2026년 공사계획'!I:I,'2026년 공사계획'!$A:$A,개요!$B10) -> 500000
B13: 구분 | C13: 2025년 의무투자재원
C14: 개소수 | D14: 배관망 건설계획 | E14: 정압기 | F14: 공급가구 | G14: 공사비
B15: 합계 | C15: =SUM(C16:C21) -> 79 | D15: =SUM(D16:D21) -> 83456 | E15: =SUM(E16:E21) -> 4 | F15: =SUM(F16:F21) -> 3349 | G15: =SUM(G16:G21) -> 35173770
B16: 삼천리 | C16: =COUNTIFS('2025년 공사계획(의무)'!A:A,개요!$B16) -> 40 | D16: =SUMIFS('2025년 공사계획(의무)'!F:F,'2025년 공사계획(의무)'!$A:$A,개요!$B16) -> 33430 | E16: =SUMIFS('2025년 공사계획(의무)'!G:G,'2025년 공사계획(의무)'!$A:$A,개요!$B16) -> 2 | F16: =SUMIFS('2025년 공사계획(의무)'!H:H,'2025년 공사계획(의무)'!$A:$A,개요!$B16) -> 909 | G16: =SUMIFS('2025년 공사계획(의무)'!I:I,'2025년 공사계획(의무)'!$A:$A,개요!$B16) -> 14748258
B17: 코원 | C17: =COUNTIFS('2025년 공사계획(의무)'!A:A,개요!$B17) -> 12 | D17: =SUMIFS('2025년 공사계획(의무)'!F:F,'2025년 공사계획(의무)'!$A:$A,개요!$B17) -> 13573 | E17: =SUMIFS('2025년 공사계획(의무)'!G:G,'2025년 공사계획(의무)'!$A:$A,개요!$B17) -> 1 | F17: =SUMIFS('2025년 공사계획(의무)'!H:H,'2025년 공사계획(의무)'!$A:$A,개요!$B17) -> 517 | G17: =SUMIFS('2025년 공사계획(의무)'!I:I,'2025년 공사계획(의무)'!$A:$A,개요!$B17) -> 6800000
B18: 서울 | C18: =COUNTIFS('2025년 공사계획(의무)'!A:A,개요!$B18) -> 7 | D18: =SUMIFS('2025년 공사계획(의무)'!F:F,'2025년 공사계획(의무)'!$A:$A,개요!$B18) -> 12565 | E18: =SUMIFS('2025년 공사계획(의무)'!G:G,'2025년 공사계획(의무)'!$A:$A,개요!$B18) -> 1 | F18: =SUMIFS('2025년 공사계획(의무)'!H:H,'2025년 공사계획(의무)'!$A:$A,개요!$B18) -> 386 | G18: =SUMIFS('2025년 공사계획(의무)'!I:I,'2025년 공사계획(의무)'!$A:$A,개요!$B18) -> 3862854
B19: 대륜 | C19: =COUNTIFS('2025년 공사계획(의무)'!A:A,개요!$B19) -> 11 | D19: =SUMIFS('2025년 공사계획(의무)'!F:F,'2025년 공사계획(의무)'!$A:$A,개요!$B19) -> 10410 | E19: =SUMIFS('2025년 공사계획(의무)'!G:G,'2025년 공사계획(의무)'!$A:$A,개요!$B19) -> 0 | F19: =SUMIFS('2025년 공사계획(의무)'!H:H,'2025년 공사계획(의무)'!$A:$A,개요!$B19) -> 590 | G19: =SUMIFS('2025년 공사계획(의무)'!I:I,'2025년 공사계획(의무)'!$A:$A,개요!$B19) -> 4599738
B20: 예스코 | C20: =COUNTIFS('2025년 공사계획(의무)'!A:A,개요!$B20) -> 8 | D20: =SUMIFS('2025년 공사계획(의무)'!F:F,'2025년 공사계획(의무)'!$A:$A,개요!$B20) -> 13410 | E20: =SUMIFS('2025년 공사계획(의무)'!G:G,'2025년 공사계획(의무)'!$A:$A,개요!$B20) -> 0 | F20: =SUMIFS('2025년 공사계획(의무)'!H:H,'2025년 공사계획(의무)'!$A:$A,개요!$B20) -> 947 | G20: =SUMIFS('2025년 공사계획(의무)'!I:I,'2025년 공사계획(의무)'!$A:$A,개요!$B20) -> 5074179
B21: 인천 | C21: =COUNTIFS('2025년 공사계획(의무)'!A:A,개요!$B21) -> 1 | D21: =SUMIFS('2025년 공사계획(의무)'!F:F,'2025년 공사계획(의무)'!$A:$A,개요!$B21) -> 68 | E21: =SUMIFS('2025년 공사계획(의무)'!G:G,'2025년 공사계획(의무)'!$A:$A,개요!$B21) -> 0 | F21: =SUMIFS('2025년 공사계획(의무)'!H:H,'2025년 공사계획(의무)'!$A:$A,개요!$B21) -> 0 | G21: =SUMIFS('2025년 공사계획(의무)'!I:I,'2025년 공사계획(의무)'!$A:$A,개요!$B21) -> 88741
B23: 배관건설 | C23: 합계 | D23: 자체 | E23: 의무
B24: 합계 | C24: =SUM(C25:C26) -> 378855.44 | D24: =SUM(D25:D26) -> 295399.44 | E24: =SUM(E25:E26) -> 83456
B25: 25년 | C25: =SUM(D25:E25) -> 209894 | D25: =D4 -> 126438 | E25: =D15 -> 83456
B26: 26년 | C26: =SUM(D26:E26) -> 168961.44 | D26: =I4 -> 168961.44
B28: 개소수 | C28: 합계 | D28: 자체 | E28: 의무
B29: 합계 | C29: =SUM(C30:C31) -> 474 | D29: =SUM(D30:D31) -> 395 | E29: =SUM(E30:E31) -> 79
B30: 25년 | C30: =SUM(D30:E30) -> 291 | D30: =C4 -> 212 | E30: =C15 -> 79
B31: 26년 | C31: =SUM(D31:E31) -> 183 | D31: =H4 -> 183
B33: 공사금액 | C33: 합계 | D33: 자체 | E33: 의무
B34: 합계 | C34: =SUM(C35:C36) -> 2.1855849e+08 | D34: =SUM(D35:D36) -> 1.8338472e+08 | E34: =SUM(E35:E36) -> 35173770
B35: 25년 | C35: =SUM(D35:E35) -> 1.1431982e+08 | D35: =G4 -> 79146045 | E35: =G15 -> 35173770
B36: 26년 | C36: =SUM(D36:E36) -> 1.0423867e+08 | D36: =L4 -> 1.0423867e+08

Sheet 2026년 공사계획
B1: 2026년 도시가스 공급시설 공사계획(도시가스사업자 자체 투자재원)
B2: 시군명 | C2: 공 사 명 | D2: 공 사 구 간 | F2: 배관망 건설 계획 (m) | G2: 정압기 (개소) | H2: 공급가구 (가구) | I2: 공사비 (천원) | J2: 비 고
D3: 시 점 | E3: 종 점
B4: 경기도 | F4: =SUM(F5,F130,F154,F167,F190,F223) -> 168961.44 | G4: =SUM(G5,G130,G154,G167,G190,G223) -> 10 | H4: =SUM(H5,H130,H154,H167,H190,H223) -> 84938.205 | I4: =SUM(I5,I130,I154,I167,I190,I223) -> 1.0423867e+08
B5: 소계 | C5: 삼천리 | F5: =SUM(F6,F16,F36,F26,F47,F62,F55,F73,F83,F93,F103,F109,F118) -> 50172.444 | G5: =SUM(G6,G16,G36,G26,G47,G62,G55,G73,G83,G93,G103,G109,G118) -> 1 | H5: =SUM(H6,H16,H36,H26,H47,H62,H55,H73,H83,H93,H103,H109,H118) -> 45769.872 | I5: =SUM(I6,I16,I36,I26,I47,I62,I55,I73,I83,I93,I103,I109,I118) -> 47064468
B6: 소계 | C6: 수원시 | F6: =SUM(F7:F15) -> 1201.25 | G6: =SUM(G7:G15) -> 0 | H6: =SUM(H7:H15) -> 3507.2557 | I6: =SUM(I7:I15) -> 3130082.8
A7: 삼천리 | B7: =C6 -> 수원시 | C7: 신축아파트 공급관 | D7: 수원시 일원 | E7: 수원시 일원 | F7: 68 | H7: 250 | I7: 77137.5
A8: 삼천리 | B8: =B7 -> 수원시 | C8: 수원 당수1지구 | D8: 수원시 일원 | E8: 수원시 일원 | F8: 206.25 | H8: 415 | I8: 77812.5
A9: 삼천리 | B9: =B8 -> 수원시 | C9: 요식업소 단구간 투자 | D9: 수원시 일원 | E9: 수원시 일원 | F9: 204 | H9: 10 | I9: 168300
A10: 삼천리 | B10: =B9 -> 수원시 | C10: 호매실지역 업무시설 | D10: 수원시 일원 | E10: 수원시 일원 | F10: 27 | H10: 1000 | I10: 33660
A11: 삼천리 | B11: =B10 -> 수원시 | C11: 공공기관, 사무용 신축건물 | D11: 수원시 일원 | E11: 수원시 일원 | F11: 136 | H11: 1 | I11: 112200
A12: 삼천리 | B12: =B11 -> 수원시 | C12: 사우나 및 스포츠센타 | D12: 수원시 일원 | E12: 수원시 일원 | F12: 68 | H12: 10 | I12: 56100
A13: 삼천리 | B13: =B12 -> 수원시 | C13: 기타투자 | D13: 수원시 일원 | E13: 수원시 일원 | F13: 492 | H13: 1821.2557 | I13: 63737.5
A14: 삼천리 | B14: =B13 -> 수원시 | C14: 인입관투자 | D14: 수원시 일원 | E14: 수원시 일원 | I14: 1893075.4
A15: 삼천리 | B15: =B14 -> 수원시 | C15: 안전투자 | D15: 수원시 일원 | E15: 수원시 일원 | I15: 648059.96
B16: 소계 | C16: 용인시 | F16: =SUM(F17:F25) -> 4695.25 | G16: =SUM(G17:G25) -> 0 | H16: =SUM(H17:H25) -> 1677.644 | I16: =SUM(I17:I25) -> 4129679.5
A17: 삼천리 | B17: =C16 -> 용인시 | C17: 역삼지구 | D17: 용인시 일원 | E17: 용인시 일원 | F17: 412.5 | H17: 594 | I17: 129375
A18: 삼천리 | B18: =B17 -> 용인시 | C18: 고림지구 | D18: 용인시 일원 | E18: 용인시 일원 | F18: 619.5 | H18: 0 | I18: 257812.5
A19: 삼천리 | B19: =B18 -> 용인시 | C19: 모현왕산지구 | D19: 용인시 일원 | E19: 용인시 일원 | F19: 206.25 | H19: 0 | I19: 105000
A20: 삼천리 | B20: =B19 -> 용인시 | C20: 용인시 업무상업시설 | D20: 용인시 일원 | E20: 용인시 일원 | F20: 1142 | H20: 194 | I20: 632808
A21: 삼천리 | B21: =B20 -> 용인시 | C21: 반도체클러스터 2단계 | D21: 독성리 일원 | E21: 독성리 일원 | F21: 1500 | H21: 2 | I21: 710000
A22: 삼천리 | B22: =B21 -> 용인시 | C22: 기흥힉스 산단 | D22: 영덕동 일원 | E22: 영덕동 일원 | F22: 375 | H22: 2 | I22: 187500
A23: 삼천리 | B23: =B22 -> 용인시 | C23: 기타투자 | D23: 용인시 일원 | E23: 용인시 일원 | F23: 440 | H23: 885.64396 | I23: 190000
A24: 삼천리 | B24: =B23 -> 용인시 | C24: 인입관투자 | D24: 용인시 일원 | E24: 용인시 일원 | I24: 1198947.7
A25: 삼천리 | B25: =B24 -> 용인시 | C25: 안전투자 | D25: 용인시 일원 | E25: 용인시 일원 | I25: 718236.24
B26: 소계 | C26: 화성시 | F26: =SUM(F27:F35) -> 2052 | G26: =SUM(G27:G35) -> 1 | H26: =SUM(H27:H35) -> 348.0544 | I26: =SUM(I27:I35) -> 4781473.9
A27: 삼천리 | B27: =C26 -> 화성시 | C27: 화성 동탄2신도시 | D27: 화성시 일원 | E27: 화성시 일원 | F27: 210 | H27: 99 | I27: 77812.5
A28: 삼천리 | B28: =B27 -> 화성시 | C28: 태형분체 | D28: 화산리 731-1 | E28: 기아자동차로 467-7 | F28: 200 | H28: 1 | I28: 175000
A29: 삼천리 | B29: =B28 -> 화성시 | C29: 가온식품 | D29: 화산리 850-5 | E29: 화산리 850-5 | F29: 20 | H29: 1 | I29: 50000
A30: 삼천리 | B30: =B29 -> 화성시 | C30: 단구간 투자 및 연료전환 | D30: 화성시 일원 | E30: 화성시 일원 | F30: 680 | H30: 100 | I30: 420750
A31: 삼천리 | B31: =B30 -> 화성시 | C31: 기타투자 | D31: 화성시 일원 | E31: 화성시 일원 | F31: 304 | H31: 147.0544 | I31: 124000
A32: 삼천리 | B32: =B31 -> 화성시 | C32: 공급안정투자 | D32: 향남읍 제암리 | E32: 향남읍 발안리 | F32: 400 | G32: 1 | I32: 1700000
A33: 삼천리 | B33: =B32 -> 화성시 | C33: 인입관투자 | D33: 화성시 일원 | E33: 화성시 일원 | I33: 1198947.7
A34: 삼천리 | B34: =B33 -> 화성시 | C34: 안전투자 | D34: 화성시 일원 | E34: 화성시 일원 | I34: 810963.71
A35: 삼천리 | B35: =B34 -> 화성시 | C35: 배관이설보수공사 | D35: 화성시 일원 | E35: 화성시 일원 | F35: 238 | I35: 224000
B36: 소계 | C36: 부천시 | F36: =SUM(F37:F46) -> 6672 | G36: =SUM(G37:G46) -> 0 | H36: =SUM(H37:H46) -> 2788 | I36: =SUM(I37:I46) -> 3954803.5
A37: 삼천리 | B37: =C36 -> 부천시 | C37: 소사본1-구역 | D37: 소사본동 일원 | E37: 소사본동 일원 | F37: 68 | H37: 1706 | I37: 63112.5
A38: 삼천리 | B38: =B37 -> 부천시 | C38: 재건축지역 | D38: 부천시 일원 | E38: 부천시 일원 | F38: 54.4 | H38: 850 | I38: 67320
A39: 삼천리 | B39: =B38 -> 부천시 | C39: 재건축(신축)지역 | D39: 부천시 일원 | E39: 부천시 일원 | F39: 68 | H39: 85 | I39: 93967.5
A40: 삼천리 | B40: =B39 -> 부천시 | C40: 대장지구 | D40: 부천시 일원 | E40: 부천시 일원 | F40: 3900 | H40: 0 | I40: 1084875
...

Sheet 2025년 공사계획
B1: 2025년 도시가스 공급시설 공사계획(도시가스사업자 자체 투자재원)
B2: 시군명 | C2: 공 사 명 | D2: 공 사 구 간 | F2: 배관망 건설 계획 (m) | G2: 정압기 (개소) | H2: 공급가구 (가구) | I2: 공사비 (천원) | J2: 비 고
D3: 시 점 | E3: 종 점
B4: 경기도 | F4: =SUM(F5,F162,F186,F195,F210,F248) -> 126438 | G4: =SUM(G5,G162,G186,G195,G210,G248) -> 10 | H4: =SUM(H5,H162,H186,H195,H210,H248) -> 202201 | I4: =SUM(I5,I162,I186,I195,I210,I248) -> 79146045
B5: 소계 | C5: 삼천리 | F5: =SUM(F6,F25,F61,F40,F68,F95,F79,F105,F116,F128,F133,F143,F154) -> 62453 | G5: =SUM(G6,G25,G61,G40,G68,G95,G79,G105,G116,G128,G133,G143,G154) -> 5 | H5: =SUM(H6,H25,H61,H40,H68,H95,H79,H105,H116,H128,H133,H143,H154) -> 185610 | I5: =SUM(I6,I25,I61,I40,I68,I95,I79,I105,I116,I128,I133,I143,I154) -> 48164215
B6: 소계 | C6: 수원시 | F6: =SUM(F7:F24) -> 3070 | G6: =SUM(G7:G24) -> 0 | H6: =SUM(H7:H24) -> 16708 | I6: =SUM(I7:I24) -> 3468046
A7: 삼천리 | B7: =C6 -> 수원시 | C7: 세류동 829-8 매교역팰루시드 | D7: 세류동 832-54 | E7: 세류동 836-2 | F7: 100 | H7: 2178 | I7: 50000
A8: 삼천리 | B8: =B7 -> 수원시 | C8: 오목천동 319-1 오목천역더리브 | D8: 오목천동 923-99 | E8: 오목천동 318-10 | F8: 30 | H8: 201 | I8: 30000
A9: 삼천리 | B9: =B8 -> 수원시 | C9: 지동 354-10 수원성 중흥S클래스 | D9: 지동 316 | E9: 지동 319-3 | F9: 30 | H9: 1154 | I9: 30000
A10: 삼천리 | B10: =B9 -> 수원시 | C10: 천천동 81-1 북수원시티프라디움 더블리스 | D10: 천천동 488 | E10: 천천동 81-1 | F10: 350 | H10: 480 | I10: 140000
A11: 삼천리 | B11: =B10 -> 수원시 | C11: 당수동 당수1지구 | D11: 당수1지구내 | E11: 당수1지구내 | F11: 500 | H11: 7927 | I11: 150000
A12: 삼천리 | B12: =B11 -> 수원시 | C12: 이목동 이목지구 | D12: 이목지구내 | E12: 이목지구내 | F12: 1000 | H12: 4750 | I12: 500000
A13: 삼천리 | B13: =B12 -> 수원시 | C13: 매산로2가 30 우리은행 | D13: 매산로2가 103 | E13: 매산로2가 30 | F13: 30 | H13: 1 | I13: 20000
A14: 삼천리 | B14: =B13 -> 수원시 | C14: 권선동 1001-6 요양원 | D14: 세류동 1192 | E14: 권선동 1001-6 | F14: 120 | H14: 1 | I14: 70000
A15: 삼천리 | B15: =B14 -> 수원시 | C15: 이목동 256-3 FC 실험실 | D15: 이목동 259-1 | E15: 이목동 256-3 | F15: 150 | H15: 1 | I15: 150000
A16: 삼천리 | B16: =B15 -> 수원시 | C16: 호매실동 629-1 글램핑장 | D16: 호매실동 1313-37 | E16: 호매실동 629-1 | F16: 100 | H16: 1 | I16: 30000
A17: 삼천리 | B17: =B16 -> 수원시 | C17: 망포동 584-12 행정복지센터 | D17: 망포동 703 | E17: 망포동 584-12 | F17: 200 | H17: 1 | I17: 90000
A18: 삼천리 | B18: =B17 -> 수원시 | C18: 망포동 19-1 듀얼191 지식산업센터 | D18: 망포동 27-8 | E18: 망포동 19-1 | F18: 50 | H18: 5 | I18: 35000
A19: 삼천리 | B19: =B18 -> 수원시 | C19: 고색2지구 C-1 수원덕산병원 | D19: 고색동 893-24 | E19: 고색동 894-119 | F19: 50 | H19: 1 | I19: 40000
A20: 삼천리 | B20: =B19 -> 수원시 | C20: 영통동 1009-5 근생 | D20: 영통동 1079 | E20: 영통동 1009-5 | F20: 30 | H20: 5 | I20: 20000
A21: 삼천리 | B21: =B20 -> 수원시 | C21: 기타투자 | D21: 수원시 일원 | E21: 수원시 일원 | F21: 40 | H21: 2 | I21: =20000+134000+100000 -> 254000
A22: 삼천리 | B22: =B21 -> 수원시 | C22: 안전투자 | D22: 수원시 일원 | E22: 수원시 일원 | F22: - | H22: - | I22: 563046
A23: 삼천리 | B23: =B22 -> 수원시 | C23: 인입관투자 | D23: 수원시 일원 | E23: 수원시 일원 | I23: 1054000
A24: 삼천리 | B24: =B23 -> 수원시 | C24: 공급안정투자 | D24: 호매실동 | E24: 호매실동 | F24: 290 | I24: 242000
B25: 소계 | C25: 용인시 | F25: =SUM(F26:F39) -> 9575 | G25: =SUM(G26:G39) -> 2 | H25: =SUM(H26:H39) -> 7312 | I25: =SUM(I26:I39) -> 8374733.8
A26: 삼천리 | B26: =C25 -> 용인시 | C26: 처인구 삼가동 뉴스테이 공동주택 | D26: 삼가동 553 | E26: 삼가동 267-22 | F26: 190 | H26: 1953 | I26: 168000
A27: 삼천리 | B27: =B26 -> 용인시 | C27: 처인구 고림동 고림진덕지구 2단계 공급관 | D27: 고림진덕지구내 | E27: 고림진덕지구내 | F27: 1350 | H27: 160 | I27: 485000
A28: 삼천리 | B28: =B27 -> 용인시 | C28: 처인구 남동 은화삼지구 1단계 본관 | D28: 은화삼지구내 | E28: 은화삼지구내 | F28: 900 | G28: 1 | H28: 1681 | I28: 320000
A29: 삼천리 | B29: =B28 -> 용인시 | C29: 처인구 원삼면 반도체크러스터 1단계 | D29: 반도체크러스터내 | E29: 반도체크러스터내 | F29: 600 | H29: 2806 | I29: 280000
A30: 삼천리 | B30: =B29 -> 용인시 | C30: 처인구 남사읍 북리 다성 인입관 | D30: 북리 산 46-7 | E30: 북리 98 | F30: 10 | H30: 1 | I30: 20000
A31: 삼천리 | B31: =B30 -> 용인시 | C31: 처인구 모현읍 능원리 107-1 의료시설 | D31: 능원리 138-7 | E31: 능원리 107-1 | F31: 150 | H31: 1 | I31: 97000
A32: 삼천리 | B32: =B31 -> 용인시 | C32: 처인구 남사읍 북리 151-3 물류센터 | D32: 북리 151-22 | E32: 북리 151-3 | F32: 60 | H32: 1 | I32: 48000
A33: 삼천리 | B33: =B32 -> 용인시 | C33: 처인구 유방동 산118-1 요식업소 | D33: 유방동 608-1 | E33: 유방동 산118-1 | F33: 60 | H33: 1 | I33: 28000
A34: 삼천리 | B34: =B33 -> 용인시 | C34: 처인구 모현읍 갈담리 350-1일원 공급관 | D34: 갈담리 682-8 | E34: 갈담리 350-1일원 | F34: 60 | H34: 2 | I34: 29000
A35: 삼천리 | B35: =B34 -> 용인시 | C35: SK하이닉스 FAB1 본관 | D35: 독성리 555 | E35: 독성리 산 126-1 | F35: 700 | H35: 1 | I35: 900000
A36: 삼천리 | B36: =B35 -> 용인시 | C36: 기흥구 농서동 98-5 천지연 | D36: 석우동 39-2 | E36: 농서동 98-5 | F36: 35 | H36: 2 | I36: 40000
A37: 삼천리 | B37: =B36 -> 용인시 | C37: 기타투자 | D37: 용인시 일원 | E37: 용인시 일원 | F37: 5460 | G37: 1 | H37: 703 | I37: =3924000+100000 -> 4024000
A38: 삼천리 | B38: =B37 -> 용인시 | C38: 안전투자 | D38: 용인시 일원 | E38: 용인시 일원 | I38: 616733.75
A39: 삼천리 | B39: =B38 -> 용인시 | C39: 인입관투자 | D39: 용인시 일원 | E39: 용인시 일원 | I39: 1319000
B40: 소계 | C40: 화성시 | F40: =SUM(F41:F60) -> 13553 | G40: =SUM(G41:G60) -> 0 | H40: =SUM(H41:H60) -> 116997 | I40: =SUM(I41:I60) -> 9973890.2
...

Sheet 2025년 공사계획(의무)
B1: 2025년 도시가스 공급시설 공사계획(도시가스사업자 의무 투자재원)
B2: 시군명 | C2: 공 사 명 | D2: 공 사 구 간 | F2: 배관망 건설 계획 (m) | G2: 정압기 (개소) | H2: 공급가구 (가구) | I2: 공사비 (천원) | J2: 비 고
D3: 시 점 | E3: 종 점
B4: 경기도 | F4: =SUM(F5,F57,F75,F86,F103,F116) -> 83456 | G4: =SUM(G5,G57,G75,G86,G103,G116) -> 4 | H4: =SUM(H5,H57,H75,H86,H103,H116) -> 3349 | I4: =SUM(I5,I57,I75,I86,I103,I116) -> 35173770
B5: 소계 | C5: 삼천리 | F5: =SUM(F6,F11,F16,F22,F25,F36,F41,F43,F49,F53,F55) -> 33430 | G5: =SUM(G6,G11,G16,G22,G25,G36,G41,G43,G49,G53,G55) -> 2 | H5: =SUM(H6,H11,H16,H22,H25,H36,H41,H43,H49,H53,H55) -> 909 | I5: =SUM(I6,I11,I16,I22,I25,I36,I41,I43,I49,I53,I55) -> 14748258
B6: 소계 | C6: 수원시 | F6: =SUM(F7:F10) -> 1150 | G6: =SUM(G8:G10) -> 0 | H6: =SUM(H7:H10) -> 25 | I6: =SUM(I7:I10) -> 971000
A7: 삼천리 | B7: =C6 -> 수원시 | C7: 상하광교동 일원 6단계 | D7: 하광교동 61-1 | E7: 하광교동 76-10 | F7: 800 | H7: 7 | I7: 796000
A8: 삼천리 | B8: =B7 -> 수원시 | C8: 매산로3가 98-1 일원 | D8: 매산로3가 86-1 | E8: 매산로3가 98-1 | F8: 50 | H8: 10 | I8: 35000
A9: 삼천리 | B9: =B8 -> 수원시 | C9: 화서동 86-1 일원 | D9: 화서동 184-90 | E9: 화서동 184-91 | F9: 200 | H9: 5 | I9: 80000
A10: 삼천리 | B10: =B9 -> 수원시 | C10: 이목동 282 일원 | D10: 이목동 284-8 | E10: 이목동 282 | F10: 100 | H10: 3 | I10: 60000
B11: 소계 | C11: 용인시 | F11: =SUM(F12:F15) -> 2310 | G11: =SUM(G12:G15) -> 0 | H11: =SUM(H12:H15) -> 110 | I11: =SUM(I12:I15) -> 2275000
A12: 삼천리 | B12: =C11 -> 용인시 | C12: 처인구 양지면 제일리 일원 | D12: 양지리 90-4 | E12: 양지리 90-10 | F12: 300 | H12: 0 | I12: 900000
A13: 삼천리 | B13: =B12 -> 용인시 | C13: 처인구 원삼면 좌항리 322-6 일원 | D13: 좌항리 333-1 | E13: 좌항리 322-75 | F13: 1200 | H13: 60 | I13: 450000
A14: 삼천리 | B14: =B13 -> 용인시 | C14: 처인구 원삼면 사암리 827 일원 | D14: 사암리 140-2 | E14: 사암리 118-2 | F14: 300 | H14: 0 | I14: 545000
A15: 삼천리 | B15: =B14 -> 용인시 | C15: 기흥구 상하동 276-6 일원(2단계) | D15: 상하동 566-9 | E15: 상하동 95-3 | F15: 510 | H15: 50 | I15: 380000
B16: 소계 | C16: 화성시 | F16: =SUM(F17:F21) -> 6230 | G16: =SUM(G17:G21) -> 0 | H16: =SUM(H17:H21) -> 200 | I16: =SUM(I17:I21) -> 2510600
A17: 삼천리 | B17: =C16 -> 화성시 | C17: 서신면 매화리 759-24 일원 | D17: 상안리 878-4 | E17: 상안리 882-12 | F17: 1120 | H17: 70 | I17: 450000
A18: 삼천리 | B18: =B17 -> 화성시 | C18: 팔탄면 기천리 43 일원 | D18: 기천리 43 | E18: 기천리 132-2 | F18: 1650 | H18: 50 | I18: 541000
A19: 삼천리 | B19: =B18 -> 화성시 | C19: 장안면 수촌리 695-1 일원 | D19: 수촌리 695-1 | E19: 수촌리 657-3 | F19: 850 | H19: 20 | I19: 340000
A20: 삼천리 | B20: =B19 -> 화성시 | C20: 우정읍 화산리 1198-8 일원 | D20: 화산리 671-2 | E20: 화산리 1009 | F20: 1260 | H20: 20 | I20: 559600
A21: 삼천리 | B21: =B20 -> 화성시 | C21: 봉담읍 당하리 161-20 일원 | D21: 당하리 161-20 | E21: 당하리 196 | F21: 1350 | H21: 40 | I21: 620000
B22: 소계 | C22: 부천시 | F22: =SUM(F23:F24) -> 170 | G22: =SUM(G23:G24) -> 0 | H22: =SUM(H23:H24) -> 11 | I22: =SUM(I23:I24) -> 100000
A23: 삼천리 | B23: =C22 -> 부천시 | C23: 원미구 심곡동 171-14 일원 | D23: 심곡동 171-12 | E23: 심곡동 171-14 | F23: 70 | H23: 7 | I23: 45000
A24: 삼천리 | B24: =B23 -> 부천시 | C24: 소사구 송내동 400-39 일원 | D24: 송내동 400-10 | E24: 송내동 400-39 | F24: 100 | H24: 4 | I24: 55000
B25: 소계 | C25: 안산시 | F25: =SUM(F26:F35) -> 7350 | G25: =SUM(G26:G35) -> 0 | H25: =SUM(H26:H35) -> 73 | I25: =SUM(I26:I35) -> 1967330
A26: 삼천리 | B26: =C25 -> 안산시 | C26: 장상동 365-5 일원 (동막골) | D26: 장상동389-5 | E26: 장상동365-5 | F26: 850 | H26: 8 | I26: 190000
A27: 삼천리 | B27: =B26 -> 안산시 | C27: 장상동 177-14 일원 (노리울) | D27: 장상동265-20 | E27: 장상동177-14 | F27: 1500 | H27: 10 | I27: 500000
A28: 삼천리 | B28: =B27 -> 안산시 | C28: 대부동동 1통 고유지마을 1551 일원 | D28: 대부동동1544-5 | E28: 대부동동1559-42 | F28: 1500 | H28: 15 | I28: 330000
A29: 삼천리 | B29: =B28 -> 안산시 | C29: 대부동동 6통 영전마을 1090-4 일원 | D29: 대부동동1090-8 | E29: 대부동동399-1 | F29: 250 | H29: 3 | I29: 62330
A30: 삼천리 | B30: =B29 -> 안산시 | C30: 대부북동 7통 상동마을 476-6 일원 | D30: 대부북동470-2 | E30: 대부북동476-9 | F30: 500 | H30: 7 | I30: 140000
A31: 삼천리 | B31: =B30 -> 안산시 | C31: 대부북동 8통 종현동마을 1870-87 일원 | D31: 대부북동1870-149 | E31: 대부북동1870-154 | F31: 400 | H31: 5 | I31: 105000
A32: 삼천리 | B32: =B31 -> 안산시 | C32: 대부북동 10통 방아머리 1855 일원 | D32: 대부북동1855-29 | E32: 대부북동1854-60 | F32: 500 | H32: 8 | I32: 140000
A33: 삼천리 | B33: =B32 -> 안산시 | C33: 대부북동 11통 와곡마을 917-1 일원 | D33: 대부북동1276-3 | E33: 대부북동917-1 | F33: 150 | H33: 2 | I33: 60000
A34: 삼천리 | B34: =B33 -> 안산시 | C34: 대부남동 14통 행낭곡마을 938 일원 | D34: 대부남동924-3 | E34: 대부남동609-28 | F34: 1200 | H34: 10 | I34: 300000
A35: 삼천리 | B35: =B34 -> 안산시 | C35: 대부남동 16통 흥성리마을 1205 일원 | D35: 대부남동1207-7 | E35: 대부남동1195-8 | F35: 500 | H35: 5 | I35: 140000
B36: 소계 | C36: 평택시 | F36: =SUM(F37:F40) -> 1520 | G36: =SUM(G37:G40) -> 1 | H36: =SUM(H37:H40) -> 18 | I36: =SUM(I37:I40) -> 2093308
A37: 삼천리 | B37: =C36 -> 평택시 | C37: 지산동 519-2 일원(지산14통) 4단계 | D37: 지산동 561 | E37: 지산동 541 | F37: 340 | G37: 0 | H37: 0 | I37: 143308
A38: 삼천리 | B38: =B37 -> 평택시 | C38: 진위면 은산리 1291 일원(은산5리)(4단계) | D38: 진목리 949-441 | E38: 은산리 1379 | F38: 400 | G38: 0 | H38: 0 | I38: 1500000
A39: 삼천리 | B39: =B38 -> 평택시 | C39: 포승읍 석정리 1256-34 (석정리)(2단계) | D39: 석정리 산 29 | E39: 석정리 산 271 | F39: 390 | G39: 1 | H39: 8 | I39: 250000
A40: 삼천리 | B40: =B39 -> 평택시 | C40: 죽백, 월곡, 청룡동 일원(6단계) | D40: 죽백동 114-12 | E40: 죽백동 660 | F40: 390 | H40: 10 | I40: 200000
...
