Workbook

Sheet 원가
A1: 공 사 원 가 계 산 서
A3: 공사명: | C3: 경기도야생동물구조관리센터시설개선공사 | E3: 공사기간:
A4: 비 목 | C4: 구 분 | D4: 금 액 | E4: 구 성 비
B5: 재 료 비 | C5: 직 접 재 료 비
C6: 간 접 재 료 비
C7: ( 소 계 )
A8: 순 | B8: 노 무 비 | C8: 직 접 노 무 비
C9: 간 접 노 무 비 | E9: (직접 노무비) * 12.6 %
C10: ( 소 계 )
C11: 산 재 보 험 료 | E11: (노무비) * 3.56 %
C12: 고 용 보 험 료 | E12: (노무비) * 1.01 %
A13: 공 | C13: 건 강 보 험 료 | D13: 1009370 | E13: (직접 노무비) * 3.545 %
B14: 경 | C14: 연 금 보 험 료 | D14: 1281288 | E14: (직접 노무비) * 4.5 %
C15: 안 전 관 리 비(A) | E15: ((재+직노+도급관급/1.1)* 2.93 %
C16: 안 전 관 리 비(B) | D16: 1159078 | E16: ((재료+직노)* 2.93 %)*1.2(A,B중 작은 금액 적용!)
C17: 기 타 경 비 | E17: (재료+노무) * 5.2 %
A18: 사 | C18: 노인장기요양보험 | D18: 130713 | E18: (건강보험료) * 12.95 %
B22: 비
A23: 비
C25: ( 소 계 )
A26: 일 반 관 리 비 | E26: (재료+노무+경비) * 6.0 %
A27: 이 윤 | E27: (노무+경비+일반관리비) * 15.0 %
A28: ( 총 원 가 ) | D28: 52346945
A29: 부 가 가 치 세 | D29: 5234695
A30: ( 합 계 ) | D30: 57581640
A31: 관 급(총 괄) | D31: 9602000
A32: 관 급(도급자설치) | D32: 9602000
A34: 총 공 사 비 | D34: 67183000 | E34: 천원이하절사.

Sheet 총괄표
A1: 총줄수-> | B1: 133 | D1: [ 경기도야생동물구조관리센터시설개선공사 ] | AA1: 연속견적가로형식
A2: 번호 | B2: 공종코드 | C2: … | D2: 공 종 명 | E2: 규격 | F2: 단위 | G2: 수량 | H2: 재료비 | J2: 노무비 | M2: 경비 | P2: 계 | Q2: 비고
H3: 단가 | I3: 금액 | J3: 수량 | K3: 단가 | L3: 금액 | M3: 단가 | N3: 금액 | O3: 단가
B4: 공종줄 | D4: 경기도야생동물구조관리센터시설개선공사
B5: 01 | D5: 1.경기도야생동물구조관리센터시설개선공사 | F5: 식 | G5: 1
C29: Total | D29: ( 합 계 )
B30: 공종줄 | D30: 경기도야생동물구조관리센터시설개선공사
B31: 02 | D31: 2.도급자관급 | F31: 식 | G31: 1
C55: Total | D55: ( 합 계 )
B56: 공종줄 | D56: 1.경기도야생동물구조관리센터시설개선공사
B57: 0101 | D57: 1-1.전기공사 | F57: 식 | G57: 1
B81: 01 | C81: Total | D81: ( 합 계 )
B82: 공종줄 | D82: 1.경기도야생동물구조관리센터시설개선공사::1-1.전기공사
B83: 010101 | D83: 1-1-1.전력간선공사 | F83: 식 | G83: 1
B84: 010102 | D84: 1-1-2.동력설비공사 | F84: 식 | G84: 1
B85: 010103 | D85: 1-1-3.전열설비공사 | F85: 식 | G85: 1
B86: 010104 | D86: 1-1-4.전등설비공사 | F86: 식 | G86: 1
B87: 010105 | D87: 1-1-5.냉난방설비공사 | F87: 식 | G87: 1
B88: 010106 | D88: 1-1-6.CCTV설비공사 | F88: 식 | G88: 1
B89: 010107 | D89: 1-1-7.철거공사 | F89: 식 | G89: 1
B107: 0101 | C107: Total | D107: ( 합 계 )
B108: 공종줄 | D108: 2.도급자관급
B109: 0201 | D109: 2-1.분전반 | F109: 식 | G109: 1
B133: 02 | C133: Total | D133: ( 합 계 )

Sheet 내역서
A1: 총줄수-> | B1: 211 | D1: [ 경기도야생동물구조관리센터시설개선공사 ]
A2: 번호 | B2: 공종코드 | C2: 코드 | D2: 명 칭 | E2: 규 격 | F2: 단위 | G2: 수량 | H2: 재료비 | J2: 노무비 | M2: 경비 | P2: 계 | Q2: 비고
H3: 단가 | I3: 금액 | J3: 수량 | K3: 단가 | L3: 금액 | M3: 단가 | N3: 금액 | O3: 단가
B4: 공종줄 | D4: 1.경기도야생동물구조관리센터시설개선공사::1-1.전기공사::1-1-1.전력간선공사
A5: 5975A337004 | B5: 010101 | C5: E59750337004 | D5: 강제전선관 | E5: 아연도 36 mm | F5: M | G5: 31
A6: 5975A337005 | B6: 010101 | C6: E59750337005 | D6: 강제전선관 | E6: 아연도 42 mm | F6: M | G6: 22
A7: 59759017062 | B7: 010101 | C7: 3913170820176476 | D7: 강재전선관용 부품 | E7: 노말밴드, 아연도 36 mm | F7: 개 | G7: 1
A8: 5975D857021 | B8: 010101 | C8: E59753857021 | D8: 풀박스 | E8: 100×100×100 | F8: 개 | G8: 8
A9: E145A927204 | B9: 010101 | C9: EE1450927204 | D9: 접지용비닐절연전선(F-GV) | E9: 10㎟ | F9: M | G9: 35
A10: E145A927205 | B10: 010101 | C10: EE1450927205 | D10: 접지용비닐절연전선(F-GV) | E10: 16㎟ | F10: M | G10: 28
A11: E145A287524 | B11: 010101 | C11: EE1450287524 | D11: 전력케이블 | E11: 0.6/1kv F-CV 2C×10㎟ | F11: M | G11: 35
A12: E145A287565 | B12: 010101 | C12: EE1450287565 | D12: 전력케이블 | E12: 0.6/1kv F-CV 4C×16㎟ | F12: M | G12: 28
A13: EG40A267006 | B13: 010101 | C13: EEG400267006 | D13: 압착단자 | E13: R형동선 16㎟/1C-접지용 | F13: 개 | G13: 2
A14: E940A26G023 | B14: 010101 | C14: EE940026G023 | D14: 압착단자 | E14: R형동선 나압착 16㎟/4C | F14: 개 | G14: 2
A15: 56950120036 | B15: 010101 | C15: EAA110140000 | D15: 파이프행가 | E15: 36 C | F15: 개소 | G15: 19
A16: 56950120042 | B16: 010101 | C16: EAA110150000 | D16: 파이프행가 | E16: 42 C | F16: 개소 | G16: 14
... A22: 56959000011 | B22: 010101 | C22: E56959000011 | D22: 배선(철거후재사용) | E22: HFIX 2.5sq | F22: M | G22: 60
B29: 합계줄 | D29: ( 합 계 )
B30: 공종줄 | D30: 1.경기도야생동물구조관리센터시설개선공사::1-1.전기공사::1-1-2.동력설비공사
A31: 5975A337001 | B31: 010102 | C31: E59750337001 | D31: 강제전선관 | E31: 아연도 16 mm | F31: M | G31: 15
A32: 5975A337002 | B32: 010102 | C32: E59750337002 | D32: 강제전선관 | E32: 아연도 22 mm | F32: M | G32: 14
A33: 5975A337004 | B33: 010102 | C33: E59750337004 | D33: 강제전선관 | E33: 아연도 36 mm | F33: M | G33: 13
A34: 59753017043 | B34: 010102 | C34: 3913170620174434 | D34: 1종금속제가요전선관 | E34: 커넥터, 16 mm 일반-비방수 | F34: 개 | G34: 14
A35: 56959000001 | B35: 010102 | C35: E56959000001 | D35: 1종금속제가요전선관 | E35: 16 mm 고장력-비방수 | F35: M | G35: 7
A36: 5975D767011 | B36: 010102 | C36: E59753767011 | D36: 아우트렛박스(커버포함) | E36: 8각 54㎜ | F36: 개 | G36: 7
A37: 5975D777102 | B37: 010102 | C37: E59753777102 | D37: 스위치박스 | E37: 1 개용 54 mm | F37: 개 | G37: 4
A38: 5975D857021 | B38: 010102 | C38: E59753857021 | D38: 풀박스 | E38: 100×100×100 | F38: 개 | G38: 2
A39: E145A667003 | B39: 010102 | C39: EE1450667003 | D39: 내열비닐절연전선 | E39: HFIX 4sq (2.25mm)-단선 | F39: M | G39: 155
A40: E145A927203 | B40: 010102 | C40: EE1450927203 | D40: 접지용비닐절연전선(F-GV) | E40: 6㎟ | F40: M | G40: 27
A41: E145A287563 | B41: 010102 | C41: EE1450287563 | D41: 전력케이블 | E41: 0.6/1kv F-CV 4C×6㎟ | F41: M | G41: 27
A42: 5930B517003 | B42: 010102 | C42: E59301517003 | D42: 매입스위치 | E42: 15A, 250V 1로3구 | F42: 개 | G42: 1
... A47: 56950120022 | B47: 010102 | C47: EAA110120000 | D47: 파이프행가 | E47: 22 C | F47: 개소 | G47: 2
B55: 합계줄 | D55: ( 합 계 )
B56: 공종줄 | D56: 1.경기도야생동물구조관리센터시설개선공사::1-1.전기공사::1-1-3.전열설비공사
A57: 5975A337001 | B57: 010103 | C57: E59750337001 | D57: 강제전선관 | E57: 아연도 16 mm | F57: M | G57: 84
A58: 5975D777102 | B58: 010103 | C58: E59753777102 | D58: 스위치박스 | E58: 1 개용 54 mm | F58: 개 | G58: 15
A59: 5975D857021 | B59: 010103 | C59: E59753857021 | D59: 풀박스 | E59: 100×100×100 | F59: 개 | G59: 15
A60: 5975B477027 | B60: 010103 | C60: E59751477027 | D60: 전선덕트 | E60: 알루미늄 70x40 mm | F60: M | G60: 53
A61: 56959000004 | B61: 010103 | C61: E56959000004 | D61: 내열비닐절연전선 | E61: HFIX 2.5sq (1.78mm)-단선 | F61: M | G61: 533
A62: 56959000006 | B62: 010103 | C62: E56959000006 | D62: ELB내장형콘센트 | E62: 15A 250V 2구 | F62: 개 | G62: 15
...

Sheet 합산자재
B1: 81 | C1: [ 경기도야생동물구조관리센터시설개선공사 ] - 합산자재목록
A2: 번호 | B2: … | C2: 코드 | D2: 명 칭 | E2: 규 격 | F2: 단위 | G2: 수량 | H2: 재료비 | I2: 노무비 | J2: 경비 | K2: 지급비 | L2: 계 | M2: 비고
B4: 59750337001 | C4: 3913170610034832 | D4: 강제전선관 | E4: 아연도 16 mm | F4: M | G4: 181.5 | H4: =ROUNDDOWN(#REF!*옵션!$D$11, 0) -> #REF! | L4: =SUM(H4,I4,J4) -> #REF!
B5: 59750337002 | C5: 3913170610034833 | D5: 강제전선관 | E5: 아연도 22 mm | F5: M | G5: 23.1 | H5: =ROUNDDOWN(#REF!*옵션!$D$11, 0) -> #REF! | L5: =SUM(H5,I5,J5) -> #REF!
B6: 59750337004 | C6: 3913170610034835 | D6: 강제전선관 | E6: 아연도 36 mm | F6: M | G6: 62.7 | H6: =ROUNDDOWN(#REF!*옵션!$D$11, 0) -> #REF! | L6: =SUM(H6,I6,J6) -> #REF!
B7: 59750337005 | C7: 3913170610034836 | D7: 강제전선관 | E7: 아연도 42 mm | F7: M | G7: 24.2 | H7: =ROUNDDOWN(#REF!*옵션!$D$11, 0) -> #REF! | L7: =SUM(H7,I7,J7) -> #REF!
B8: 59753017043 | C8: 3913170620174434 | D8: 1종금속제가요전선관 | E8: 커넥터, 16 mm 일반-비방수 | F8: 개 | G8: 56 | H8: =ROUNDDOWN(#REF!*옵션!$D$11, 0) -> #REF! | L8: =SUM(H8,I8,J8) -> #REF!
B9: 59753017066 | C9: 3913170620174449 | D9: 1종금속제가요전선관 | E9: 커넥터, 36 mm 일반-방수 | F9: 개 | G9: 2 | H9: =ROUNDDOWN(#REF!*옵션!$D$11, 0) -> #REF! | L9: =SUM(H9,I9,J9) -> #REF!
B10: MM496797011 | C10: 3913170620174478 | D10: 1종금속제가요전선관 | E10: 16 mm 고장력-비방수 | F10: M | G10: 51.7 | H10: =ROUNDDOWN(#REF!*옵션!$D$11, 0) -> #REF! | L10: =SUM(H10,I10,J10) -> #REF!
B11: MM496797032 | C11: 3913170620174473 | D11: 1종금속제가요전선관 | E11: 36 mm 고장력-방수 | F11: M | G11: 2.2 | H11: =ROUNDDOWN(#REF!*옵션!$D$11, 0) -> #REF! | L11: =SUM(H11,I11,J11) -> #REF!
B12: 59759017062 | C12: 3913170820176476 | D12: 강재전선관용 부품 | E12: 노말밴드, 아연도 36 mm | F12: 개 | G12: 3 | H12: =ROUNDDOWN(#REF!*옵션!$D$11, 0) -> #REF! | L12: =SUM(H12,I12,J12) -> #REF!
B13: 59753767011 | C13: 3912130810035750 | D13: 아우트렛박스 | E13: 8각 54㎜ | F13: 개 | G13: 23 | H13: =ROUNDDOWN(#REF!*옵션!$D$11, 0) -> #REF! | L13: =SUM(H13,I13,J13) -> #REF!
B14: 59753767041 | C14: 3912130810035753 | D14: 아우트렛박스 | E14: 중형4각 54㎜ | F14: 개 | G14: 6 | H14: =ROUNDDOWN(#REF!*옵션!$D$11, 0) -> #REF! | L14: =SUM(H14,I14,J14) -> #REF!
B15: 59753777102 | C15: 3912130610035778 | D15: 스위치박스 | E15: 1 개용 54 mm | F15: 개 | G15: 27 | H15: =ROUNDDOWN(#REF!*옵션!$D$11, 0) -> #REF! | L15: =SUM(H15,I15,J15) -> #REF!
... B48: 52100327001 | C48: 3116181120136195 | D48: 스프링와샤 | E48: D10 | F48: EA | G48: 310 | H48: =ROUNDDOWN(#REF!*옵션!$D$11, 0) -> #REF! | L48: =SUM(H48,I48,J48) -> #REF!
B49: MM729436040 | C49: 9998887770001049 | D49: 고동 | F49: KG | G49: 6.88 | H49: =ROUNDDOWN(#REF!*옵션!$D$11, 0) -> #REF! | L49: =SUM(H49,I49,J49) -> #REF!
B50: MM729436041 | C50: 9998887770001050 | D50: 고철 | F50: KG | G50: 66 | H50: =ROUNDDOWN(#REF!*옵션!$D$11, 0) -> #REF! | L50: =SUM(H50,I50,J50) -> #REF!
B51: MMA98180664 | C51: InMastDBNonCode | D51: 분전반 | E51: L-M | F51: 면 | G51: 1 | H51: =ROUNDDOWN(#REF!*옵션!$D$11, 0) -> #REF! | L51: =SUM(H51,I51,J51) -> #REF! | M51: MAS
B52: MMA98180665 | C52: InMastDBNonCode | D52: 분전반 | E52: L-B | F52: 면 | G52: 1 | H52: =ROUNDDOWN(#REF!*옵션!$D$11, 0) -> #REF! | L52: =SUM(H52,I52,J52) -> #REF! | M52: MAS
B53: MMT98165617 | C53: InMastDBNonCode | D53: 조명기구(철거후재설치) | E53: 평판 LED 50W | F53: EA | G53: 6 | H53: =ROUNDDOWN(#REF!*옵션!$D$11, 0) -> #REF! | L53: =SUM(H53,I53,J53) -> #REF!
B54: MMT98165618 | C54: InMastDBNonCode | D54: 조명기구(철거후재설치) | E54: 다운라이트 LED 10W | F54: EA | G54: 13 | H54: =ROUNDDOWN(#REF!*옵션!$D$11, 0) -> #REF! | L54: =SUM(H54,I54,J54) -> #REF!
B55: MMA98180686 | C55: InMastDBNonCode | D55: 배선(철거후재사용) | E55: F-CV 10/4C | F55: M | G55: 4 | H55: =ROUNDDOWN(#REF!*옵션!$D$11, 0) -> #REF! | L55: =SUM(H55,I55,J55) -> #REF!
B56: MMA98180703 | C56: InMastDBNonCode | D56: 배선(철거후재사용) | E56: F-GV 10 | F56: M | G56: 4 | H56: =ROUNDDOWN(#REF!*옵션!$D$11, 0) -> #REF! | L56: =SUM(H56,I56,J56) -> #REF!
B57: MMA98180687 | C57: InMastDBNonCode | D57: 배선(철거후재사용) | E57: HFIX 2.5sq | F57: M | G57: 60 | H57: =ROUNDDOWN(#REF!*옵션!$D$11, 0) -> #REF! | L57: =SUM(H57,I57,J57) -> #REF!
B58: MMA98180688 | C58: InMastDBNonCode | D58: 배선(철거) | E58: F-CV 10/4C | F58: M | G58: 16 | H58: =ROUNDDOWN(#REF!*옵션!$D$11, 0) -> #REF! | L58: =SUM(H58,I58,J58) -> #REF!
B59: MMA98180689 | C59: InMastDBNonCode | D59: 배선(철거) | E59: F-GV 10 | F59: M | G59: 16 | H59: =ROUNDDOWN(#REF!*옵션!$D$11, 0) -> #REF! | L59: =SUM(H59,I59,J59) -> #REF!
B60: MMA98180704 | C60: InMastDBNonCode | D60: 배관(철거) | E60: ST 36C | F60: M | G60: 16 | H60: =ROUNDDOWN(#REF!*옵션!$D$11, 0) -> #REF! | L60: =SUM(H60,I60,J60) -> #REF!
B61: MMA98180705 | C61: InMastDBNonCode | D61: 분전반(철거) | F61: 면 | G61: 2 | H61: =ROUNDDOWN(#REF!*옵션!$D$11, 0) -> #REF! | L61: =SUM(H61,I61,J61) -> #REF!
B62: MM998180743 | C62: InMastDBNonCode | D62: CCTV(철거후재설치) | F62: EA | G62: 9 | H62: =ROUNDDOWN(#REF!*옵션!$D$11, 0) -> #REF! | L62: =SUM(H62,I62,J62) -> #REF!
B63: MM998331413 | C63: 391115ZZ701Z0001 | D63: 조달 수수료(11) | E63: 0.54% | F63: 식 | G63: 1 | H63: =ROUNDDOWN(#REF!*옵션!$D$11, 0) -> #REF! | L63: =SUM(H63,I63,J63) -> #REF!
B64: 56900017016 | C64: L001010101000075 | D64: 노 무 비 | E64: 내선전공 | F64: 인 | G64: 91.7265 | I64: =ROUNDDOWN(#REF!, 0) -> #REF! | L64: =SUM(H64,I64,J64) -> #REF!
B65: 56900017076 | C65: L001010101000078 | D65: 노 무 비 | E65: 저압케이블전공 | F65: 인 | G65: 5.2666 | I65: =ROUNDDOWN(#REF!, 0) -> #REF! | L65: =SUM(H65,I65,J65) -> #REF!
B66: 56900017116 | C66: L001010101000089 | D66: 노 무 비 | E66: 통신케이블공 | F66: 인 | G66: 0.27 | I66: =ROUNDDOWN(#REF!, 0) -> #REF! | L66: =SUM(H66,I66,J66) -> #REF!
B67: 56900017114 | C67: L001010101000087 | D67: 노 무 비 | E67: 통신설비공 | F67: 인 | G67: 3.888 | I67: =ROUNDDOWN(#REF!, 0) -> #REF! | L67: =SUM(H67,I67,J67) -> #REF!
B68: 56900017118 | C68: L001010101000003 | D68: 노 무 비 | E68: 특별인부 | F68: 인 | G68: 4.018 | I68: =ROUNDDOWN(#REF!, 0) -> #REF! | L68: =SUM(H68,I68,J68) -> #REF!

Sheet 옵션
B1: 재료비 | C1: 노무비 | D1: 경비 | F1: 계
A2: 총 급 액 | B2: =총괄표!I29 -> 0 | C2: =총괄표!L29 -> 0 | D2: =총괄표!N29 -> 0 | F2: =SUM(B2,C2,D2) -> 0
A3: 도급자관급 | B3: =총괄표!I133 -> 0 | C3: =총괄표!L133 -> 0 | D3: =총괄표!N133 -> 0 | F3: =SUM(B3,C3,D3) -> 0
F4: =SUM(B4,C4,D4) -> 0
F5: =SUM(B5,C5,D5) -> 0
F6: =SUM(B6,C6,D6) -> 0
F7: =SUM(B7,C7,D7) -> 0
F8: =SUM(B8,C8,D8) -> 0
B10: 적용율(%) | C10: 끝자리 | D10: 적용율(%)/100 | E10: 일위대가소수
A11: 전체자재 적용율(%)(공종/일위대가) | B11: 100 | C11: 1 | D11: =$B$11/100 -> 1
A12: 전체노임 적용율(%)(공종) | B12: 100 | C12: 1 | D12: =$B$12/100 -> 1 | E12: 2
A13: 전체노임 적용율(%)(일위대가) | B13: 100 | C13: 1 | D13: =$B$13/100 -> 1 | E13: 5
A20: *(그룹별 자재 단가 추가 할증)* | B20: 적용율(%) | D20: 적용율(%)/100
A21: Cable(CAB) 할증(%) | B21: =B11 -> 100 | D21: =$B$21/100 -> 1
A22: Wire (WIR) 할증(%) | B22: =B11 -> 100 | D22: =$B$22/100 -> 1
A23: Pipe (PIP) 할증(%) | B23: =B11 -> 100 | D23: =$B$23/100 -> 1
A24: 제 4그룹 할증(%) | B24: =B11 -> 100 | D24: =$B$24/100 -> 1
A25: 제 5그룹 할증(%) | B25: =B11 -> 100 | D25: =$B$25/100 -> 1
A30: *(그룹별 노임 추가 할증)* | B30: 적용율(%) | C30: 자동부속재(전기) | D30: 자동부속재(통신)
A31: 배관부속재(%) | B31: 15 | C31: 15 | D31: 20
A32: CD관부속재(%) | B32: 40 | C32: 40 | D32: 40
A33: 소모잡자재(%) | B33: 2 | H33: 본 파일은 이지테크에서 2번 옵션으로 만들었습니다.
A34: 방폭할증(%)
A35: 고소할증(%) | B35: 2
A36: 공구손료(%) | B36: 3
A40: *(공종별 노임 적용율(%))* | B40: 적용율(%) | C40: 소수자릿수
A41: 1-1-1.전력간선공사 | B41: 100 | C41: 5
A42: 1-1-2.동력설비공사 | B42: 100 | C42: 5
A43: 1-1-3.전열설비공사 | B43: 100 | C43: 5
A44: 1-1-4.전등설비공사 | B44: 100 | C44: 5
A45: 1-1-5.냉난방설비공사 | B45: 100 | C45: 5
A46: 1-1-6.CCTV설비공사 | B46: 100 | C46: 5
A47: 1-1-7.철거공사 | B47: 100 | C47: 5
A48: 2-1.분전반 | B48: 100 | C48: 0
